* [dpdk-test-report] |SUCCESS| [GIT MASTER] b98447077b0609750c10b84b7b2e7be0c8504fad
@ 2020-07-01 22:24 dpdklab
0 siblings, 0 replies; 4+ messages in thread
From: dpdklab @ 2020-07-01 22:24 UTC (permalink / raw)
To: Test Report; +Cc: dpdk-test-reports
[-- Attachment #1: Type: text/plain, Size: 1690 bytes --]
_Performance Testing PASS_
Branch: dpdk
b98447077b0609750c10b84b7b2e7be0c8504fad --> performance testing pass
Test environment and result as below:
Ubuntu 18.04
Kernel: 4.15.0-generic
Compiler: gcc 7.4
NIC: Intel Corporation Ethernet Converged Network Adapter XL710-QDA2 40000 Mbps
Target: x86_64-native-linuxapp-gcc
Fail/Total: 0/2
Detail performance results:
+------------+---------+-------------------------------------+
| frame_size | txd/rxd | throughput difference from expected |
+============+=========+=====================================+
| 64 | 512 | 4.792 |
+------------+---------+-------------------------------------+
| 64 | 2048 | 3.013 |
+------------+---------+-------------------------------------+
Ubuntu 18.04
Kernel: 4.15.0-generic
Compiler: gcc 7.4
NIC: Intel Corporation Ethernet Converged Network Adapter 82599ES 10000 Mbps
Target: x86_64-native-linuxapp-gcc
Fail/Total: 0/2
Detail performance results:
+------------+---------+-------------------------------------+
| frame_size | txd/rxd | throughput difference from expected |
+============+=========+=====================================+
| 64 | 512 | 2.551 |
+------------+---------+-------------------------------------+
| 64 | 2048 | 0.827 |
+------------+---------+-------------------------------------+
To view detailed results, visit:
https://lab.dpdk.org/results/dashboard/tarballs/10211/
UNH-IOL DPDK Community Lab
To manage your email subscriptions, visit:
https://lab.dpdk.org/results/dashboard/preferences/subscriptions/
^ permalink raw reply [flat|nested] 4+ messages in thread
* [dpdk-test-report] |SUCCESS| [GIT MASTER] b98447077b0609750c10b84b7b2e7be0c8504fad
@ 2020-07-02 17:28 dpdklab
0 siblings, 0 replies; 4+ messages in thread
From: dpdklab @ 2020-07-02 17:28 UTC (permalink / raw)
To: Test Report; +Cc: dpdk-test-reports
[-- Attachment #1: Type: text/plain, Size: 2695 bytes --]
_Testing PASS_
Branch: dpdk
b98447077b0609750c10b84b7b2e7be0c8504fad --> testing pass
Test environment and result as below:
+---------------------+----------------+--------------------+-------------------+------------------+--------------+
| Environment | dpdk_unit_test | dpdk_meson_compile | dpdk_compile_spdk | dpdk_compile_ovs | dpdk_compile |
+=====================+================+====================+===================+==================+==============+
| Ubuntu 18.04 | PASS | PASS | PASS | PASS | PASS |
+---------------------+----------------+--------------------+-------------------+------------------+--------------+
| Windows Server 2019 | SKIPPED | PASS | SKIPPED | SKIPPED | SKIPPED |
+---------------------+----------------+--------------------+-------------------+------------------+--------------+
| Fedora 31 | SKIPPED | PASS | PASS | PASS | PASS |
+---------------------+----------------+--------------------+-------------------+------------------+--------------+
| CentOS 8 | SKIPPED | PASS | PASS | PASS | PASS |
+---------------------+----------------+--------------------+-------------------+------------------+--------------+
| openSUSE Leap 15 | SKIPPED | PASS | PASS | PASS | PASS |
+---------------------+----------------+--------------------+-------------------+------------------+--------------+
| Arch Linux | SKIPPED | PASS | SKIPPED | PASS | PASS |
+---------------------+----------------+--------------------+-------------------+------------------+--------------+
| FreeBSD 11.2 | SKIPPED | PASS | PASS | SKIPPED | PASS |
+---------------------+----------------+--------------------+-------------------+------------------+--------------+
Ubuntu 18.04
Kernel: 4.15.0-generic
Compiler: gcc 7.4
Windows Server 2019
Kernel: 10.0
Compiler: clang 9.0
Fedora 31
Kernel: 5.3.16
Compiler: gcc 9.2.1
CentOS 8
Kernel: 4.18.0.el8_0
Compiler: gcc 8.3.1
openSUSE Leap 15
Kernel: 4.12.14
Compiler: gcc 7.4.1
Arch Linux
Kernel: latest
Compiler: gcc latest
FreeBSD 11.2
Kernel: 11.2
Compiler: gcc 8.3
To view detailed results, visit:
https://lab.dpdk.org/results/dashboard/tarballs/10211/
UNH-IOL DPDK Community Lab
To manage your email subscriptions, visit:
https://lab.dpdk.org/results/dashboard/preferences/subscriptions/
^ permalink raw reply [flat|nested] 4+ messages in thread
* [dpdk-test-report] |SUCCESS| [GIT MASTER] b98447077b0609750c10b84b7b2e7be0c8504fad
@ 2020-07-02 7:18 dpdklab
0 siblings, 0 replies; 4+ messages in thread
From: dpdklab @ 2020-07-02 7:18 UTC (permalink / raw)
To: Ali Alnubani, Test Report; +Cc: dpdk-test-reports
[-- Attachment #1: Type: text/plain, Size: 3737 bytes --]
_Performance Testing PASS_
Branch: dpdk
b98447077b0609750c10b84b7b2e7be0c8504fad --> performance testing pass
Test environment and result as below:
Ubuntu 18.04
Kernel: 4.15.0-generic
Compiler: gcc 7.4
NIC: Mellanox ConnectX-5 100000 Mbps
Target: x86_64-native-linuxapp-gcc
Fail/Total: 0/6
Detail performance results:
+------------+---------+-------------------------------------+
| frame_size | txd/rxd | throughput difference from expected |
+============+=========+=====================================+
| 64 | 256 | 0.424 |
+------------+---------+-------------------------------------+
| 128 | 256 | 0.222 |
+------------+---------+-------------------------------------+
| 256 | 256 | 0.073 |
+------------+---------+-------------------------------------+
| 512 | 256 | -0.127 |
+------------+---------+-------------------------------------+
| 1024 | 256 | 0.077 |
+------------+---------+-------------------------------------+
| 1518 | 256 | -0.019 |
+------------+---------+-------------------------------------+
Ubuntu 18.04
Kernel: 4.15.0-generic
Compiler: gcc 7.4
NIC: Mellanox ConnectX-4 Lx 25000 Mbps
Target: x86_64-native-linuxapp-gcc
Fail/Total: 0/6
Detail performance results:
+------------+---------+-------------------------------------+
| frame_size | txd/rxd | throughput difference from expected |
+============+=========+=====================================+
| 64 | 256 | -0.274 |
+------------+---------+-------------------------------------+
| 128 | 256 | 0.105 |
+------------+---------+-------------------------------------+
| 256 | 256 | 0.029 |
+------------+---------+-------------------------------------+
| 512 | 256 | -0.011 |
+------------+---------+-------------------------------------+
| 1024 | 256 | 0.016 |
+------------+---------+-------------------------------------+
| 1518 | 256 | -0.006 |
+------------+---------+-------------------------------------+
Ubuntu 18.04
Kernel: 4.15.0-generic
Compiler: gcc 7.4
NIC: Mellanox ConnectX-4 Lx 40000 Mbps
Target: x86_64-native-linuxapp-gcc
Fail/Total: 0/6
Detail performance results:
+------------+---------+-------------------------------------+
| frame_size | txd/rxd | throughput difference from expected |
+============+=========+=====================================+
| 64 | 256 | -0.739 |
+------------+---------+-------------------------------------+
| 128 | 256 | 0.201 |
+------------+---------+-------------------------------------+
| 256 | 256 | -0.055 |
+------------+---------+-------------------------------------+
| 512 | 256 | -0.003 |
+------------+---------+-------------------------------------+
| 1024 | 256 | -0.001 |
+------------+---------+-------------------------------------+
| 1518 | 256 | 0.007 |
+------------+---------+-------------------------------------+
To view detailed results, visit:
https://lab.dpdk.org/results/dashboard/tarballs/10211/
UNH-IOL DPDK Community Lab
To manage your email subscriptions, visit:
https://lab.dpdk.org/results/dashboard/preferences/subscriptions/
^ permalink raw reply [flat|nested] 4+ messages in thread
* [dpdk-test-report] |SUCCESS| [GIT MASTER] b98447077b0609750c10b84b7b2e7be0c8504fad
@ 2020-07-01 21:57 dpdklab
0 siblings, 0 replies; 4+ messages in thread
From: dpdklab @ 2020-07-01 21:57 UTC (permalink / raw)
To: Ajit Khaparde, Test Report; +Cc: dpdk-test-reports
[-- Attachment #1: Type: text/plain, Size: 1038 bytes --]
_Performance Testing PASS_
Branch: dpdk
b98447077b0609750c10b84b7b2e7be0c8504fad --> performance testing pass
Test environment and result as below:
Ubuntu 18.04
Kernel: 4.15.0-65-generic
Compiler: gcc gcc (Ubuntu 7.4.0-1ubuntu1~18.04.1) 7.4.0
NIC: Broadcom Inc. brcm_57414 25000 Mbps
Target: x86_64-native-linuxapp-gcc
Fail/Total: 0/2
Detail performance results:
+------------+---------+-------------------------------------+
| frame_size | txd/rxd | throughput difference from expected |
+============+=========+=====================================+
| 64 | 512 | 0 |
+------------+---------+-------------------------------------+
| 64 | 2048 | 0 |
+------------+---------+-------------------------------------+
To view detailed results, visit:
https://lab.dpdk.org/results/dashboard/tarballs/10211/
UNH-IOL DPDK Community Lab
To manage your email subscriptions, visit:
https://lab.dpdk.org/results/dashboard/preferences/subscriptions/
^ permalink raw reply [flat|nested] 4+ messages in thread
end of thread, other threads:[~2020-07-02 17:28 UTC | newest]
Thread overview: 4+ messages (download: mbox.gz / follow: Atom feed)
-- links below jump to the message on this page --
2020-07-01 22:24 [dpdk-test-report] |SUCCESS| [GIT MASTER] b98447077b0609750c10b84b7b2e7be0c8504fad dpdklab
-- strict thread matches above, loose matches on Subject: below --
2020-07-02 17:28 dpdklab
2020-07-02 7:18 dpdklab
2020-07-01 21:57 dpdklab
This is a public inbox, see mirroring instructions
for how to clone and mirror all data and code used for this inbox;
as well as URLs for NNTP newsgroup(s).