From: dpdklab@iol.unh.edu
To: Test Report <test-report@dpdk.org>
Cc: dpdk-test-reports@iol.unh.edu
Subject: [dpdk-test-report] |SUCCESS| pw72788 [PATCH] [v2] rte_flow: add eCPRI key fields to flow API
Date: Thu,  2 Jul 2020 16:19:02 -0400 (EDT)	[thread overview]
Message-ID: <20200702201902.B5C766D437@noxus.dpdklab.iol.unh.edu> (raw)
[-- Attachment #1: Type: text/plain, Size: 2901 bytes --]
Test-Label: iol-testing
Test-Status: SUCCESS
http://dpdk.org/patch/72788
_Testing PASS_
Submitter: Bing Zhao <bingz@mellanox.com>
Date: Thursday, July 02 2020 06:46:01 
DPDK git baseline: Repo:dpdk
  Branch: master
  CommitID:b98447077b0609750c10b84b7b2e7be0c8504fad
72788 --> testing pass
Test environment and result as below:
+---------------------+--------------------+-------------------+--------------+----------------+------------------+
|     Environment     | dpdk_meson_compile | dpdk_compile_spdk | dpdk_compile | dpdk_unit_test | dpdk_compile_ovs |
+=====================+====================+===================+==============+================+==================+
| Windows Server 2019 | PASS               | SKIPPED           | SKIPPED      | SKIPPED        | SKIPPED          |
+---------------------+--------------------+-------------------+--------------+----------------+------------------+
| openSUSE Leap 15    | PASS               | PASS              | PASS         | SKIPPED        | PASS             |
+---------------------+--------------------+-------------------+--------------+----------------+------------------+
| Fedora 31           | PASS               | PASS              | PASS         | SKIPPED        | PASS             |
+---------------------+--------------------+-------------------+--------------+----------------+------------------+
| CentOS 8            | PASS               | PASS              | PASS         | SKIPPED        | PASS             |
+---------------------+--------------------+-------------------+--------------+----------------+------------------+
| Ubuntu 18.04        | PASS               | PASS              | PASS         | PASS           | PASS             |
+---------------------+--------------------+-------------------+--------------+----------------+------------------+
| Arch Linux          | PASS               | SKIPPED           | PASS         | SKIPPED        | PASS             |
+---------------------+--------------------+-------------------+--------------+----------------+------------------+
| FreeBSD 11.2        | PASS               | PASS              | PASS         | SKIPPED        | SKIPPED          |
+---------------------+--------------------+-------------------+--------------+----------------+------------------+
Windows Server 2019
	Kernel: 10.0
	Compiler: clang 9.0
openSUSE Leap 15
	Kernel: 4.12.14
	Compiler: gcc 7.4.1
Fedora 31
	Kernel: 5.3.16
	Compiler: gcc 9.2.1
CentOS 8
	Kernel: 4.18.0.el8_0
	Compiler: gcc 8.3.1
Ubuntu 18.04
	Kernel: 4.15.0-generic
	Compiler: gcc 7.4
Arch Linux
	Kernel: latest
	Compiler: gcc latest
FreeBSD 11.2
	Kernel: 11.2
	Compiler: gcc 8.3
To view detailed results, visit:
https://lab.dpdk.org/results/dashboard/patchsets/11782/
UNH-IOL DPDK Community Lab
To manage your email subscriptions, visit: 
https://lab.dpdk.org/results/dashboard/preferences/subscriptions/
next             reply	other threads:[~2020-07-02 20:19 UTC|newest]
Thread overview: 5+ messages / expand[flat|nested]  mbox.gz  Atom feed  top
2020-07-02 20:19 dpdklab [this message]
  -- strict thread matches above, loose matches on Subject: below --
2020-07-02  9:21 dpdklab
2020-07-02  8:28 dpdklab
2020-07-02  7:59 dpdklab
     [not found] <1593672361-285288-1-git-send-email-bingz@mellanox.com>
2020-07-02  6:46 ` [dpdk-test-report] |SUCCESS| pw72788 [PATCH v2] " checkpatch
Reply instructions:
You may reply publicly to this message via plain-text email
using any one of the following methods:
* Save the following mbox file, import it into your mail client,
  and reply-to-all from there: mbox
  Avoid top-posting and favor interleaved quoting:
  https://en.wikipedia.org/wiki/Posting_style#Interleaved_style
* Reply using the --to, --cc, and --in-reply-to
  switches of git-send-email(1):
  git send-email \
    --in-reply-to=20200702201902.B5C766D437@noxus.dpdklab.iol.unh.edu \
    --to=dpdklab@iol.unh.edu \
    --cc=dpdk-test-reports@iol.unh.edu \
    --cc=test-report@dpdk.org \
    /path/to/YOUR_REPLY
  https://kernel.org/pub/software/scm/git/docs/git-send-email.html
* If your mail client supports setting the In-Reply-To header
  via mailto: links, try the mailto: link
  Be sure your reply has a Subject: header at the top and a blank line
  before the message body.
This is a public inbox, see mirroring instructions
for how to clone and mirror all data and code used for this inbox;
as well as URLs for NNTP newsgroup(s).