* [dpdk-test-report] |SUCCESS| pw72947 [PATCH] [v1] net/ice: fix build with 16 byte Rx descriptor in DCF
@ 2020-07-03 11:09 dpdklab
0 siblings, 0 replies; 5+ messages in thread
From: dpdklab @ 2020-07-03 11:09 UTC (permalink / raw)
To: Test Report; +Cc: dpdk-test-reports
[-- Attachment #1: Type: text/plain, Size: 1901 bytes --]
Test-Label: iol-intel-Performance
Test-Status: SUCCESS
http://dpdk.org/patch/72947
_Performance Testing PASS_
Submitter: Ting Xu <ting.xu@intel.com>
Date: Friday, July 03 2020 08:57:10
DPDK git baseline: Repo:dpdk
Branch: master
CommitID:b98447077b0609750c10b84b7b2e7be0c8504fad
72947 --> performance testing pass
Test environment and result as below:
Ubuntu 18.04
Kernel: 4.15.0-generic
Compiler: gcc 7.4
NIC: Intel Corporation Ethernet Converged Network Adapter XL710-QDA2 40000 Mbps
Target: x86_64-native-linuxapp-gcc
Fail/Total: 0/2
Detail performance results:
+------------+---------+-------------------------------------+
| frame_size | txd/rxd | throughput difference from expected |
+============+=========+=====================================+
| 64 | 512 | 4.962 |
+------------+---------+-------------------------------------+
| 64 | 2048 | 3.043 |
+------------+---------+-------------------------------------+
Ubuntu 18.04
Kernel: 4.15.0-generic
Compiler: gcc 7.4
NIC: Intel Corporation Ethernet Converged Network Adapter 82599ES 10000 Mbps
Target: x86_64-native-linuxapp-gcc
Fail/Total: 0/2
Detail performance results:
+------------+---------+-------------------------------------+
| frame_size | txd/rxd | throughput difference from expected |
+============+=========+=====================================+
| 64 | 512 | 2.812 |
+------------+---------+-------------------------------------+
| 64 | 2048 | 1.002 |
+------------+---------+-------------------------------------+
To view detailed results, visit:
https://lab.dpdk.org/results/dashboard/patchsets/11812/
UNH-IOL DPDK Community Lab
To manage your email subscriptions, visit:
https://lab.dpdk.org/results/dashboard/preferences/subscriptions/
^ permalink raw reply [flat|nested] 5+ messages in thread
* [dpdk-test-report] |SUCCESS| pw72947 [PATCH] [v1] net/ice: fix build with 16 byte Rx descriptor in DCF
@ 2020-07-05 10:00 dpdklab
0 siblings, 0 replies; 5+ messages in thread
From: dpdklab @ 2020-07-05 10:00 UTC (permalink / raw)
To: Test Report; +Cc: dpdk-test-reports
[-- Attachment #1: Type: text/plain, Size: 2896 bytes --]
Test-Label: iol-testing
Test-Status: SUCCESS
http://dpdk.org/patch/72947
_Testing PASS_
Submitter: Ting Xu <ting.xu@intel.com>
Date: Friday, July 03 2020 08:57:10
DPDK git baseline: Repo:dpdk
Branch: master
CommitID:b98447077b0609750c10b84b7b2e7be0c8504fad
72947 --> testing pass
Test environment and result as below:
+---------------------+--------------------+-------------------+----------------+------------------+--------------+
| Environment | dpdk_meson_compile | dpdk_compile_spdk | dpdk_unit_test | dpdk_compile_ovs | dpdk_compile |
+=====================+====================+===================+================+==================+==============+
| Windows Server 2019 | PASS | SKIPPED | SKIPPED | SKIPPED | SKIPPED |
+---------------------+--------------------+-------------------+----------------+------------------+--------------+
| Fedora 31 | PASS | PASS | SKIPPED | PASS | PASS |
+---------------------+--------------------+-------------------+----------------+------------------+--------------+
| Ubuntu 18.04 | PASS | PASS | PASS | PASS | PASS |
+---------------------+--------------------+-------------------+----------------+------------------+--------------+
| CentOS 8 | PASS | PASS | SKIPPED | PASS | PASS |
+---------------------+--------------------+-------------------+----------------+------------------+--------------+
| openSUSE Leap 15 | PASS | PASS | SKIPPED | PASS | PASS |
+---------------------+--------------------+-------------------+----------------+------------------+--------------+
| Arch Linux | PASS | SKIPPED | SKIPPED | PASS | PASS |
+---------------------+--------------------+-------------------+----------------+------------------+--------------+
| FreeBSD 11.2 | PASS | PASS | SKIPPED | SKIPPED | PASS |
+---------------------+--------------------+-------------------+----------------+------------------+--------------+
Windows Server 2019
Kernel: 10.0
Compiler: clang 9.0
Fedora 31
Kernel: 5.3.16
Compiler: gcc 9.2.1
Ubuntu 18.04
Kernel: 4.15.0-generic
Compiler: gcc 7.4
CentOS 8
Kernel: 4.18.0.el8_0
Compiler: gcc 8.3.1
openSUSE Leap 15
Kernel: 4.12.14
Compiler: gcc 7.4.1
Arch Linux
Kernel: latest
Compiler: gcc latest
FreeBSD 11.2
Kernel: 11.2
Compiler: gcc 8.3
To view detailed results, visit:
https://lab.dpdk.org/results/dashboard/patchsets/11812/
UNH-IOL DPDK Community Lab
To manage your email subscriptions, visit:
https://lab.dpdk.org/results/dashboard/preferences/subscriptions/
^ permalink raw reply [flat|nested] 5+ messages in thread
* [dpdk-test-report] |SUCCESS| pw72947 [PATCH] [v1] net/ice: fix build with 16 byte Rx descriptor in DCF
@ 2020-07-04 2:34 dpdklab
0 siblings, 0 replies; 5+ messages in thread
From: dpdklab @ 2020-07-04 2:34 UTC (permalink / raw)
To: Ali Alnubani, Test Report; +Cc: dpdk-test-reports
[-- Attachment #1: Type: text/plain, Size: 3951 bytes --]
Test-Label: iol-mellanox-Performance
Test-Status: SUCCESS
http://dpdk.org/patch/72947
_Performance Testing PASS_
Submitter: Ting Xu <ting.xu@intel.com>
Date: Friday, July 03 2020 08:57:10
DPDK git baseline: Repo:dpdk
Branch: master
CommitID:b98447077b0609750c10b84b7b2e7be0c8504fad
72947 --> performance testing pass
Test environment and result as below:
Ubuntu 18.04
Kernel: 4.15.0-generic
Compiler: gcc 7.4
NIC: Mellanox ConnectX-5 100000 Mbps
Target: x86_64-native-linuxapp-gcc
Fail/Total: 0/6
Detail performance results:
+------------+---------+-------------------------------------+
| frame_size | txd/rxd | throughput difference from expected |
+============+=========+=====================================+
| 64 | 256 | 0.323 |
+------------+---------+-------------------------------------+
| 128 | 256 | -0.064 |
+------------+---------+-------------------------------------+
| 256 | 256 | 0.049 |
+------------+---------+-------------------------------------+
| 512 | 256 | -0.227 |
+------------+---------+-------------------------------------+
| 1024 | 256 | -0.092 |
+------------+---------+-------------------------------------+
| 1518 | 256 | 0.022 |
+------------+---------+-------------------------------------+
Ubuntu 18.04
Kernel: 4.15.0-generic
Compiler: gcc 7.4
NIC: Mellanox ConnectX-4 Lx 25000 Mbps
Target: x86_64-native-linuxapp-gcc
Fail/Total: 0/6
Detail performance results:
+------------+---------+-------------------------------------+
| frame_size | txd/rxd | throughput difference from expected |
+============+=========+=====================================+
| 64 | 256 | -0.190 |
+------------+---------+-------------------------------------+
| 128 | 256 | -0.034 |
+------------+---------+-------------------------------------+
| 256 | 256 | -0.101 |
+------------+---------+-------------------------------------+
| 512 | 256 | 0.004 |
+------------+---------+-------------------------------------+
| 1024 | 256 | -0.017 |
+------------+---------+-------------------------------------+
| 1518 | 256 | -0.002 |
+------------+---------+-------------------------------------+
Ubuntu 18.04
Kernel: 4.15.0-generic
Compiler: gcc 7.4
NIC: Mellanox ConnectX-4 Lx 40000 Mbps
Target: x86_64-native-linuxapp-gcc
Fail/Total: 0/6
Detail performance results:
+------------+---------+-------------------------------------+
| frame_size | txd/rxd | throughput difference from expected |
+============+=========+=====================================+
| 64 | 256 | 0.182 |
+------------+---------+-------------------------------------+
| 128 | 256 | 0.441 |
+------------+---------+-------------------------------------+
| 256 | 256 | 0.007 |
+------------+---------+-------------------------------------+
| 512 | 256 | 0.010 |
+------------+---------+-------------------------------------+
| 1024 | 256 | 0.004 |
+------------+---------+-------------------------------------+
| 1518 | 256 | -0.003 |
+------------+---------+-------------------------------------+
To view detailed results, visit:
https://lab.dpdk.org/results/dashboard/patchsets/11812/
UNH-IOL DPDK Community Lab
To manage your email subscriptions, visit:
https://lab.dpdk.org/results/dashboard/preferences/subscriptions/
^ permalink raw reply [flat|nested] 5+ messages in thread
* [dpdk-test-report] |SUCCESS| pw72947 [PATCH] [v1] net/ice: fix build with 16 byte Rx descriptor in DCF
@ 2020-07-03 9:58 dpdklab
0 siblings, 0 replies; 5+ messages in thread
From: dpdklab @ 2020-07-03 9:58 UTC (permalink / raw)
To: Ajit Khaparde, Test Report; +Cc: dpdk-test-reports
[-- Attachment #1: Type: text/plain, Size: 1252 bytes --]
Test-Label: iol-broadcom-Performance
Test-Status: SUCCESS
http://dpdk.org/patch/72947
_Performance Testing PASS_
Submitter: Ting Xu <ting.xu@intel.com>
Date: Friday, July 03 2020 08:57:10
DPDK git baseline: Repo:dpdk
Branch: master
CommitID:b98447077b0609750c10b84b7b2e7be0c8504fad
72947 --> performance testing pass
Test environment and result as below:
Ubuntu 18.04
Kernel: 4.15.0-65-generic
Compiler: gcc gcc (Ubuntu 7.4.0-1ubuntu1~18.04.1) 7.4.0
NIC: Broadcom Inc. brcm_57414 25000 Mbps
Target: x86_64-native-linuxapp-gcc
Fail/Total: 0/2
Detail performance results:
+------------+---------+-------------------------------------+
| frame_size | txd/rxd | throughput difference from expected |
+============+=========+=====================================+
| 64 | 512 | 0.090 |
+------------+---------+-------------------------------------+
| 64 | 2048 | -0.001 |
+------------+---------+-------------------------------------+
To view detailed results, visit:
https://lab.dpdk.org/results/dashboard/patchsets/11812/
UNH-IOL DPDK Community Lab
To manage your email subscriptions, visit:
https://lab.dpdk.org/results/dashboard/preferences/subscriptions/
^ permalink raw reply [flat|nested] 5+ messages in thread
[parent not found: <20200703085710.55719-1-ting.xu@intel.com>]
end of thread, other threads:[~2020-07-05 10:00 UTC | newest]
Thread overview: 5+ messages (download: mbox.gz / follow: Atom feed)
-- links below jump to the message on this page --
2020-07-03 11:09 [dpdk-test-report] |SUCCESS| pw72947 [PATCH] [v1] net/ice: fix build with 16 byte Rx descriptor in DCF dpdklab
-- strict thread matches above, loose matches on Subject: below --
2020-07-05 10:00 dpdklab
2020-07-04 2:34 dpdklab
2020-07-03 9:58 dpdklab
[not found] <20200703085710.55719-1-ting.xu@intel.com>
2020-07-03 8:59 ` [dpdk-test-report] |SUCCESS| pw72947 [PATCH v1] " checkpatch
This is a public inbox, see mirroring instructions
for how to clone and mirror all data and code used for this inbox;
as well as URLs for NNTP newsgroup(s).