* [dpdk-test-report] |SUCCESS| pw73219 [PATCH] [v3] app/flow-perf: fix condition of hairpin queues setup
@ 2020-07-06 12:58 dpdklab
0 siblings, 0 replies; 9+ messages in thread
From: dpdklab @ 2020-07-06 12:58 UTC (permalink / raw)
To: Ali Alnubani, Test Report; +Cc: dpdk-test-reports
[-- Attachment #1: Type: text/plain, Size: 3957 bytes --]
Test-Label: iol-mellanox-Performance
Test-Status: SUCCESS
http://dpdk.org/patch/73219
_Performance Testing PASS_
Submitter: Wisam Jaddo <wisamm@mellanox.com>
Date: Monday, July 06 2020 08:32:41
DPDK git baseline: Repo:dpdk
Branch: master
CommitID:0fc601af3a722ca3ed8bc7cba4c01e377513cdb3
73219 --> performance testing pass
Test environment and result as below:
Ubuntu 18.04
Kernel: 4.15.0-generic
Compiler: gcc 7.4
NIC: Mellanox ConnectX-5 100000 Mbps
Target: x86_64-native-linuxapp-gcc
Fail/Total: 0/6
Detail performance results:
+------------+---------+-------------------------------------+
| frame_size | txd/rxd | throughput difference from expected |
+============+=========+=====================================+
| 64 | 256 | 0.109 |
+------------+---------+-------------------------------------+
| 128 | 256 | 0.049 |
+------------+---------+-------------------------------------+
| 256 | 256 | -0.059 |
+------------+---------+-------------------------------------+
| 512 | 256 | 0.143 |
+------------+---------+-------------------------------------+
| 1024 | 256 | -0.009 |
+------------+---------+-------------------------------------+
| 1518 | 256 | -0.005 |
+------------+---------+-------------------------------------+
Ubuntu 18.04
Kernel: 4.15.0-generic
Compiler: gcc 7.4
NIC: Mellanox ConnectX-4 Lx 25000 Mbps
Target: x86_64-native-linuxapp-gcc
Fail/Total: 0/6
Detail performance results:
+------------+---------+-------------------------------------+
| frame_size | txd/rxd | throughput difference from expected |
+============+=========+=====================================+
| 64 | 256 | 0.008 |
+------------+---------+-------------------------------------+
| 128 | 256 | 0.215 |
+------------+---------+-------------------------------------+
| 256 | 256 | -0.165 |
+------------+---------+-------------------------------------+
| 512 | 256 | -0.018 |
+------------+---------+-------------------------------------+
| 1024 | 256 | -0.004 |
+------------+---------+-------------------------------------+
| 1518 | 256 | 0.004 |
+------------+---------+-------------------------------------+
Ubuntu 18.04
Kernel: 4.15.0-generic
Compiler: gcc 7.4
NIC: Mellanox ConnectX-4 Lx 40000 Mbps
Target: x86_64-native-linuxapp-gcc
Fail/Total: 0/6
Detail performance results:
+------------+---------+-------------------------------------+
| frame_size | txd/rxd | throughput difference from expected |
+============+=========+=====================================+
| 64 | 256 | 0.077 |
+------------+---------+-------------------------------------+
| 128 | 256 | -0.728 |
+------------+---------+-------------------------------------+
| 256 | 256 | 0.198 |
+------------+---------+-------------------------------------+
| 512 | 256 | -0.001 |
+------------+---------+-------------------------------------+
| 1024 | 256 | 0.007 |
+------------+---------+-------------------------------------+
| 1518 | 256 | -0.016 |
+------------+---------+-------------------------------------+
To view detailed results, visit:
https://lab.dpdk.org/results/dashboard/patchsets/11857/
UNH-IOL DPDK Community Lab
To manage your email subscriptions, visit:
https://lab.dpdk.org/results/dashboard/preferences/subscriptions/
^ permalink raw reply [flat|nested] 9+ messages in thread
* [dpdk-test-report] |SUCCESS| pw73219 [PATCH] [v3] app/flow-perf: fix condition of hairpin queues setup
@ 2020-07-06 22:34 dpdklab
0 siblings, 0 replies; 9+ messages in thread
From: dpdklab @ 2020-07-06 22:34 UTC (permalink / raw)
To: Test Report; +Cc: dpdk-test-reports
[-- Attachment #1: Type: text/plain, Size: 2902 bytes --]
Test-Label: iol-testing
Test-Status: SUCCESS
http://dpdk.org/patch/73219
_Testing PASS_
Submitter: Wisam Jaddo <wisamm@mellanox.com>
Date: Monday, July 06 2020 08:32:41
DPDK git baseline: Repo:dpdk
Branch: master
CommitID:0fc601af3a722ca3ed8bc7cba4c01e377513cdb3
73219 --> testing pass
Test environment and result as below:
+---------------------+--------------------+--------------+-------------------+------------------+----------------+
| Environment | dpdk_meson_compile | dpdk_compile | dpdk_compile_spdk | dpdk_compile_ovs | dpdk_unit_test |
+=====================+====================+==============+===================+==================+================+
| Windows Server 2019 | PASS | SKIPPED | SKIPPED | SKIPPED | SKIPPED |
+---------------------+--------------------+--------------+-------------------+------------------+----------------+
| FreeBSD 11.2 | PASS | PASS | PASS | SKIPPED | SKIPPED |
+---------------------+--------------------+--------------+-------------------+------------------+----------------+
| Ubuntu 18.04 | PASS | PASS | PASS | PASS | PASS |
+---------------------+--------------------+--------------+-------------------+------------------+----------------+
| Fedora 31 | PASS | PASS | PASS | PASS | SKIPPED |
+---------------------+--------------------+--------------+-------------------+------------------+----------------+
| CentOS 8 | PASS | PASS | PASS | PASS | SKIPPED |
+---------------------+--------------------+--------------+-------------------+------------------+----------------+
| openSUSE Leap 15 | PASS | PASS | PASS | PASS | SKIPPED |
+---------------------+--------------------+--------------+-------------------+------------------+----------------+
| Arch Linux | PASS | PASS | SKIPPED | PASS | SKIPPED |
+---------------------+--------------------+--------------+-------------------+------------------+----------------+
Windows Server 2019
Kernel: 10.0
Compiler: clang 9.0
FreeBSD 11.2
Kernel: 11.2
Compiler: gcc 8.3
Ubuntu 18.04
Kernel: 4.15.0-generic
Compiler: gcc 7.4
Fedora 31
Kernel: 5.3.16
Compiler: gcc 9.2.1
CentOS 8
Kernel: 4.18.0.el8_0
Compiler: gcc 8.3.1
openSUSE Leap 15
Kernel: 4.12.14
Compiler: gcc 7.4.1
Arch Linux
Kernel: latest
Compiler: gcc latest
To view detailed results, visit:
https://lab.dpdk.org/results/dashboard/patchsets/11857/
UNH-IOL DPDK Community Lab
To manage your email subscriptions, visit:
https://lab.dpdk.org/results/dashboard/preferences/subscriptions/
^ permalink raw reply [flat|nested] 9+ messages in thread
* [dpdk-test-report] |SUCCESS| pw73219 [PATCH] [v3] app/flow-perf: fix condition of hairpin queues setup
@ 2020-07-06 21:49 dpdklab
0 siblings, 0 replies; 9+ messages in thread
From: dpdklab @ 2020-07-06 21:49 UTC (permalink / raw)
To: Test Report; +Cc: dpdk-test-reports
[-- Attachment #1: Type: text/plain, Size: 2902 bytes --]
Test-Label: iol-testing
Test-Status: SUCCESS
http://dpdk.org/patch/73219
_Testing PASS_
Submitter: Wisam Jaddo <wisamm@mellanox.com>
Date: Monday, July 06 2020 08:32:41
DPDK git baseline: Repo:dpdk
Branch: master
CommitID:0fc601af3a722ca3ed8bc7cba4c01e377513cdb3
73219 --> testing pass
Test environment and result as below:
+---------------------+--------------------+--------------+-------------------+----------------+------------------+
| Environment | dpdk_meson_compile | dpdk_compile | dpdk_compile_spdk | dpdk_unit_test | dpdk_compile_ovs |
+=====================+====================+==============+===================+================+==================+
| Windows Server 2019 | PASS | SKIPPED | SKIPPED | SKIPPED | SKIPPED |
+---------------------+--------------------+--------------+-------------------+----------------+------------------+
| FreeBSD 11.2 | PASS | PASS | PASS | SKIPPED | SKIPPED |
+---------------------+--------------------+--------------+-------------------+----------------+------------------+
| Ubuntu 18.04 | PASS | PASS | PASS | PASS | PASS |
+---------------------+--------------------+--------------+-------------------+----------------+------------------+
| Fedora 31 | PASS | PASS | PASS | SKIPPED | PASS |
+---------------------+--------------------+--------------+-------------------+----------------+------------------+
| CentOS 8 | PASS | PASS | PASS | SKIPPED | PASS |
+---------------------+--------------------+--------------+-------------------+----------------+------------------+
| openSUSE Leap 15 | PASS | PASS | PASS | SKIPPED | PASS |
+---------------------+--------------------+--------------+-------------------+----------------+------------------+
| Arch Linux | PASS | PASS | SKIPPED | SKIPPED | PASS |
+---------------------+--------------------+--------------+-------------------+----------------+------------------+
Windows Server 2019
Kernel: 10.0
Compiler: clang 9.0
FreeBSD 11.2
Kernel: 11.2
Compiler: gcc 8.3
Ubuntu 18.04
Kernel: 4.15.0-generic
Compiler: gcc 7.4
Fedora 31
Kernel: 5.3.16
Compiler: gcc 9.2.1
CentOS 8
Kernel: 4.18.0.el8_0
Compiler: gcc 8.3.1
openSUSE Leap 15
Kernel: 4.12.14
Compiler: gcc 7.4.1
Arch Linux
Kernel: latest
Compiler: gcc latest
To view detailed results, visit:
https://lab.dpdk.org/results/dashboard/patchsets/11857/
UNH-IOL DPDK Community Lab
To manage your email subscriptions, visit:
https://lab.dpdk.org/results/dashboard/preferences/subscriptions/
^ permalink raw reply [flat|nested] 9+ messages in thread
* [dpdk-test-report] |SUCCESS| pw73219 [PATCH] [v3] app/flow-perf: fix condition of hairpin queues setup
@ 2020-07-06 12:03 dpdklab
0 siblings, 0 replies; 9+ messages in thread
From: dpdklab @ 2020-07-06 12:03 UTC (permalink / raw)
To: Ali Alnubani, Test Report; +Cc: dpdk-test-reports
[-- Attachment #1: Type: text/plain, Size: 3957 bytes --]
Test-Label: iol-mellanox-Performance
Test-Status: SUCCESS
http://dpdk.org/patch/73219
_Performance Testing PASS_
Submitter: Wisam Jaddo <wisamm@mellanox.com>
Date: Monday, July 06 2020 08:32:41
DPDK git baseline: Repo:dpdk
Branch: master
CommitID:0fc601af3a722ca3ed8bc7cba4c01e377513cdb3
73219 --> performance testing pass
Test environment and result as below:
Ubuntu 18.04
Kernel: 4.15.0-generic
Compiler: gcc 7.4
NIC: Mellanox ConnectX-5 100000 Mbps
Target: x86_64-native-linuxapp-gcc
Fail/Total: 0/6
Detail performance results:
+------------+---------+-------------------------------------+
| frame_size | txd/rxd | throughput difference from expected |
+============+=========+=====================================+
| 64 | 256 | 0.142 |
+------------+---------+-------------------------------------+
| 128 | 256 | -0.112 |
+------------+---------+-------------------------------------+
| 256 | 256 | -0.141 |
+------------+---------+-------------------------------------+
| 512 | 256 | 0.063 |
+------------+---------+-------------------------------------+
| 1024 | 256 | -0.097 |
+------------+---------+-------------------------------------+
| 1518 | 256 | 0.014 |
+------------+---------+-------------------------------------+
Ubuntu 18.04
Kernel: 4.15.0-generic
Compiler: gcc 7.4
NIC: Mellanox ConnectX-4 Lx 25000 Mbps
Target: x86_64-native-linuxapp-gcc
Fail/Total: 0/6
Detail performance results:
+------------+---------+-------------------------------------+
| frame_size | txd/rxd | throughput difference from expected |
+============+=========+=====================================+
| 64 | 256 | 0.362 |
+------------+---------+-------------------------------------+
| 128 | 256 | 0.244 |
+------------+---------+-------------------------------------+
| 256 | 256 | -0.023 |
+------------+---------+-------------------------------------+
| 512 | 256 | -0.015 |
+------------+---------+-------------------------------------+
| 1024 | 256 | 0.004 |
+------------+---------+-------------------------------------+
| 1518 | 256 | -0.007 |
+------------+---------+-------------------------------------+
Ubuntu 18.04
Kernel: 4.15.0-generic
Compiler: gcc 7.4
NIC: Mellanox ConnectX-4 Lx 40000 Mbps
Target: x86_64-native-linuxapp-gcc
Fail/Total: 0/6
Detail performance results:
+------------+---------+-------------------------------------+
| frame_size | txd/rxd | throughput difference from expected |
+============+=========+=====================================+
| 64 | 256 | 0.174 |
+------------+---------+-------------------------------------+
| 128 | 256 | -0.919 |
+------------+---------+-------------------------------------+
| 256 | 256 | -0.065 |
+------------+---------+-------------------------------------+
| 512 | 256 | 0 |
+------------+---------+-------------------------------------+
| 1024 | 256 | 0.021 |
+------------+---------+-------------------------------------+
| 1518 | 256 | -0.001 |
+------------+---------+-------------------------------------+
To view detailed results, visit:
https://lab.dpdk.org/results/dashboard/patchsets/11857/
UNH-IOL DPDK Community Lab
To manage your email subscriptions, visit:
https://lab.dpdk.org/results/dashboard/preferences/subscriptions/
^ permalink raw reply [flat|nested] 9+ messages in thread
* [dpdk-test-report] |SUCCESS| pw73219 [PATCH] [v3] app/flow-perf: fix condition of hairpin queues setup
@ 2020-07-06 10:05 dpdklab
0 siblings, 0 replies; 9+ messages in thread
From: dpdklab @ 2020-07-06 10:05 UTC (permalink / raw)
To: Test Report; +Cc: dpdk-test-reports
[-- Attachment #1: Type: text/plain, Size: 1907 bytes --]
Test-Label: iol-intel-Performance
Test-Status: SUCCESS
http://dpdk.org/patch/73219
_Performance Testing PASS_
Submitter: Wisam Jaddo <wisamm@mellanox.com>
Date: Monday, July 06 2020 08:32:41
DPDK git baseline: Repo:dpdk
Branch: master
CommitID:0fc601af3a722ca3ed8bc7cba4c01e377513cdb3
73219 --> performance testing pass
Test environment and result as below:
Ubuntu 18.04
Kernel: 4.15.0-generic
Compiler: gcc 7.4
NIC: Intel Corporation Ethernet Converged Network Adapter XL710-QDA2 40000 Mbps
Target: x86_64-native-linuxapp-gcc
Fail/Total: 0/2
Detail performance results:
+------------+---------+-------------------------------------+
| frame_size | txd/rxd | throughput difference from expected |
+============+=========+=====================================+
| 64 | 512 | 4.860 |
+------------+---------+-------------------------------------+
| 64 | 2048 | 2.905 |
+------------+---------+-------------------------------------+
Ubuntu 18.04
Kernel: 4.15.0-generic
Compiler: gcc 7.4
NIC: Intel Corporation Ethernet Converged Network Adapter 82599ES 10000 Mbps
Target: x86_64-native-linuxapp-gcc
Fail/Total: 0/2
Detail performance results:
+------------+---------+-------------------------------------+
| frame_size | txd/rxd | throughput difference from expected |
+============+=========+=====================================+
| 64 | 512 | 2.828 |
+------------+---------+-------------------------------------+
| 64 | 2048 | 0.911 |
+------------+---------+-------------------------------------+
To view detailed results, visit:
https://lab.dpdk.org/results/dashboard/patchsets/11857/
UNH-IOL DPDK Community Lab
To manage your email subscriptions, visit:
https://lab.dpdk.org/results/dashboard/preferences/subscriptions/
^ permalink raw reply [flat|nested] 9+ messages in thread
* [dpdk-test-report] |SUCCESS| pw73219 [PATCH] [v3] app/flow-perf: fix condition of hairpin queues setup
@ 2020-07-06 9:38 dpdklab
0 siblings, 0 replies; 9+ messages in thread
From: dpdklab @ 2020-07-06 9:38 UTC (permalink / raw)
To: Test Report; +Cc: dpdk-test-reports
[-- Attachment #1: Type: text/plain, Size: 1907 bytes --]
Test-Label: iol-intel-Performance
Test-Status: SUCCESS
http://dpdk.org/patch/73219
_Performance Testing PASS_
Submitter: Wisam Jaddo <wisamm@mellanox.com>
Date: Monday, July 06 2020 08:32:41
DPDK git baseline: Repo:dpdk
Branch: master
CommitID:0fc601af3a722ca3ed8bc7cba4c01e377513cdb3
73219 --> performance testing pass
Test environment and result as below:
Ubuntu 18.04
Kernel: 4.15.0-generic
Compiler: gcc 7.4
NIC: Intel Corporation Ethernet Converged Network Adapter XL710-QDA2 40000 Mbps
Target: x86_64-native-linuxapp-gcc
Fail/Total: 0/2
Detail performance results:
+------------+---------+-------------------------------------+
| frame_size | txd/rxd | throughput difference from expected |
+============+=========+=====================================+
| 64 | 512 | 4.929 |
+------------+---------+-------------------------------------+
| 64 | 2048 | 3.194 |
+------------+---------+-------------------------------------+
Ubuntu 18.04
Kernel: 4.15.0-generic
Compiler: gcc 7.4
NIC: Intel Corporation Ethernet Converged Network Adapter 82599ES 10000 Mbps
Target: x86_64-native-linuxapp-gcc
Fail/Total: 0/2
Detail performance results:
+------------+---------+-------------------------------------+
| frame_size | txd/rxd | throughput difference from expected |
+============+=========+=====================================+
| 64 | 512 | 2.800 |
+------------+---------+-------------------------------------+
| 64 | 2048 | 0.836 |
+------------+---------+-------------------------------------+
To view detailed results, visit:
https://lab.dpdk.org/results/dashboard/patchsets/11857/
UNH-IOL DPDK Community Lab
To manage your email subscriptions, visit:
https://lab.dpdk.org/results/dashboard/preferences/subscriptions/
^ permalink raw reply [flat|nested] 9+ messages in thread
* [dpdk-test-report] |SUCCESS| pw73219 [PATCH] [v3] app/flow-perf: fix condition of hairpin queues setup
@ 2020-07-06 9:15 dpdklab
0 siblings, 0 replies; 9+ messages in thread
From: dpdklab @ 2020-07-06 9:15 UTC (permalink / raw)
To: Ajit Khaparde, Test Report; +Cc: dpdk-test-reports
[-- Attachment #1: Type: text/plain, Size: 1258 bytes --]
Test-Label: iol-broadcom-Performance
Test-Status: SUCCESS
http://dpdk.org/patch/73219
_Performance Testing PASS_
Submitter: Wisam Jaddo <wisamm@mellanox.com>
Date: Monday, July 06 2020 08:32:41
DPDK git baseline: Repo:dpdk
Branch: master
CommitID:0fc601af3a722ca3ed8bc7cba4c01e377513cdb3
73219 --> performance testing pass
Test environment and result as below:
Ubuntu 18.04
Kernel: 4.15.0-65-generic
Compiler: gcc gcc (Ubuntu 7.4.0-1ubuntu1~18.04.1) 7.4.0
NIC: Broadcom Inc. brcm_57414 25000 Mbps
Target: x86_64-native-linuxapp-gcc
Fail/Total: 0/2
Detail performance results:
+------------+---------+-------------------------------------+
| frame_size | txd/rxd | throughput difference from expected |
+============+=========+=====================================+
| 64 | 512 | 0.087 |
+------------+---------+-------------------------------------+
| 64 | 2048 | -0.091 |
+------------+---------+-------------------------------------+
To view detailed results, visit:
https://lab.dpdk.org/results/dashboard/patchsets/11857/
UNH-IOL DPDK Community Lab
To manage your email subscriptions, visit:
https://lab.dpdk.org/results/dashboard/preferences/subscriptions/
^ permalink raw reply [flat|nested] 9+ messages in thread
* [dpdk-test-report] |SUCCESS| pw73219 [PATCH] [v3] app/flow-perf: fix condition of hairpin queues setup
@ 2020-07-06 9:07 dpdklab
0 siblings, 0 replies; 9+ messages in thread
From: dpdklab @ 2020-07-06 9:07 UTC (permalink / raw)
To: Ajit Khaparde, Test Report; +Cc: dpdk-test-reports
[-- Attachment #1: Type: text/plain, Size: 1258 bytes --]
Test-Label: iol-broadcom-Performance
Test-Status: SUCCESS
http://dpdk.org/patch/73219
_Performance Testing PASS_
Submitter: Wisam Jaddo <wisamm@mellanox.com>
Date: Monday, July 06 2020 08:32:41
DPDK git baseline: Repo:dpdk
Branch: master
CommitID:0fc601af3a722ca3ed8bc7cba4c01e377513cdb3
73219 --> performance testing pass
Test environment and result as below:
Ubuntu 18.04
Kernel: 4.15.0-65-generic
Compiler: gcc gcc (Ubuntu 7.4.0-1ubuntu1~18.04.1) 7.4.0
NIC: Broadcom Inc. brcm_57414 25000 Mbps
Target: x86_64-native-linuxapp-gcc
Fail/Total: 0/2
Detail performance results:
+------------+---------+-------------------------------------+
| frame_size | txd/rxd | throughput difference from expected |
+============+=========+=====================================+
| 64 | 512 | 0.087 |
+------------+---------+-------------------------------------+
| 64 | 2048 | -0.009 |
+------------+---------+-------------------------------------+
To view detailed results, visit:
https://lab.dpdk.org/results/dashboard/patchsets/11857/
UNH-IOL DPDK Community Lab
To manage your email subscriptions, visit:
https://lab.dpdk.org/results/dashboard/preferences/subscriptions/
^ permalink raw reply [flat|nested] 9+ messages in thread
[parent not found: <20200706083241.9073-1-wisamm@mellanox.com>]
end of thread, other threads:[~2020-07-06 22:34 UTC | newest]
Thread overview: 9+ messages (download: mbox.gz / follow: Atom feed)
-- links below jump to the message on this page --
2020-07-06 12:58 [dpdk-test-report] |SUCCESS| pw73219 [PATCH] [v3] app/flow-perf: fix condition of hairpin queues setup dpdklab
-- strict thread matches above, loose matches on Subject: below --
2020-07-06 22:34 dpdklab
2020-07-06 21:49 dpdklab
2020-07-06 12:03 dpdklab
2020-07-06 10:05 dpdklab
2020-07-06 9:38 dpdklab
2020-07-06 9:15 dpdklab
2020-07-06 9:07 dpdklab
[not found] <20200706083241.9073-1-wisamm@mellanox.com>
2020-07-06 8:36 ` [dpdk-test-report] |SUCCESS| pw73219 [PATCH v3] " checkpatch
This is a public inbox, see mirroring instructions
for how to clone and mirror all data and code used for this inbox;
as well as URLs for NNTP newsgroup(s).