automatic DPDK test reports
 help / color / mirror / Atom feed
* [dpdk-test-report] |SUCCESS| pw73418 [PATCH] [v2] mbuf: use C11 atomics for refcnt operations
@ 2020-07-07 19:11 dpdklab
  0 siblings, 0 replies; 6+ messages in thread
From: dpdklab @ 2020-07-07 19:11 UTC (permalink / raw)
  To: Ajit Khaparde, Test Report; +Cc: dpdk-test-reports

[-- Attachment #1: Type: text/plain, Size: 1255 bytes --]

Test-Label: iol-broadcom-Performance
Test-Status: SUCCESS
http://dpdk.org/patch/73418

_Performance Testing PASS_

Submitter: Phil Yang <phil.yang@arm.com>
Date: Tuesday, July 07 2020 10:10:33 
DPDK git baseline: Repo:dpdk
  Branch: master
  CommitID:4c4f83944683eca973d5fc5df76cd6199a090e5f

73418 --> performance testing pass

Test environment and result as below:

Ubuntu 18.04
Kernel: 4.15.0-65-generic
Compiler: gcc gcc (Ubuntu 7.4.0-1ubuntu1~18.04.1) 7.4.0
NIC: Broadcom Inc. brcm_57414 25000 Mbps
Target: x86_64-native-linuxapp-gcc
Fail/Total: 0/2

Detail performance results: 
+------------+---------+-------------------------------------+
| frame_size | txd/rxd | throughput difference from expected |
+============+=========+=====================================+
| 64         | 512     | 0.083                               |
+------------+---------+-------------------------------------+
| 64         | 2048    | -0.010                              |
+------------+---------+-------------------------------------+

To view detailed results, visit:
https://lab.dpdk.org/results/dashboard/patchsets/11896/

UNH-IOL DPDK Community Lab

To manage your email subscriptions, visit: 
https://lab.dpdk.org/results/dashboard/preferences/subscriptions/

^ permalink raw reply	[flat|nested] 6+ messages in thread
* [dpdk-test-report] |SUCCESS| pw73418 [PATCH] [v2] mbuf: use C11 atomics for refcnt operations
@ 2020-07-08 14:07 dpdklab
  0 siblings, 0 replies; 6+ messages in thread
From: dpdklab @ 2020-07-08 14:07 UTC (permalink / raw)
  To: Test Report; +Cc: dpdk-test-reports

[-- Attachment #1: Type: text/plain, Size: 2899 bytes --]

Test-Label: iol-testing
Test-Status: SUCCESS
http://dpdk.org/patch/73418

_Testing PASS_

Submitter: Phil Yang <phil.yang@arm.com>
Date: Tuesday, July 07 2020 10:10:33 
DPDK git baseline: Repo:dpdk
  Branch: master
  CommitID:4c4f83944683eca973d5fc5df76cd6199a090e5f

73418 --> testing pass

Test environment and result as below:

+---------------------+--------------------+----------------+-------------------+------------------+--------------+
|     Environment     | dpdk_meson_compile | dpdk_unit_test | dpdk_compile_spdk | dpdk_compile_ovs | dpdk_compile |
+=====================+====================+================+===================+==================+==============+
| Windows Server 2019 | PASS               | SKIPPED        | SKIPPED           | SKIPPED          | SKIPPED      |
+---------------------+--------------------+----------------+-------------------+------------------+--------------+
| FreeBSD 11.2        | PASS               | SKIPPED        | PASS              | SKIPPED          | PASS         |
+---------------------+--------------------+----------------+-------------------+------------------+--------------+
| Ubuntu 18.04        | PASS               | PASS           | PASS              | PASS             | PASS         |
+---------------------+--------------------+----------------+-------------------+------------------+--------------+
| Fedora 31           | PASS               | SKIPPED        | PASS              | PASS             | PASS         |
+---------------------+--------------------+----------------+-------------------+------------------+--------------+
| CentOS 8            | PASS               | SKIPPED        | PASS              | PASS             | PASS         |
+---------------------+--------------------+----------------+-------------------+------------------+--------------+
| openSUSE Leap 15    | PASS               | SKIPPED        | PASS              | PASS             | PASS         |
+---------------------+--------------------+----------------+-------------------+------------------+--------------+
| Arch Linux          | PASS               | SKIPPED        | SKIPPED           | PASS             | PASS         |
+---------------------+--------------------+----------------+-------------------+------------------+--------------+

Windows Server 2019
	Kernel: 10.0
	Compiler: clang 9.0

FreeBSD 11.2
	Kernel: 11.2
	Compiler: gcc 8.3

Ubuntu 18.04
	Kernel: 4.15.0-generic
	Compiler: gcc 7.4

Fedora 31
	Kernel: 5.3.16
	Compiler: gcc 9.2.1

CentOS 8
	Kernel: 4.18.0.el8_0
	Compiler: gcc 8.3.1

openSUSE Leap 15
	Kernel: 4.12.14
	Compiler: gcc 7.4.1

Arch Linux
	Kernel: latest
	Compiler: gcc latest

To view detailed results, visit:
https://lab.dpdk.org/results/dashboard/patchsets/11896/

UNH-IOL DPDK Community Lab

To manage your email subscriptions, visit: 
https://lab.dpdk.org/results/dashboard/preferences/subscriptions/

^ permalink raw reply	[flat|nested] 6+ messages in thread
* [dpdk-test-report] |SUCCESS| pw73418 [PATCH] [v2] mbuf: use C11 atomics for refcnt operations
@ 2020-07-08 21:10 dpdklab
  0 siblings, 0 replies; 6+ messages in thread
From: dpdklab @ 2020-07-08 21:10 UTC (permalink / raw)
  To: Ali Alnubani, Test Report; +Cc: dpdk-test-reports

[-- Attachment #1: Type: text/plain, Size: 3954 bytes --]

Test-Label: iol-mellanox-Performance
Test-Status: SUCCESS
http://dpdk.org/patch/73418

_Performance Testing PASS_

Submitter: Phil Yang <phil.yang@arm.com>
Date: Tuesday, July 07 2020 10:10:33 
DPDK git baseline: Repo:dpdk
  Branch: master
  CommitID:4c4f83944683eca973d5fc5df76cd6199a090e5f

73418 --> performance testing pass

Test environment and result as below:

Ubuntu 18.04
Kernel: 4.15.0-generic
Compiler: gcc 7.4
NIC: Mellanox ConnectX-5 100000 Mbps
Target: x86_64-native-linuxapp-gcc
Fail/Total: 0/6

Detail performance results: 
+------------+---------+-------------------------------------+
| frame_size | txd/rxd | throughput difference from expected |
+============+=========+=====================================+
| 64         | 256     | 0.352                               |
+------------+---------+-------------------------------------+
| 128        | 256     | -0.079                              |
+------------+---------+-------------------------------------+
| 256        | 256     | 0.008                               |
+------------+---------+-------------------------------------+
| 512        | 256     | -0.053                              |
+------------+---------+-------------------------------------+
| 1024       | 256     | 0.037                               |
+------------+---------+-------------------------------------+
| 1518       | 256     | -0.010                              |
+------------+---------+-------------------------------------+

Ubuntu 18.04
Kernel: 4.15.0-generic
Compiler: gcc 7.4
NIC: Mellanox ConnectX-4 Lx 25000 Mbps
Target: x86_64-native-linuxapp-gcc
Fail/Total: 0/6

Detail performance results: 
+------------+---------+-------------------------------------+
| frame_size | txd/rxd | throughput difference from expected |
+============+=========+=====================================+
| 64         | 256     | 0.120                               |
+------------+---------+-------------------------------------+
| 128        | 256     | 0.211                               |
+------------+---------+-------------------------------------+
| 256        | 256     | 0.118                               |
+------------+---------+-------------------------------------+
| 512        | 256     | 0.004                               |
+------------+---------+-------------------------------------+
| 1024       | 256     | 0.006                               |
+------------+---------+-------------------------------------+
| 1518       | 256     | 0                                   |
+------------+---------+-------------------------------------+

Ubuntu 18.04
Kernel: 4.15.0-generic
Compiler: gcc 7.4
NIC: Mellanox ConnectX-4 Lx 40000 Mbps
Target: x86_64-native-linuxapp-gcc
Fail/Total: 0/6

Detail performance results: 
+------------+---------+-------------------------------------+
| frame_size | txd/rxd | throughput difference from expected |
+============+=========+=====================================+
| 64         | 256     | 0.192                               |
+------------+---------+-------------------------------------+
| 128        | 256     | -0.018                              |
+------------+---------+-------------------------------------+
| 256        | 256     | -0.331                              |
+------------+---------+-------------------------------------+
| 512        | 256     | -0.012                              |
+------------+---------+-------------------------------------+
| 1024       | 256     | -0.001                              |
+------------+---------+-------------------------------------+
| 1518       | 256     | -0.011                              |
+------------+---------+-------------------------------------+

To view detailed results, visit:
https://lab.dpdk.org/results/dashboard/patchsets/11896/

UNH-IOL DPDK Community Lab

To manage your email subscriptions, visit: 
https://lab.dpdk.org/results/dashboard/preferences/subscriptions/

^ permalink raw reply	[flat|nested] 6+ messages in thread
* [dpdk-test-report] |SUCCESS| pw73418 [PATCH] [v2] mbuf: use C11 atomics for refcnt operations
@ 2020-07-11  2:30 dpdklab
  0 siblings, 0 replies; 6+ messages in thread
From: dpdklab @ 2020-07-11  2:30 UTC (permalink / raw)
  To: Test Report; +Cc: dpdk-test-reports

[-- Attachment #1: Type: text/plain, Size: 1250 bytes --]

Test-Label: iol-intel-Performance
Test-Status: SUCCESS
http://dpdk.org/patch/73418

_Performance Testing PASS_

Submitter: Phil Yang <phil.yang@arm.com>
Date: Tuesday, July 07 2020 10:10:33 
DPDK git baseline: Repo:dpdk
  Branch: master
  CommitID:4c4f83944683eca973d5fc5df76cd6199a090e5f

73418 --> performance testing pass

Test environment and result as below:

Ubuntu 18.04
Kernel: 4.15.0-generic
Compiler: gcc 7.4
NIC: Intel Corporation Ethernet Converged Network Adapter XL710-QDA2 40000 Mbps
Target: x86_64-native-linuxapp-gcc
Fail/Total: 0/2

Detail performance results: 
+------------+---------+-------------------------------------+
| frame_size | txd/rxd | throughput difference from expected |
+============+=========+=====================================+
| 64         | 512     | 4.754                               |
+------------+---------+-------------------------------------+
| 64         | 2048    | 3.124                               |
+------------+---------+-------------------------------------+

To view detailed results, visit:
https://lab.dpdk.org/results/dashboard/patchsets/11896/

UNH-IOL DPDK Community Lab

To manage your email subscriptions, visit: 
https://lab.dpdk.org/results/dashboard/preferences/subscriptions/

^ permalink raw reply	[flat|nested] 6+ messages in thread

end of thread, other threads:[~2020-07-11  2:30 UTC | newest]

Thread overview: 6+ messages (download: mbox.gz / follow: Atom feed)
-- links below jump to the message on this page --
     [not found] <1594116633-14554-1-git-send-email-phil.yang@arm.com>
2020-07-07 10:11 ` [dpdk-test-report] |SUCCESS| pw73418 [PATCH v2] mbuf: use C11 atomics for refcnt operations checkpatch
2020-07-07 14:56 ` [dpdk-test-report] |WARNING| pw73418 " 0-day Robot
2020-07-07 19:11 [dpdk-test-report] |SUCCESS| pw73418 [PATCH] [v2] " dpdklab
2020-07-08 14:07 dpdklab
2020-07-08 21:10 dpdklab
2020-07-11  2:30 dpdklab

automatic DPDK test reports

This inbox may be cloned and mirrored by anyone:

	git clone --mirror https://inbox.dpdk.org/test-report/0 test-report/git/0.git

	# If you have public-inbox 1.1+ installed, you may
	# initialize and index your mirror using the following commands:
	public-inbox-init -V2 test-report test-report/ https://inbox.dpdk.org/test-report \
		test-report@dpdk.org
	public-inbox-index test-report

Example config snippet for mirrors.
Newsgroup available over NNTP:
	nntp://inbox.dpdk.org/inbox.dpdk.test-report


AGPL code for this site: git clone https://public-inbox.org/public-inbox.git