* [dpdk-test-report] |SUCCESS| pw73378 [PATCH] [v2] rawdev: fix to remove EXPERIMENTAL from comment
@ 2020-07-09 4:42 dpdklab
0 siblings, 0 replies; 5+ messages in thread
From: dpdklab @ 2020-07-09 4:42 UTC (permalink / raw)
To: Ali Alnubani, Test Report; +Cc: dpdk-test-reports
[-- Attachment #1: Type: text/plain, Size: 3964 bytes --]
Test-Label: iol-mellanox-Performance
Test-Status: SUCCESS
http://dpdk.org/patch/73378
_Performance Testing PASS_
Submitter: Hemant Agrawal <hemant.agrawal@nxp.com>
Date: Tuesday, July 07 2020 08:54:07
DPDK git baseline: Repo:dpdk
Branch: master
CommitID:4c4f83944683eca973d5fc5df76cd6199a090e5f
73378 --> performance testing pass
Test environment and result as below:
Ubuntu 18.04
Kernel: 4.15.0-generic
Compiler: gcc 7.4
NIC: Mellanox ConnectX-5 100000 Mbps
Target: x86_64-native-linuxapp-gcc
Fail/Total: 0/6
Detail performance results:
+------------+---------+-------------------------------------+
| frame_size | txd/rxd | throughput difference from expected |
+============+=========+=====================================+
| 64 | 256 | -0.157 |
+------------+---------+-------------------------------------+
| 128 | 256 | -0.051 |
+------------+---------+-------------------------------------+
| 256 | 256 | -0.086 |
+------------+---------+-------------------------------------+
| 512 | 256 | -0.008 |
+------------+---------+-------------------------------------+
| 1024 | 256 | 0.036 |
+------------+---------+-------------------------------------+
| 1518 | 256 | -0.024 |
+------------+---------+-------------------------------------+
Ubuntu 18.04
Kernel: 4.15.0-generic
Compiler: gcc 7.4
NIC: Mellanox ConnectX-4 Lx 25000 Mbps
Target: x86_64-native-linuxapp-gcc
Fail/Total: 0/6
Detail performance results:
+------------+---------+-------------------------------------+
| frame_size | txd/rxd | throughput difference from expected |
+============+=========+=====================================+
| 64 | 256 | -0.182 |
+------------+---------+-------------------------------------+
| 128 | 256 | 0.031 |
+------------+---------+-------------------------------------+
| 256 | 256 | 0.214 |
+------------+---------+-------------------------------------+
| 512 | 256 | 0.010 |
+------------+---------+-------------------------------------+
| 1024 | 256 | -0.001 |
+------------+---------+-------------------------------------+
| 1518 | 256 | -0.002 |
+------------+---------+-------------------------------------+
Ubuntu 18.04
Kernel: 4.15.0-generic
Compiler: gcc 7.4
NIC: Mellanox ConnectX-4 Lx 40000 Mbps
Target: x86_64-native-linuxapp-gcc
Fail/Total: 0/6
Detail performance results:
+------------+---------+-------------------------------------+
| frame_size | txd/rxd | throughput difference from expected |
+============+=========+=====================================+
| 64 | 256 | 0.422 |
+------------+---------+-------------------------------------+
| 128 | 256 | -0.234 |
+------------+---------+-------------------------------------+
| 256 | 256 | -0.233 |
+------------+---------+-------------------------------------+
| 512 | 256 | -0.016 |
+------------+---------+-------------------------------------+
| 1024 | 256 | 0.001 |
+------------+---------+-------------------------------------+
| 1518 | 256 | -0.001 |
+------------+---------+-------------------------------------+
To view detailed results, visit:
https://lab.dpdk.org/results/dashboard/patchsets/11891/
UNH-IOL DPDK Community Lab
To manage your email subscriptions, visit:
https://lab.dpdk.org/results/dashboard/preferences/subscriptions/
^ permalink raw reply [flat|nested] 5+ messages in thread
* [dpdk-test-report] |SUCCESS| pw73378 [PATCH] [v2] rawdev: fix to remove EXPERIMENTAL from comment
@ 2020-07-10 5:27 dpdklab
0 siblings, 0 replies; 5+ messages in thread
From: dpdklab @ 2020-07-10 5:27 UTC (permalink / raw)
To: Test Report; +Cc: dpdk-test-reports
[-- Attachment #1: Type: text/plain, Size: 1260 bytes --]
Test-Label: iol-intel-Performance
Test-Status: SUCCESS
http://dpdk.org/patch/73378
_Performance Testing PASS_
Submitter: Hemant Agrawal <hemant.agrawal@nxp.com>
Date: Tuesday, July 07 2020 08:54:07
DPDK git baseline: Repo:dpdk
Branch: master
CommitID:4c4f83944683eca973d5fc5df76cd6199a090e5f
73378 --> performance testing pass
Test environment and result as below:
Ubuntu 18.04
Kernel: 4.15.0-generic
Compiler: gcc 7.4
NIC: Intel Corporation Ethernet Converged Network Adapter XL710-QDA2 40000 Mbps
Target: x86_64-native-linuxapp-gcc
Fail/Total: 0/2
Detail performance results:
+------------+---------+-------------------------------------+
| frame_size | txd/rxd | throughput difference from expected |
+============+=========+=====================================+
| 64 | 512 | 4.683 |
+------------+---------+-------------------------------------+
| 64 | 2048 | 2.366 |
+------------+---------+-------------------------------------+
To view detailed results, visit:
https://lab.dpdk.org/results/dashboard/patchsets/11891/
UNH-IOL DPDK Community Lab
To manage your email subscriptions, visit:
https://lab.dpdk.org/results/dashboard/preferences/subscriptions/
^ permalink raw reply [flat|nested] 5+ messages in thread
* [dpdk-test-report] |SUCCESS| pw73378 [PATCH] [v2] rawdev: fix to remove EXPERIMENTAL from comment
@ 2020-07-08 20:33 dpdklab
0 siblings, 0 replies; 5+ messages in thread
From: dpdklab @ 2020-07-08 20:33 UTC (permalink / raw)
To: Test Report; +Cc: dpdk-test-reports
[-- Attachment #1: Type: text/plain, Size: 2909 bytes --]
Test-Label: iol-testing
Test-Status: SUCCESS
http://dpdk.org/patch/73378
_Testing PASS_
Submitter: Hemant Agrawal <hemant.agrawal@nxp.com>
Date: Tuesday, July 07 2020 08:54:07
DPDK git baseline: Repo:dpdk
Branch: master
CommitID:4c4f83944683eca973d5fc5df76cd6199a090e5f
73378 --> testing pass
Test environment and result as below:
+---------------------+--------------------+-------------------+----------------+------------------+--------------+
| Environment | dpdk_meson_compile | dpdk_compile_spdk | dpdk_unit_test | dpdk_compile_ovs | dpdk_compile |
+=====================+====================+===================+================+==================+==============+
| Windows Server 2019 | PASS | SKIPPED | SKIPPED | SKIPPED | SKIPPED |
+---------------------+--------------------+-------------------+----------------+------------------+--------------+
| FreeBSD 11.2 | PASS | PASS | SKIPPED | SKIPPED | PASS |
+---------------------+--------------------+-------------------+----------------+------------------+--------------+
| Ubuntu 18.04 | PASS | PASS | PASS | PASS | PASS |
+---------------------+--------------------+-------------------+----------------+------------------+--------------+
| CentOS 8 | PASS | PASS | SKIPPED | PASS | PASS |
+---------------------+--------------------+-------------------+----------------+------------------+--------------+
| Fedora 31 | PASS | PASS | SKIPPED | PASS | PASS |
+---------------------+--------------------+-------------------+----------------+------------------+--------------+
| openSUSE Leap 15 | PASS | PASS | SKIPPED | PASS | PASS |
+---------------------+--------------------+-------------------+----------------+------------------+--------------+
| Arch Linux | PASS | SKIPPED | SKIPPED | PASS | PASS |
+---------------------+--------------------+-------------------+----------------+------------------+--------------+
Windows Server 2019
Kernel: 10.0
Compiler: clang 9.0
FreeBSD 11.2
Kernel: 11.2
Compiler: gcc 8.3
Ubuntu 18.04
Kernel: 4.15.0-generic
Compiler: gcc 7.4
CentOS 8
Kernel: 4.18.0.el8_0
Compiler: gcc 8.3.1
Fedora 31
Kernel: 5.3.16
Compiler: gcc 9.2.1
openSUSE Leap 15
Kernel: 4.12.14
Compiler: gcc 7.4.1
Arch Linux
Kernel: latest
Compiler: gcc latest
To view detailed results, visit:
https://lab.dpdk.org/results/dashboard/patchsets/11891/
UNH-IOL DPDK Community Lab
To manage your email subscriptions, visit:
https://lab.dpdk.org/results/dashboard/preferences/subscriptions/
^ permalink raw reply [flat|nested] 5+ messages in thread
* [dpdk-test-report] |SUCCESS| pw73378 [PATCH] [v2] rawdev: fix to remove EXPERIMENTAL from comment
@ 2020-07-07 20:46 dpdklab
0 siblings, 0 replies; 5+ messages in thread
From: dpdklab @ 2020-07-07 20:46 UTC (permalink / raw)
To: Ajit Khaparde, Test Report; +Cc: dpdk-test-reports
[-- Attachment #1: Type: text/plain, Size: 1265 bytes --]
Test-Label: iol-broadcom-Performance
Test-Status: SUCCESS
http://dpdk.org/patch/73378
_Performance Testing PASS_
Submitter: Hemant Agrawal <hemant.agrawal@nxp.com>
Date: Tuesday, July 07 2020 08:54:07
DPDK git baseline: Repo:dpdk
Branch: master
CommitID:4c4f83944683eca973d5fc5df76cd6199a090e5f
73378 --> performance testing pass
Test environment and result as below:
Ubuntu 18.04
Kernel: 4.15.0-65-generic
Compiler: gcc gcc (Ubuntu 7.4.0-1ubuntu1~18.04.1) 7.4.0
NIC: Broadcom Inc. brcm_57414 25000 Mbps
Target: x86_64-native-linuxapp-gcc
Fail/Total: 0/2
Detail performance results:
+------------+---------+-------------------------------------+
| frame_size | txd/rxd | throughput difference from expected |
+============+=========+=====================================+
| 64 | 512 | -0.005 |
+------------+---------+-------------------------------------+
| 64 | 2048 | -0.069 |
+------------+---------+-------------------------------------+
To view detailed results, visit:
https://lab.dpdk.org/results/dashboard/patchsets/11891/
UNH-IOL DPDK Community Lab
To manage your email subscriptions, visit:
https://lab.dpdk.org/results/dashboard/preferences/subscriptions/
^ permalink raw reply [flat|nested] 5+ messages in thread
* [dpdk-test-report] |SUCCESS| pw73378 [PATCH v2] rawdev: fix to remove EXPERIMENTAL from comment
[not found] <20200707085407.12555-1-hemant.agrawal@nxp.com>
@ 2020-07-07 8:58 ` checkpatch
0 siblings, 0 replies; 5+ messages in thread
From: checkpatch @ 2020-07-07 8:58 UTC (permalink / raw)
To: test-report
Test-Label: checkpatch
Test-Status: SUCCESS
http://dpdk.org/patch/73378
_coding style OK_
^ permalink raw reply [flat|nested] 5+ messages in thread
end of thread, other threads:[~2020-07-10 5:27 UTC | newest]
Thread overview: 5+ messages (download: mbox.gz / follow: Atom feed)
-- links below jump to the message on this page --
2020-07-09 4:42 [dpdk-test-report] |SUCCESS| pw73378 [PATCH] [v2] rawdev: fix to remove EXPERIMENTAL from comment dpdklab
-- strict thread matches above, loose matches on Subject: below --
2020-07-10 5:27 dpdklab
2020-07-08 20:33 dpdklab
2020-07-07 20:46 dpdklab
[not found] <20200707085407.12555-1-hemant.agrawal@nxp.com>
2020-07-07 8:58 ` [dpdk-test-report] |SUCCESS| pw73378 [PATCH v2] " checkpatch
This is a public inbox, see mirroring instructions
for how to clone and mirror all data and code used for this inbox;
as well as URLs for NNTP newsgroup(s).