[-- Attachment #1: Type: text/plain, Size: 1284 bytes --] Test-Label: iol-broadcom-Performance Test-Status: SUCCESS http://dpdk.org/patch/73540 _Performance Testing PASS_ Submitter: Medvedkin, Vladimir <vladimir.medvedkin@intel.com> Date: Wednesday, July 08 2020 20:16:06 DPDK git baseline: Repo:dpdk Branch: master CommitID:a8550b773184c202cee408aee8621d682ccb21dc 73540-73547 --> performance testing pass Test environment and result as below: Ubuntu 18.04 Kernel: 4.15.0-65-generic Compiler: gcc gcc (Ubuntu 7.4.0-1ubuntu1~18.04.1) 7.4.0 NIC: Broadcom Inc. brcm_57414 25000 Mbps Target: x86_64-native-linuxapp-gcc Fail/Total: 0/2 Detail performance results: +------------+---------+-------------------------------------+ | frame_size | txd/rxd | throughput difference from expected | +============+=========+=====================================+ | 64 | 512 | 0.079 | +------------+---------+-------------------------------------+ | 64 | 2048 | 0 | +------------+---------+-------------------------------------+ To view detailed results, visit: https://lab.dpdk.org/results/dashboard/patchsets/11944/ UNH-IOL DPDK Community Lab To manage your email subscriptions, visit: https://lab.dpdk.org/results/dashboard/preferences/subscriptions/
[-- Attachment #1: Type: text/plain, Size: 2928 bytes --] Test-Label: iol-testing Test-Status: SUCCESS http://dpdk.org/patch/73540 _Testing PASS_ Submitter: Medvedkin, Vladimir <vladimir.medvedkin@intel.com> Date: Wednesday, July 08 2020 20:16:06 DPDK git baseline: Repo:dpdk Branch: master CommitID:a8550b773184c202cee408aee8621d682ccb21dc 73540-73547 --> testing pass Test environment and result as below: +---------------------+--------------------+--------------+----------------+-------------------+------------------+ | Environment | dpdk_meson_compile | dpdk_compile | dpdk_unit_test | dpdk_compile_spdk | dpdk_compile_ovs | +=====================+====================+==============+================+===================+==================+ | Windows Server 2019 | PASS | SKIPPED | SKIPPED | SKIPPED | SKIPPED | +---------------------+--------------------+--------------+----------------+-------------------+------------------+ | FreeBSD 11.2 | PASS | PASS | SKIPPED | PASS | SKIPPED | +---------------------+--------------------+--------------+----------------+-------------------+------------------+ | Ubuntu 18.04 | PASS | PASS | PASS | PASS | PASS | +---------------------+--------------------+--------------+----------------+-------------------+------------------+ | Fedora 31 | PASS | PASS | SKIPPED | PASS | PASS | +---------------------+--------------------+--------------+----------------+-------------------+------------------+ | CentOS 8 | PASS | PASS | SKIPPED | PASS | PASS | +---------------------+--------------------+--------------+----------------+-------------------+------------------+ | openSUSE Leap 15 | PASS | PASS | SKIPPED | PASS | PASS | +---------------------+--------------------+--------------+----------------+-------------------+------------------+ | Arch Linux | PASS | PASS | SKIPPED | SKIPPED | PASS | +---------------------+--------------------+--------------+----------------+-------------------+------------------+ Windows Server 2019 Kernel: 10.0 Compiler: clang 9.0 FreeBSD 11.2 Kernel: 11.2 Compiler: gcc 8.3 Ubuntu 18.04 Kernel: 4.15.0-generic Compiler: gcc 7.4 Fedora 31 Kernel: 5.3.16 Compiler: gcc 9.2.1 CentOS 8 Kernel: 4.18.0.el8_0 Compiler: gcc 8.3.1 openSUSE Leap 15 Kernel: 4.12.14 Compiler: gcc 7.4.1 Arch Linux Kernel: latest Compiler: gcc latest To view detailed results, visit: https://lab.dpdk.org/results/dashboard/patchsets/11944/ UNH-IOL DPDK Community Lab To manage your email subscriptions, visit: https://lab.dpdk.org/results/dashboard/preferences/subscriptions/
[-- Attachment #1: Type: text/plain, Size: 1932 bytes --] Test-Label: iol-intel-Performance Test-Status: SUCCESS http://dpdk.org/patch/73540 _Performance Testing PASS_ Submitter: Vladimir Medvedkin <vladimir.medvedkin@intel.com> Date: Wednesday, July 08 2020 20:16:06 DPDK git baseline: Repo:dpdk Branch: master CommitID:a8550b773184c202cee408aee8621d682ccb21dc 73540-73547 --> performance testing pass Test environment and result as below: Ubuntu 18.04 Kernel: 4.15.0-generic Compiler: gcc 7.4 NIC: Intel Corporation Ethernet Converged Network Adapter XL710-QDA2 40000 Mbps Target: x86_64-native-linuxapp-gcc Fail/Total: 0/2 Detail performance results: +------------+---------+-------------------------------------+ | frame_size | txd/rxd | throughput difference from expected | +============+=========+=====================================+ | 64 | 512 | 4.275 | +------------+---------+-------------------------------------+ | 64 | 2048 | 2.966 | +------------+---------+-------------------------------------+ Ubuntu 18.04 Kernel: 4.15.0-generic Compiler: gcc 7.4 NIC: Intel Corporation Ethernet Converged Network Adapter 82599ES 10000 Mbps Target: x86_64-native-linuxapp-gcc Fail/Total: 0/2 Detail performance results: +------------+---------+-------------------------------------+ | frame_size | txd/rxd | throughput difference from expected | +============+=========+=====================================+ | 64 | 512 | 2.820 | +------------+---------+-------------------------------------+ | 64 | 2048 | 0.667 | +------------+---------+-------------------------------------+ To view detailed results, visit: https://lab.dpdk.org/results/dashboard/patchsets/11944/ UNH-IOL DPDK Community Lab To manage your email subscriptions, visit: https://lab.dpdk.org/results/dashboard/preferences/subscriptions/