automatic DPDK test reports
 help / color / mirror / Atom feed
* [dpdk-test-report] |SUCCESS| pw73581 [PATCH] devtools: fix ninja break under default DESTDIR path
@ 2020-07-09 21:18 dpdklab
  0 siblings, 0 replies; 7+ messages in thread
From: dpdklab @ 2020-07-09 21:18 UTC (permalink / raw)
  To: Ajit Khaparde, Test Report; +Cc: dpdk-test-reports

[-- Attachment #1: Type: text/plain, Size: 1256 bytes --]

Test-Label: iol-broadcom-Performance
Test-Status: SUCCESS
http://dpdk.org/patch/73581

_Performance Testing PASS_

Submitter: Phil Yang <phil.yang@arm.com>
Date: Thursday, July 09 2020 06:53:05 
DPDK git baseline: Repo:dpdk
  Branch: master
  CommitID:048db4b6dcccaee9277ce5b4fbb2fe684b212e22

73581 --> performance testing pass

Test environment and result as below:

Ubuntu 18.04
Kernel: 4.15.0-65-generic
Compiler: gcc gcc (Ubuntu 7.4.0-1ubuntu1~18.04.1) 7.4.0
NIC: Broadcom Inc. brcm_57414 25000 Mbps
Target: x86_64-native-linuxapp-gcc
Fail/Total: 0/2

Detail performance results: 
+------------+---------+-------------------------------------+
| frame_size | txd/rxd | throughput difference from expected |
+============+=========+=====================================+
| 64         | 512     | 0.003                               |
+------------+---------+-------------------------------------+
| 64         | 2048    | -0.006                              |
+------------+---------+-------------------------------------+

To view detailed results, visit:
https://lab.dpdk.org/results/dashboard/patchsets/11958/

UNH-IOL DPDK Community Lab

To manage your email subscriptions, visit: 
https://lab.dpdk.org/results/dashboard/preferences/subscriptions/

^ permalink raw reply	[flat|nested] 7+ messages in thread
* [dpdk-test-report] |SUCCESS| pw73581 [PATCH] devtools: fix ninja break under default DESTDIR path
@ 2020-07-11  8:20 dpdklab
  0 siblings, 0 replies; 7+ messages in thread
From: dpdklab @ 2020-07-11  8:20 UTC (permalink / raw)
  To: Test Report; +Cc: dpdk-test-reports

[-- Attachment #1: Type: text/plain, Size: 1905 bytes --]

Test-Label: iol-intel-Performance
Test-Status: SUCCESS
http://dpdk.org/patch/73581

_Performance Testing PASS_

Submitter: Phil Yang <phil.yang@arm.com>
Date: Thursday, July 09 2020 06:53:05 
DPDK git baseline: Repo:dpdk
  Branch: master
  CommitID:048db4b6dcccaee9277ce5b4fbb2fe684b212e22

73581 --> performance testing pass

Test environment and result as below:

Ubuntu 18.04
Kernel: 4.15.0-generic
Compiler: gcc 7.4
NIC: Intel Corporation Ethernet Converged Network Adapter XL710-QDA2 40000 Mbps
Target: x86_64-native-linuxapp-gcc
Fail/Total: 0/2

Detail performance results: 
+------------+---------+-------------------------------------+
| frame_size | txd/rxd | throughput difference from expected |
+============+=========+=====================================+
| 64         | 512     | 4.728                               |
+------------+---------+-------------------------------------+
| 64         | 2048    | 3.165                               |
+------------+---------+-------------------------------------+

Ubuntu 18.04
Kernel: 4.15.0-generic
Compiler: gcc 7.4
NIC: Intel Corporation Ethernet Converged Network Adapter 82599ES 10000 Mbps
Target: x86_64-native-linuxapp-gcc
Fail/Total: 0/2

Detail performance results: 
+------------+---------+-------------------------------------+
| frame_size | txd/rxd | throughput difference from expected |
+============+=========+=====================================+
| 64         | 512     | 2.577                               |
+------------+---------+-------------------------------------+
| 64         | 2048    | 0.872                               |
+------------+---------+-------------------------------------+

To view detailed results, visit:
https://lab.dpdk.org/results/dashboard/patchsets/11958/

UNH-IOL DPDK Community Lab

To manage your email subscriptions, visit: 
https://lab.dpdk.org/results/dashboard/preferences/subscriptions/

^ permalink raw reply	[flat|nested] 7+ messages in thread
* [dpdk-test-report] |SUCCESS| pw73581 [PATCH] devtools: fix ninja break under default DESTDIR path
@ 2020-07-11  7:52 dpdklab
  0 siblings, 0 replies; 7+ messages in thread
From: dpdklab @ 2020-07-11  7:52 UTC (permalink / raw)
  To: Test Report; +Cc: dpdk-test-reports

[-- Attachment #1: Type: text/plain, Size: 1905 bytes --]

Test-Label: iol-intel-Performance
Test-Status: SUCCESS
http://dpdk.org/patch/73581

_Performance Testing PASS_

Submitter: Phil Yang <phil.yang@arm.com>
Date: Thursday, July 09 2020 06:53:05 
DPDK git baseline: Repo:dpdk
  Branch: master
  CommitID:048db4b6dcccaee9277ce5b4fbb2fe684b212e22

73581 --> performance testing pass

Test environment and result as below:

Ubuntu 18.04
Kernel: 4.15.0-generic
Compiler: gcc 7.4
NIC: Intel Corporation Ethernet Converged Network Adapter XL710-QDA2 40000 Mbps
Target: x86_64-native-linuxapp-gcc
Fail/Total: 0/2

Detail performance results: 
+------------+---------+-------------------------------------+
| frame_size | txd/rxd | throughput difference from expected |
+============+=========+=====================================+
| 64         | 512     | 4.887                               |
+------------+---------+-------------------------------------+
| 64         | 2048    | 2.886                               |
+------------+---------+-------------------------------------+

Ubuntu 18.04
Kernel: 4.15.0-generic
Compiler: gcc 7.4
NIC: Intel Corporation Ethernet Converged Network Adapter 82599ES 10000 Mbps
Target: x86_64-native-linuxapp-gcc
Fail/Total: 0/2

Detail performance results: 
+------------+---------+-------------------------------------+
| frame_size | txd/rxd | throughput difference from expected |
+============+=========+=====================================+
| 64         | 512     | 2.841                               |
+------------+---------+-------------------------------------+
| 64         | 2048    | 0.838                               |
+------------+---------+-------------------------------------+

To view detailed results, visit:
https://lab.dpdk.org/results/dashboard/patchsets/11958/

UNH-IOL DPDK Community Lab

To manage your email subscriptions, visit: 
https://lab.dpdk.org/results/dashboard/preferences/subscriptions/

^ permalink raw reply	[flat|nested] 7+ messages in thread
* [dpdk-test-report] |SUCCESS| pw73581 [PATCH] devtools: fix ninja break under default DESTDIR path
@ 2020-07-10 20:15 dpdklab
  0 siblings, 0 replies; 7+ messages in thread
From: dpdklab @ 2020-07-10 20:15 UTC (permalink / raw)
  To: Test Report; +Cc: dpdk-test-reports

[-- Attachment #1: Type: text/plain, Size: 2900 bytes --]

Test-Label: iol-testing
Test-Status: SUCCESS
http://dpdk.org/patch/73581

_Testing PASS_

Submitter: Phil Yang <phil.yang@arm.com>
Date: Thursday, July 09 2020 06:53:05 
DPDK git baseline: Repo:dpdk
  Branch: master
  CommitID:048db4b6dcccaee9277ce5b4fbb2fe684b212e22

73581 --> testing pass

Test environment and result as below:

+---------------------+--------------------+-------------------+----------------+------------------+--------------+
|     Environment     | dpdk_meson_compile | dpdk_compile_spdk | dpdk_unit_test | dpdk_compile_ovs | dpdk_compile |
+=====================+====================+===================+================+==================+==============+
| Windows Server 2019 | PASS               | SKIPPED           | SKIPPED        | SKIPPED          | SKIPPED      |
+---------------------+--------------------+-------------------+----------------+------------------+--------------+
| FreeBSD 11.2        | PASS               | PASS              | SKIPPED        | SKIPPED          | PASS         |
+---------------------+--------------------+-------------------+----------------+------------------+--------------+
| CentOS 8            | PASS               | PASS              | SKIPPED        | PASS             | PASS         |
+---------------------+--------------------+-------------------+----------------+------------------+--------------+
| openSUSE Leap 15    | PASS               | PASS              | SKIPPED        | PASS             | PASS         |
+---------------------+--------------------+-------------------+----------------+------------------+--------------+
| Fedora 31           | PASS               | PASS              | SKIPPED        | PASS             | PASS         |
+---------------------+--------------------+-------------------+----------------+------------------+--------------+
| Ubuntu 18.04        | PASS               | PASS              | PASS           | PASS             | PASS         |
+---------------------+--------------------+-------------------+----------------+------------------+--------------+
| Arch Linux          | PASS               | SKIPPED           | SKIPPED        | PASS             | PASS         |
+---------------------+--------------------+-------------------+----------------+------------------+--------------+

Windows Server 2019
	Kernel: 10.0
	Compiler: clang 9.0

FreeBSD 11.2
	Kernel: 11.2
	Compiler: gcc 8.3

CentOS 8
	Kernel: 4.18.0.el8_0
	Compiler: gcc 8.3.1

openSUSE Leap 15
	Kernel: 4.12.14
	Compiler: gcc 7.4.1

Fedora 31
	Kernel: 5.3.16
	Compiler: gcc 9.2.1

Ubuntu 18.04
	Kernel: 4.15.0-generic
	Compiler: gcc 7.4

Arch Linux
	Kernel: latest
	Compiler: gcc latest

To view detailed results, visit:
https://lab.dpdk.org/results/dashboard/patchsets/11958/

UNH-IOL DPDK Community Lab

To manage your email subscriptions, visit: 
https://lab.dpdk.org/results/dashboard/preferences/subscriptions/

^ permalink raw reply	[flat|nested] 7+ messages in thread
* [dpdk-test-report] |SUCCESS| pw73581 [PATCH] devtools: fix ninja break under default DESTDIR path
@ 2020-07-10 19:25 dpdklab
  0 siblings, 0 replies; 7+ messages in thread
From: dpdklab @ 2020-07-10 19:25 UTC (permalink / raw)
  To: Test Report; +Cc: dpdk-test-reports

[-- Attachment #1: Type: text/plain, Size: 2900 bytes --]

Test-Label: iol-testing
Test-Status: SUCCESS
http://dpdk.org/patch/73581

_Testing PASS_

Submitter: Phil Yang <phil.yang@arm.com>
Date: Thursday, July 09 2020 06:53:05 
DPDK git baseline: Repo:dpdk
  Branch: master
  CommitID:048db4b6dcccaee9277ce5b4fbb2fe684b212e22

73581 --> testing pass

Test environment and result as below:

+---------------------+--------------------+--------------+----------------+-------------------+------------------+
|     Environment     | dpdk_meson_compile | dpdk_compile | dpdk_unit_test | dpdk_compile_spdk | dpdk_compile_ovs |
+=====================+====================+==============+================+===================+==================+
| Windows Server 2019 | PASS               | SKIPPED      | SKIPPED        | SKIPPED           | SKIPPED          |
+---------------------+--------------------+--------------+----------------+-------------------+------------------+
| FreeBSD 11.2        | PASS               | PASS         | SKIPPED        | PASS              | SKIPPED          |
+---------------------+--------------------+--------------+----------------+-------------------+------------------+
| Ubuntu 18.04        | PASS               | PASS         | PASS           | PASS              | PASS             |
+---------------------+--------------------+--------------+----------------+-------------------+------------------+
| openSUSE Leap 15    | PASS               | PASS         | SKIPPED        | PASS              | PASS             |
+---------------------+--------------------+--------------+----------------+-------------------+------------------+
| Fedora 31           | PASS               | PASS         | SKIPPED        | PASS              | PASS             |
+---------------------+--------------------+--------------+----------------+-------------------+------------------+
| CentOS 8            | PASS               | PASS         | SKIPPED        | PASS              | PASS             |
+---------------------+--------------------+--------------+----------------+-------------------+------------------+
| Arch Linux          | PASS               | PASS         | SKIPPED        | SKIPPED           | PASS             |
+---------------------+--------------------+--------------+----------------+-------------------+------------------+

Windows Server 2019
	Kernel: 10.0
	Compiler: clang 9.0

FreeBSD 11.2
	Kernel: 11.2
	Compiler: gcc 8.3

Ubuntu 18.04
	Kernel: 4.15.0-generic
	Compiler: gcc 7.4

openSUSE Leap 15
	Kernel: 4.12.14
	Compiler: gcc 7.4.1

Fedora 31
	Kernel: 5.3.16
	Compiler: gcc 9.2.1

CentOS 8
	Kernel: 4.18.0.el8_0
	Compiler: gcc 8.3.1

Arch Linux
	Kernel: latest
	Compiler: gcc latest

To view detailed results, visit:
https://lab.dpdk.org/results/dashboard/patchsets/11958/

UNH-IOL DPDK Community Lab

To manage your email subscriptions, visit: 
https://lab.dpdk.org/results/dashboard/preferences/subscriptions/

^ permalink raw reply	[flat|nested] 7+ messages in thread
* [dpdk-test-report] |SUCCESS| pw73581 [PATCH] devtools: fix ninja break under default DESTDIR path
@ 2020-07-09 21:10 dpdklab
  0 siblings, 0 replies; 7+ messages in thread
From: dpdklab @ 2020-07-09 21:10 UTC (permalink / raw)
  To: Ajit Khaparde, Test Report; +Cc: dpdk-test-reports

[-- Attachment #1: Type: text/plain, Size: 1256 bytes --]

Test-Label: iol-broadcom-Performance
Test-Status: SUCCESS
http://dpdk.org/patch/73581

_Performance Testing PASS_

Submitter: Phil Yang <phil.yang@arm.com>
Date: Thursday, July 09 2020 06:53:05 
DPDK git baseline: Repo:dpdk
  Branch: master
  CommitID:048db4b6dcccaee9277ce5b4fbb2fe684b212e22

73581 --> performance testing pass

Test environment and result as below:

Ubuntu 18.04
Kernel: 4.15.0-65-generic
Compiler: gcc gcc (Ubuntu 7.4.0-1ubuntu1~18.04.1) 7.4.0
NIC: Broadcom Inc. brcm_57414 25000 Mbps
Target: x86_64-native-linuxapp-gcc
Fail/Total: 0/2

Detail performance results: 
+------------+---------+-------------------------------------+
| frame_size | txd/rxd | throughput difference from expected |
+============+=========+=====================================+
| 64         | 512     | 0.093                               |
+------------+---------+-------------------------------------+
| 64         | 2048    | -0.089                              |
+------------+---------+-------------------------------------+

To view detailed results, visit:
https://lab.dpdk.org/results/dashboard/patchsets/11958/

UNH-IOL DPDK Community Lab

To manage your email subscriptions, visit: 
https://lab.dpdk.org/results/dashboard/preferences/subscriptions/

^ permalink raw reply	[flat|nested] 7+ messages in thread
[parent not found: <1594277585-15281-1-git-send-email-phil.yang@arm.com>]

end of thread, other threads:[~2020-07-11  8:20 UTC | newest]

Thread overview: 7+ messages (download: mbox.gz / follow: Atom feed)
-- links below jump to the message on this page --
2020-07-09 21:18 [dpdk-test-report] |SUCCESS| pw73581 [PATCH] devtools: fix ninja break under default DESTDIR path dpdklab
  -- strict thread matches above, loose matches on Subject: below --
2020-07-11  8:20 dpdklab
2020-07-11  7:52 dpdklab
2020-07-10 20:15 dpdklab
2020-07-10 19:25 dpdklab
2020-07-09 21:10 dpdklab
     [not found] <1594277585-15281-1-git-send-email-phil.yang@arm.com>
2020-07-09  6:54 ` checkpatch

automatic DPDK test reports

This inbox may be cloned and mirrored by anyone:

	git clone --mirror https://inbox.dpdk.org/test-report/0 test-report/git/0.git

	# If you have public-inbox 1.1+ installed, you may
	# initialize and index your mirror using the following commands:
	public-inbox-init -V2 test-report test-report/ https://inbox.dpdk.org/test-report \
		test-report@dpdk.org
	public-inbox-index test-report

Example config snippet for mirrors.
Newsgroup available over NNTP:
	nntp://inbox.dpdk.org/inbox.dpdk.test-report


AGPL code for this site: git clone https://public-inbox.org/public-inbox.git