automatic DPDK test reports
 help / color / mirror / Atom feed
From: dpdklab@iol.unh.edu
To: Test Report <test-report@dpdk.org>
Cc: dpdk-test-reports@iol.unh.edu
Subject: [dpdk-test-report] |SUCCESS| pw73641 [PATCH] [v3] service: support C++ linkage
Date: Fri, 10 Jul 2020 05:17:45 -0400 (EDT)
Message-ID: <20200710091745.B7AD06D437@noxus.dpdklab.iol.unh.edu> (raw)

[-- Attachment #1: Type: text/plain, Size: 2907 bytes --]

Test-Label: iol-testing
Test-Status: SUCCESS
http://dpdk.org/patch/73641

_Testing PASS_

Submitter: Levend Sayar <levendsayar@gmail.com>
Date: Thursday, July 09 2020 12:32:16 
DPDK git baseline: Repo:dpdk
  Branch: master
  CommitID:048db4b6dcccaee9277ce5b4fbb2fe684b212e22

73641 --> testing pass

Test environment and result as below:

+---------------------+--------------------+-------------------+------------------+----------------+--------------+
|     Environment     | dpdk_meson_compile | dpdk_compile_spdk | dpdk_compile_ovs | dpdk_unit_test | dpdk_compile |
+=====================+====================+===================+==================+================+==============+
| Windows Server 2019 | PASS               | SKIPPED           | SKIPPED          | SKIPPED        | SKIPPED      |
+---------------------+--------------------+-------------------+------------------+----------------+--------------+
| FreeBSD 11.2        | PASS               | PASS              | SKIPPED          | SKIPPED        | PASS         |
+---------------------+--------------------+-------------------+------------------+----------------+--------------+
| openSUSE Leap 15    | PASS               | PASS              | PASS             | SKIPPED        | PASS         |
+---------------------+--------------------+-------------------+------------------+----------------+--------------+
| Ubuntu 18.04        | PASS               | PASS              | PASS             | PASS           | PASS         |
+---------------------+--------------------+-------------------+------------------+----------------+--------------+
| CentOS 8            | PASS               | PASS              | PASS             | SKIPPED        | PASS         |
+---------------------+--------------------+-------------------+------------------+----------------+--------------+
| Arch Linux          | PASS               | SKIPPED           | PASS             | SKIPPED        | PASS         |
+---------------------+--------------------+-------------------+------------------+----------------+--------------+
| Fedora 31           | PASS               | PASS              | PASS             | SKIPPED        | PASS         |
+---------------------+--------------------+-------------------+------------------+----------------+--------------+

Windows Server 2019
	Kernel: 10.0
	Compiler: clang 9.0

FreeBSD 11.2
	Kernel: 11.2
	Compiler: gcc 8.3

openSUSE Leap 15
	Kernel: 4.12.14
	Compiler: gcc 7.4.1

Ubuntu 18.04
	Kernel: 4.15.0-generic
	Compiler: gcc 7.4

CentOS 8
	Kernel: 4.18.0.el8_0
	Compiler: gcc 8.3.1

Arch Linux
	Kernel: latest
	Compiler: gcc latest

Fedora 31
	Kernel: 5.3.16
	Compiler: gcc 9.2.1

To view detailed results, visit:
https://lab.dpdk.org/results/dashboard/patchsets/11974/

UNH-IOL DPDK Community Lab

To manage your email subscriptions, visit: 
https://lab.dpdk.org/results/dashboard/preferences/subscriptions/

             reply	other threads:[~2020-07-10  9:17 UTC|newest]

Thread overview: 7+ messages / expand[flat|nested]  mbox.gz  Atom feed  top
2020-07-10  9:17 dpdklab [this message]
  -- strict thread matches above, loose matches on Subject: below --
2020-07-11  1:02 dpdklab
2020-07-11  0:34 dpdklab
2020-07-10 10:06 dpdklab
2020-07-09 18:15 dpdklab
2020-07-09 18:07 dpdklab
     [not found] <20200709123216.47707-1-levendsayar@gmail.com>
2020-07-09 12:33 ` [dpdk-test-report] |SUCCESS| pw73641 [PATCH v3] " checkpatch

Reply instructions:

You may reply publicly to this message via plain-text email
using any one of the following methods:

* Save the following mbox file, import it into your mail client,
  and reply-to-all from there: mbox

  Avoid top-posting and favor interleaved quoting:
  https://en.wikipedia.org/wiki/Posting_style#Interleaved_style

* Reply using the --to, --cc, and --in-reply-to
  switches of git-send-email(1):

  git send-email \
    --in-reply-to=20200710091745.B7AD06D437@noxus.dpdklab.iol.unh.edu \
    --to=dpdklab@iol.unh.edu \
    --cc=dpdk-test-reports@iol.unh.edu \
    --cc=test-report@dpdk.org \
    /path/to/YOUR_REPLY

  https://kernel.org/pub/software/scm/git/docs/git-send-email.html

* If your mail client supports setting the In-Reply-To header
  via mailto: links, try the mailto: link

automatic DPDK test reports

This inbox may be cloned and mirrored by anyone:

	git clone --mirror https://inbox.dpdk.org/test-report/0 test-report/git/0.git

	# If you have public-inbox 1.1+ installed, you may
	# initialize and index your mirror using the following commands:
	public-inbox-init -V2 test-report test-report/ https://inbox.dpdk.org/test-report \
		test-report@dpdk.org
	public-inbox-index test-report

Example config snippet for mirrors.
Newsgroup available over NNTP:
	nntp://inbox.dpdk.org/inbox.dpdk.test-report


AGPL code for this site: git clone https://public-inbox.org/public-inbox.git