automatic DPDK test reports
 help / color / mirror / Atom feed
* [dpdk-test-report] |SUCCESS| pw73713 [PATCH] eal/linux: truncate thread name
       [not found] <20200710094551.3716-1-david.marchand@redhat.com>
@ 2020-07-10  9:46 ` checkpatch
  2020-07-10 11:55 ` [dpdk-test-report] || pw73713 " 0-day Robot
  1 sibling, 0 replies; 5+ messages in thread
From: checkpatch @ 2020-07-10  9:46 UTC (permalink / raw)
  To: test-report

Test-Label: checkpatch
Test-Status: SUCCESS
http://dpdk.org/patch/73713

_coding style OK_



^ permalink raw reply	[flat|nested] 5+ messages in thread

* [dpdk-test-report] || pw73713 eal/linux: truncate thread name
       [not found] <20200710094551.3716-1-david.marchand@redhat.com>
  2020-07-10  9:46 ` [dpdk-test-report] |SUCCESS| pw73713 [PATCH] eal/linux: truncate thread name checkpatch
@ 2020-07-10 11:55 ` 0-day Robot
  1 sibling, 0 replies; 5+ messages in thread
From: 0-day Robot @ 2020-07-10 11:55 UTC (permalink / raw)
  To: test-report; +Cc: david.marchand, robot

From: robot@bytheb.org

Test-Label: travis-robot
Test-Status: 
http://dpdk.org/patch/73713

_Travis build: errored_
Build URL: https://travis-ci.com/ovsrobot/dpdk/builds/175126530

^ permalink raw reply	[flat|nested] 5+ messages in thread

* [dpdk-test-report] |SUCCESS| pw73713 [PATCH] eal/linux: truncate thread name
@ 2020-07-11 15:07 dpdklab
  0 siblings, 0 replies; 5+ messages in thread
From: dpdklab @ 2020-07-11 15:07 UTC (permalink / raw)
  To: Test Report; +Cc: dpdk-test-reports

[-- Attachment #1: Type: text/plain, Size: 1916 bytes --]

Test-Label: iol-intel-Performance
Test-Status: SUCCESS
http://dpdk.org/patch/73713

_Performance Testing PASS_

Submitter: David Marchand <david.marchand@redhat.com>
Date: Friday, July 10 2020 09:45:50 
DPDK git baseline: Repo:dpdk
  Branch: master
  CommitID:2d6ed071a8b93ead509ff26914bdb8938efd7543

73713 --> performance testing pass

Test environment and result as below:

Ubuntu 18.04
Kernel: 4.15.0-generic
Compiler: gcc 7.4
NIC: Intel Corporation Ethernet Converged Network Adapter XL710-QDA2 40000 Mbps
Target: x86_64-native-linuxapp-gcc
Fail/Total: 0/2

Detail performance results: 
+------------+---------+-------------------------------------+
| frame_size | txd/rxd | throughput difference from expected |
+============+=========+=====================================+
| 64         | 512     | 4.760                               |
+------------+---------+-------------------------------------+
| 64         | 2048    | 3.015                               |
+------------+---------+-------------------------------------+

Ubuntu 18.04
Kernel: 4.15.0-generic
Compiler: gcc 7.4
NIC: Intel Corporation Ethernet Converged Network Adapter 82599ES 10000 Mbps
Target: x86_64-native-linuxapp-gcc
Fail/Total: 0/2

Detail performance results: 
+------------+---------+-------------------------------------+
| frame_size | txd/rxd | throughput difference from expected |
+============+=========+=====================================+
| 64         | 512     | 2.748                               |
+------------+---------+-------------------------------------+
| 64         | 2048    | 1.045                               |
+------------+---------+-------------------------------------+

To view detailed results, visit:
https://lab.dpdk.org/results/dashboard/patchsets/11990/

UNH-IOL DPDK Community Lab

To manage your email subscriptions, visit: 
https://lab.dpdk.org/results/dashboard/preferences/subscriptions/

^ permalink raw reply	[flat|nested] 5+ messages in thread

* [dpdk-test-report] |SUCCESS| pw73713 [PATCH] eal/linux: truncate thread name
@ 2020-07-11  6:37 dpdklab
  0 siblings, 0 replies; 5+ messages in thread
From: dpdklab @ 2020-07-11  6:37 UTC (permalink / raw)
  To: Test Report; +Cc: dpdk-test-reports

[-- Attachment #1: Type: text/plain, Size: 2911 bytes --]

Test-Label: iol-testing
Test-Status: SUCCESS
http://dpdk.org/patch/73713

_Testing PASS_

Submitter: David Marchand <david.marchand@redhat.com>
Date: Friday, July 10 2020 09:45:50 
DPDK git baseline: Repo:dpdk
  Branch: master
  CommitID:2d6ed071a8b93ead509ff26914bdb8938efd7543

73713 --> testing pass

Test environment and result as below:

+---------------------+--------------------+-------------------+----------------+------------------+--------------+
|     Environment     | dpdk_meson_compile | dpdk_compile_spdk | dpdk_unit_test | dpdk_compile_ovs | dpdk_compile |
+=====================+====================+===================+================+==================+==============+
| Windows Server 2019 | PASS               | SKIPPED           | SKIPPED        | SKIPPED          | SKIPPED      |
+---------------------+--------------------+-------------------+----------------+------------------+--------------+
| FreeBSD 11.2        | PASS               | PASS              | SKIPPED        | SKIPPED          | PASS         |
+---------------------+--------------------+-------------------+----------------+------------------+--------------+
| Fedora 31           | PASS               | PASS              | SKIPPED        | PASS             | PASS         |
+---------------------+--------------------+-------------------+----------------+------------------+--------------+
| Ubuntu 18.04        | PASS               | PASS              | PASS           | PASS             | PASS         |
+---------------------+--------------------+-------------------+----------------+------------------+--------------+
| CentOS 8            | PASS               | PASS              | SKIPPED        | PASS             | PASS         |
+---------------------+--------------------+-------------------+----------------+------------------+--------------+
| openSUSE Leap 15    | PASS               | PASS              | SKIPPED        | PASS             | PASS         |
+---------------------+--------------------+-------------------+----------------+------------------+--------------+
| Arch Linux          | PASS               | SKIPPED           | SKIPPED        | PASS             | PASS         |
+---------------------+--------------------+-------------------+----------------+------------------+--------------+

Windows Server 2019
	Kernel: 10.0
	Compiler: clang 9.0

FreeBSD 11.2
	Kernel: 11.2
	Compiler: gcc 8.3

Fedora 31
	Kernel: 5.3.16
	Compiler: gcc 9.2.1

Ubuntu 18.04
	Kernel: 4.15.0-generic
	Compiler: gcc 7.4

CentOS 8
	Kernel: 4.18.0.el8_0
	Compiler: gcc 8.3.1

openSUSE Leap 15
	Kernel: 4.12.14
	Compiler: gcc 7.4.1

Arch Linux
	Kernel: latest
	Compiler: gcc latest

To view detailed results, visit:
https://lab.dpdk.org/results/dashboard/patchsets/11990/

UNH-IOL DPDK Community Lab

To manage your email subscriptions, visit: 
https://lab.dpdk.org/results/dashboard/preferences/subscriptions/

^ permalink raw reply	[flat|nested] 5+ messages in thread

* [dpdk-test-report] |SUCCESS| pw73713 [PATCH] eal/linux: truncate thread name
@ 2020-07-10 10:59 dpdklab
  0 siblings, 0 replies; 5+ messages in thread
From: dpdklab @ 2020-07-10 10:59 UTC (permalink / raw)
  To: Ajit Khaparde, Test Report; +Cc: dpdk-test-reports

[-- Attachment #1: Type: text/plain, Size: 1267 bytes --]

Test-Label: iol-broadcom-Performance
Test-Status: SUCCESS
http://dpdk.org/patch/73713

_Performance Testing PASS_

Submitter: David Marchand <david.marchand@redhat.com>
Date: Friday, July 10 2020 09:45:50 
DPDK git baseline: Repo:dpdk
  Branch: master
  CommitID:2d6ed071a8b93ead509ff26914bdb8938efd7543

73713 --> performance testing pass

Test environment and result as below:

Ubuntu 18.04
Kernel: 4.15.0-65-generic
Compiler: gcc gcc (Ubuntu 7.4.0-1ubuntu1~18.04.1) 7.4.0
NIC: Broadcom Inc. brcm_57414 25000 Mbps
Target: x86_64-native-linuxapp-gcc
Fail/Total: 0/2

Detail performance results: 
+------------+---------+-------------------------------------+
| frame_size | txd/rxd | throughput difference from expected |
+============+=========+=====================================+
| 64         | 512     | 0.091                               |
+------------+---------+-------------------------------------+
| 64         | 2048    | -0.003                              |
+------------+---------+-------------------------------------+

To view detailed results, visit:
https://lab.dpdk.org/results/dashboard/patchsets/11990/

UNH-IOL DPDK Community Lab

To manage your email subscriptions, visit: 
https://lab.dpdk.org/results/dashboard/preferences/subscriptions/

^ permalink raw reply	[flat|nested] 5+ messages in thread

end of thread, other threads:[~2020-07-11 15:07 UTC | newest]

Thread overview: 5+ messages (download: mbox.gz / follow: Atom feed)
-- links below jump to the message on this page --
     [not found] <20200710094551.3716-1-david.marchand@redhat.com>
2020-07-10  9:46 ` [dpdk-test-report] |SUCCESS| pw73713 [PATCH] eal/linux: truncate thread name checkpatch
2020-07-10 11:55 ` [dpdk-test-report] || pw73713 " 0-day Robot
2020-07-11 15:07 [dpdk-test-report] |SUCCESS| pw73713 [PATCH] " dpdklab
  -- strict thread matches above, loose matches on Subject: below --
2020-07-11  6:37 dpdklab
2020-07-10 10:59 dpdklab

automatic DPDK test reports

This inbox may be cloned and mirrored by anyone:

	git clone --mirror https://inbox.dpdk.org/test-report/0 test-report/git/0.git

	# If you have public-inbox 1.1+ installed, you may
	# initialize and index your mirror using the following commands:
	public-inbox-init -V2 test-report test-report/ https://inbox.dpdk.org/test-report \
		test-report@dpdk.org
	public-inbox-index test-report

Example config snippet for mirrors.
Newsgroup available over NNTP:
	nntp://inbox.dpdk.org/inbox.dpdk.test-report


AGPL code for this site: git clone https://public-inbox.org/public-inbox.git