automatic DPDK test reports
 help / color / mirror / Atom feed
* [dpdk-test-report] |SUCCESS| pw73621-73622 [PATCH] [v2, 1/2] raw/ifpga/base: fix spi transaction issue
@ 2020-07-10 21:23 dpdklab
  0 siblings, 0 replies; 3+ messages in thread
From: dpdklab @ 2020-07-10 21:23 UTC (permalink / raw)
  To: Test Report; +Cc: dpdk-test-reports

[-- Attachment #1: Type: text/plain, Size: 1922 bytes --]

Test-Label: iol-intel-Performance
Test-Status: SUCCESS
http://dpdk.org/patch/73621

_Performance Testing PASS_

Submitter: Zhang, Tianfei <tianfei.zhang@intel.com>
Date: Thursday, July 09 2020 16:45:20 
DPDK git baseline: Repo:dpdk
  Branch: master
  CommitID:048db4b6dcccaee9277ce5b4fbb2fe684b212e22

73621-73622 --> performance testing pass

Test environment and result as below:

Ubuntu 18.04
Kernel: 4.15.0-generic
Compiler: gcc 7.4
NIC: Intel Corporation Ethernet Converged Network Adapter XL710-QDA2 40000 Mbps
Target: x86_64-native-linuxapp-gcc
Fail/Total: 0/2

Detail performance results: 
+------------+---------+-------------------------------------+
| frame_size | txd/rxd | throughput difference from expected |
+============+=========+=====================================+
| 64         | 512     | 4.835                               |
+------------+---------+-------------------------------------+
| 64         | 2048    | 2.717                               |
+------------+---------+-------------------------------------+

Ubuntu 18.04
Kernel: 4.15.0-generic
Compiler: gcc 7.4
NIC: Intel Corporation Ethernet Converged Network Adapter 82599ES 10000 Mbps
Target: x86_64-native-linuxapp-gcc
Fail/Total: 0/2

Detail performance results: 
+------------+---------+-------------------------------------+
| frame_size | txd/rxd | throughput difference from expected |
+============+=========+=====================================+
| 64         | 512     | 2.778                               |
+------------+---------+-------------------------------------+
| 64         | 2048    | 0.879                               |
+------------+---------+-------------------------------------+

To view detailed results, visit:
https://lab.dpdk.org/results/dashboard/patchsets/11966/

UNH-IOL DPDK Community Lab

To manage your email subscriptions, visit: 
https://lab.dpdk.org/results/dashboard/preferences/subscriptions/

^ permalink raw reply	[flat|nested] 3+ messages in thread

* [dpdk-test-report] |SUCCESS| pw73621-73622 [PATCH] [v2, 1/2] raw/ifpga/base: fix spi transaction issue
@ 2020-07-10  3:28 dpdklab
  0 siblings, 0 replies; 3+ messages in thread
From: dpdklab @ 2020-07-10  3:28 UTC (permalink / raw)
  To: Test Report; +Cc: dpdk-test-reports

[-- Attachment #1: Type: text/plain, Size: 2917 bytes --]

Test-Label: iol-testing
Test-Status: SUCCESS
http://dpdk.org/patch/73621

_Testing PASS_

Submitter: Zhang, Tianfei <tianfei.zhang@intel.com>
Date: Thursday, July 09 2020 16:45:20 
DPDK git baseline: Repo:dpdk
  Branch: master
  CommitID:048db4b6dcccaee9277ce5b4fbb2fe684b212e22

73621-73622 --> testing pass

Test environment and result as below:

+---------------------+--------------------+------------------+-------------------+----------------+--------------+
|     Environment     | dpdk_meson_compile | dpdk_compile_ovs | dpdk_compile_spdk | dpdk_unit_test | dpdk_compile |
+=====================+====================+==================+===================+================+==============+
| Windows Server 2019 | PASS               | SKIPPED          | SKIPPED           | SKIPPED        | SKIPPED      |
+---------------------+--------------------+------------------+-------------------+----------------+--------------+
| FreeBSD 11.2        | PASS               | SKIPPED          | PASS              | SKIPPED        | PASS         |
+---------------------+--------------------+------------------+-------------------+----------------+--------------+
| Ubuntu 18.04        | PASS               | PASS             | PASS              | PASS           | PASS         |
+---------------------+--------------------+------------------+-------------------+----------------+--------------+
| CentOS 8            | PASS               | PASS             | PASS              | SKIPPED        | PASS         |
+---------------------+--------------------+------------------+-------------------+----------------+--------------+
| Arch Linux          | PASS               | PASS             | SKIPPED           | SKIPPED        | PASS         |
+---------------------+--------------------+------------------+-------------------+----------------+--------------+
| Fedora 31           | PASS               | PASS             | PASS              | SKIPPED        | PASS         |
+---------------------+--------------------+------------------+-------------------+----------------+--------------+
| openSUSE Leap 15    | PASS               | PASS             | PASS              | SKIPPED        | PASS         |
+---------------------+--------------------+------------------+-------------------+----------------+--------------+

Windows Server 2019
	Kernel: 10.0
	Compiler: clang 9.0

FreeBSD 11.2
	Kernel: 11.2
	Compiler: gcc 8.3

Ubuntu 18.04
	Kernel: 4.15.0-generic
	Compiler: gcc 7.4

CentOS 8
	Kernel: 4.18.0.el8_0
	Compiler: gcc 8.3.1

Arch Linux
	Kernel: latest
	Compiler: gcc latest

Fedora 31
	Kernel: 5.3.16
	Compiler: gcc 9.2.1

openSUSE Leap 15
	Kernel: 4.12.14
	Compiler: gcc 7.4.1

To view detailed results, visit:
https://lab.dpdk.org/results/dashboard/patchsets/11966/

UNH-IOL DPDK Community Lab

To manage your email subscriptions, visit: 
https://lab.dpdk.org/results/dashboard/preferences/subscriptions/

^ permalink raw reply	[flat|nested] 3+ messages in thread

* [dpdk-test-report] |SUCCESS| pw73621-73622 [PATCH] [v2, 1/2] raw/ifpga/base: fix spi transaction issue
@ 2020-07-09 15:52 dpdklab
  0 siblings, 0 replies; 3+ messages in thread
From: dpdklab @ 2020-07-09 15:52 UTC (permalink / raw)
  To: Ajit Khaparde, Test Report; +Cc: dpdk-test-reports

[-- Attachment #1: Type: text/plain, Size: 1273 bytes --]

Test-Label: iol-broadcom-Performance
Test-Status: SUCCESS
http://dpdk.org/patch/73621

_Performance Testing PASS_

Submitter: Zhang, Tianfei <tianfei.zhang@intel.com>
Date: Thursday, July 09 2020 16:45:20 
DPDK git baseline: Repo:dpdk
  Branch: master
  CommitID:048db4b6dcccaee9277ce5b4fbb2fe684b212e22

73621-73622 --> performance testing pass

Test environment and result as below:

Ubuntu 18.04
Kernel: 4.15.0-65-generic
Compiler: gcc gcc (Ubuntu 7.4.0-1ubuntu1~18.04.1) 7.4.0
NIC: Broadcom Inc. brcm_57414 25000 Mbps
Target: x86_64-native-linuxapp-gcc
Fail/Total: 0/2

Detail performance results: 
+------------+---------+-------------------------------------+
| frame_size | txd/rxd | throughput difference from expected |
+============+=========+=====================================+
| 64         | 512     | 0.088                               |
+------------+---------+-------------------------------------+
| 64         | 2048    | -0.008                              |
+------------+---------+-------------------------------------+

To view detailed results, visit:
https://lab.dpdk.org/results/dashboard/patchsets/11966/

UNH-IOL DPDK Community Lab

To manage your email subscriptions, visit: 
https://lab.dpdk.org/results/dashboard/preferences/subscriptions/

^ permalink raw reply	[flat|nested] 3+ messages in thread

end of thread, other threads:[~2020-07-10 21:23 UTC | newest]

Thread overview: 3+ messages (download: mbox.gz / follow: Atom feed)
-- links below jump to the message on this page --
2020-07-10 21:23 [dpdk-test-report] |SUCCESS| pw73621-73622 [PATCH] [v2, 1/2] raw/ifpga/base: fix spi transaction issue dpdklab
  -- strict thread matches above, loose matches on Subject: below --
2020-07-10  3:28 dpdklab
2020-07-09 15:52 dpdklab

automatic DPDK test reports

This inbox may be cloned and mirrored by anyone:

	git clone --mirror https://inbox.dpdk.org/test-report/0 test-report/git/0.git

	# If you have public-inbox 1.1+ installed, you may
	# initialize and index your mirror using the following commands:
	public-inbox-init -V2 test-report test-report/ https://inbox.dpdk.org/test-report \
		test-report@dpdk.org
	public-inbox-index test-report

Example config snippet for mirrors.
Newsgroup available over NNTP:
	nntp://inbox.dpdk.org/inbox.dpdk.test-report


AGPL code for this site: git clone https://public-inbox.org/public-inbox.git