automatic DPDK test reports
 help / color / mirror / Atom feed
* [dpdk-test-report] |SUCCESS| pw73681 [PATCH] [V2] net/bonding: fix lacp negotiation failed
@ 2020-07-11  2:28 dpdklab
  0 siblings, 0 replies; 6+ messages in thread
From: dpdklab @ 2020-07-11  2:28 UTC (permalink / raw)
  To: Test Report; +Cc: dpdk-test-reports

[-- Attachment #1: Type: text/plain, Size: 2897 bytes --]

Test-Label: iol-testing
Test-Status: SUCCESS
http://dpdk.org/patch/73681

_Testing PASS_

Submitter: luyicai <luyicai@huawei.com>
Date: Friday, July 10 2020 03:29:35 
DPDK git baseline: Repo:dpdk
  Branch: master
  CommitID:2d6ed071a8b93ead509ff26914bdb8938efd7543

73681 --> testing pass

Test environment and result as below:

+---------------------+--------------------+--------------+----------------+-------------------+------------------+
|     Environment     | dpdk_meson_compile | dpdk_compile | dpdk_unit_test | dpdk_compile_spdk | dpdk_compile_ovs |
+=====================+====================+==============+================+===================+==================+
| Windows Server 2019 | PASS               | SKIPPED      | SKIPPED        | SKIPPED           | SKIPPED          |
+---------------------+--------------------+--------------+----------------+-------------------+------------------+
| Ubuntu 18.04        | PASS               | PASS         | PASS           | PASS              | PASS             |
+---------------------+--------------------+--------------+----------------+-------------------+------------------+
| FreeBSD 11.2        | PASS               | PASS         | SKIPPED        | PASS              | SKIPPED          |
+---------------------+--------------------+--------------+----------------+-------------------+------------------+
| Fedora 31           | PASS               | PASS         | SKIPPED        | PASS              | PASS             |
+---------------------+--------------------+--------------+----------------+-------------------+------------------+
| CentOS 8            | PASS               | PASS         | SKIPPED        | PASS              | PASS             |
+---------------------+--------------------+--------------+----------------+-------------------+------------------+
| Arch Linux          | PASS               | PASS         | SKIPPED        | SKIPPED           | PASS             |
+---------------------+--------------------+--------------+----------------+-------------------+------------------+
| openSUSE Leap 15    | PASS               | PASS         | SKIPPED        | PASS              | PASS             |
+---------------------+--------------------+--------------+----------------+-------------------+------------------+

Windows Server 2019
	Kernel: 10.0
	Compiler: clang 9.0

Ubuntu 18.04
	Kernel: 4.15.0-generic
	Compiler: gcc 7.4

FreeBSD 11.2
	Kernel: 11.2
	Compiler: gcc 8.3

Fedora 31
	Kernel: 5.3.16
	Compiler: gcc 9.2.1

CentOS 8
	Kernel: 4.18.0.el8_0
	Compiler: gcc 8.3.1

Arch Linux
	Kernel: latest
	Compiler: gcc latest

openSUSE Leap 15
	Kernel: 4.12.14
	Compiler: gcc 7.4.1

To view detailed results, visit:
https://lab.dpdk.org/results/dashboard/patchsets/11985/

UNH-IOL DPDK Community Lab

To manage your email subscriptions, visit: 
https://lab.dpdk.org/results/dashboard/preferences/subscriptions/

^ permalink raw reply	[flat|nested] 6+ messages in thread

* [dpdk-test-report] |SUCCESS| pw73681 [PATCH] [V2] net/bonding: fix lacp negotiation failed
@ 2020-07-11 12:23 dpdklab
  0 siblings, 0 replies; 6+ messages in thread
From: dpdklab @ 2020-07-11 12:23 UTC (permalink / raw)
  To: Test Report; +Cc: dpdk-test-reports

[-- Attachment #1: Type: text/plain, Size: 1902 bytes --]

Test-Label: iol-intel-Performance
Test-Status: SUCCESS
http://dpdk.org/patch/73681

_Performance Testing PASS_

Submitter: luyicai <luyicai@huawei.com>
Date: Friday, July 10 2020 03:29:35 
DPDK git baseline: Repo:dpdk
  Branch: master
  CommitID:2d6ed071a8b93ead509ff26914bdb8938efd7543

73681 --> performance testing pass

Test environment and result as below:

Ubuntu 18.04
Kernel: 4.15.0-generic
Compiler: gcc 7.4
NIC: Intel Corporation Ethernet Converged Network Adapter XL710-QDA2 40000 Mbps
Target: x86_64-native-linuxapp-gcc
Fail/Total: 0/2

Detail performance results: 
+------------+---------+-------------------------------------+
| frame_size | txd/rxd | throughput difference from expected |
+============+=========+=====================================+
| 64         | 512     | 4.884                               |
+------------+---------+-------------------------------------+
| 64         | 2048    | 3.247                               |
+------------+---------+-------------------------------------+

Ubuntu 18.04
Kernel: 4.15.0-generic
Compiler: gcc 7.4
NIC: Intel Corporation Ethernet Converged Network Adapter 82599ES 10000 Mbps
Target: x86_64-native-linuxapp-gcc
Fail/Total: 0/2

Detail performance results: 
+------------+---------+-------------------------------------+
| frame_size | txd/rxd | throughput difference from expected |
+============+=========+=====================================+
| 64         | 512     | 2.631                               |
+------------+---------+-------------------------------------+
| 64         | 2048    | 0.799                               |
+------------+---------+-------------------------------------+

To view detailed results, visit:
https://lab.dpdk.org/results/dashboard/patchsets/11985/

UNH-IOL DPDK Community Lab

To manage your email subscriptions, visit: 
https://lab.dpdk.org/results/dashboard/preferences/subscriptions/

^ permalink raw reply	[flat|nested] 6+ messages in thread

* [dpdk-test-report] |SUCCESS| pw73681 [PATCH] [V2] net/bonding: fix lacp negotiation failed
@ 2020-07-11 11:49 dpdklab
  0 siblings, 0 replies; 6+ messages in thread
From: dpdklab @ 2020-07-11 11:49 UTC (permalink / raw)
  To: Test Report; +Cc: dpdk-test-reports

[-- Attachment #1: Type: text/plain, Size: 1902 bytes --]

Test-Label: iol-intel-Performance
Test-Status: SUCCESS
http://dpdk.org/patch/73681

_Performance Testing PASS_

Submitter: luyicai <luyicai@huawei.com>
Date: Friday, July 10 2020 03:29:35 
DPDK git baseline: Repo:dpdk
  Branch: master
  CommitID:2d6ed071a8b93ead509ff26914bdb8938efd7543

73681 --> performance testing pass

Test environment and result as below:

Ubuntu 18.04
Kernel: 4.15.0-generic
Compiler: gcc 7.4
NIC: Intel Corporation Ethernet Converged Network Adapter XL710-QDA2 40000 Mbps
Target: x86_64-native-linuxapp-gcc
Fail/Total: 0/2

Detail performance results: 
+------------+---------+-------------------------------------+
| frame_size | txd/rxd | throughput difference from expected |
+============+=========+=====================================+
| 64         | 512     | 5.120                               |
+------------+---------+-------------------------------------+
| 64         | 2048    | 3.104                               |
+------------+---------+-------------------------------------+

Ubuntu 18.04
Kernel: 4.15.0-generic
Compiler: gcc 7.4
NIC: Intel Corporation Ethernet Converged Network Adapter 82599ES 10000 Mbps
Target: x86_64-native-linuxapp-gcc
Fail/Total: 0/2

Detail performance results: 
+------------+---------+-------------------------------------+
| frame_size | txd/rxd | throughput difference from expected |
+============+=========+=====================================+
| 64         | 512     | 2.610                               |
+------------+---------+-------------------------------------+
| 64         | 2048    | 0.988                               |
+------------+---------+-------------------------------------+

To view detailed results, visit:
https://lab.dpdk.org/results/dashboard/patchsets/11985/

UNH-IOL DPDK Community Lab

To manage your email subscriptions, visit: 
https://lab.dpdk.org/results/dashboard/preferences/subscriptions/

^ permalink raw reply	[flat|nested] 6+ messages in thread

* [dpdk-test-report] |SUCCESS| pw73681 [PATCH] [V2] net/bonding: fix lacp negotiation failed
@ 2020-07-11  1:44 dpdklab
  0 siblings, 0 replies; 6+ messages in thread
From: dpdklab @ 2020-07-11  1:44 UTC (permalink / raw)
  To: Test Report; +Cc: dpdk-test-reports

[-- Attachment #1: Type: text/plain, Size: 2897 bytes --]

Test-Label: iol-testing
Test-Status: SUCCESS
http://dpdk.org/patch/73681

_Testing PASS_

Submitter: luyicai <luyicai@huawei.com>
Date: Friday, July 10 2020 03:29:35 
DPDK git baseline: Repo:dpdk
  Branch: master
  CommitID:2d6ed071a8b93ead509ff26914bdb8938efd7543

73681 --> testing pass

Test environment and result as below:

+---------------------+--------------------+-------------------+------------------+----------------+--------------+
|     Environment     | dpdk_meson_compile | dpdk_compile_spdk | dpdk_compile_ovs | dpdk_unit_test | dpdk_compile |
+=====================+====================+===================+==================+================+==============+
| Windows Server 2019 | PASS               | SKIPPED           | SKIPPED          | SKIPPED        | SKIPPED      |
+---------------------+--------------------+-------------------+------------------+----------------+--------------+
| FreeBSD 11.2        | PASS               | PASS              | SKIPPED          | SKIPPED        | PASS         |
+---------------------+--------------------+-------------------+------------------+----------------+--------------+
| Ubuntu 18.04        | PASS               | PASS              | PASS             | PASS           | PASS         |
+---------------------+--------------------+-------------------+------------------+----------------+--------------+
| Fedora 31           | PASS               | PASS              | PASS             | SKIPPED        | PASS         |
+---------------------+--------------------+-------------------+------------------+----------------+--------------+
| CentOS 8            | PASS               | PASS              | PASS             | SKIPPED        | PASS         |
+---------------------+--------------------+-------------------+------------------+----------------+--------------+
| openSUSE Leap 15    | PASS               | PASS              | PASS             | SKIPPED        | PASS         |
+---------------------+--------------------+-------------------+------------------+----------------+--------------+
| Arch Linux          | PASS               | SKIPPED           | PASS             | SKIPPED        | PASS         |
+---------------------+--------------------+-------------------+------------------+----------------+--------------+

Windows Server 2019
	Kernel: 10.0
	Compiler: clang 9.0

FreeBSD 11.2
	Kernel: 11.2
	Compiler: gcc 8.3

Ubuntu 18.04
	Kernel: 4.15.0-generic
	Compiler: gcc 7.4

Fedora 31
	Kernel: 5.3.16
	Compiler: gcc 9.2.1

CentOS 8
	Kernel: 4.18.0.el8_0
	Compiler: gcc 8.3.1

openSUSE Leap 15
	Kernel: 4.12.14
	Compiler: gcc 7.4.1

Arch Linux
	Kernel: latest
	Compiler: gcc latest

To view detailed results, visit:
https://lab.dpdk.org/results/dashboard/patchsets/11985/

UNH-IOL DPDK Community Lab

To manage your email subscriptions, visit: 
https://lab.dpdk.org/results/dashboard/preferences/subscriptions/

^ permalink raw reply	[flat|nested] 6+ messages in thread

* [dpdk-test-report] |SUCCESS| pw73681 [PATCH] [V2] net/bonding: fix lacp negotiation failed
@ 2020-07-10  4:23 dpdklab
  0 siblings, 0 replies; 6+ messages in thread
From: dpdklab @ 2020-07-10  4:23 UTC (permalink / raw)
  To: Ajit Khaparde, Test Report; +Cc: dpdk-test-reports

[-- Attachment #1: Type: text/plain, Size: 1253 bytes --]

Test-Label: iol-broadcom-Performance
Test-Status: SUCCESS
http://dpdk.org/patch/73681

_Performance Testing PASS_

Submitter: luyicai <luyicai@huawei.com>
Date: Friday, July 10 2020 03:29:35 
DPDK git baseline: Repo:dpdk
  Branch: master
  CommitID:2d6ed071a8b93ead509ff26914bdb8938efd7543

73681 --> performance testing pass

Test environment and result as below:

Ubuntu 18.04
Kernel: 4.15.0-65-generic
Compiler: gcc gcc (Ubuntu 7.4.0-1ubuntu1~18.04.1) 7.4.0
NIC: Broadcom Inc. brcm_57414 25000 Mbps
Target: x86_64-native-linuxapp-gcc
Fail/Total: 0/2

Detail performance results: 
+------------+---------+-------------------------------------+
| frame_size | txd/rxd | throughput difference from expected |
+============+=========+=====================================+
| 64         | 512     | 0.019                               |
+------------+---------+-------------------------------------+
| 64         | 2048    | -0.006                              |
+------------+---------+-------------------------------------+

To view detailed results, visit:
https://lab.dpdk.org/results/dashboard/patchsets/11985/

UNH-IOL DPDK Community Lab

To manage your email subscriptions, visit: 
https://lab.dpdk.org/results/dashboard/preferences/subscriptions/

^ permalink raw reply	[flat|nested] 6+ messages in thread

* [dpdk-test-report] |SUCCESS| pw73681 [PATCH] [V2] net/bonding: fix lacp negotiation failed
@ 2020-07-10  4:14 dpdklab
  0 siblings, 0 replies; 6+ messages in thread
From: dpdklab @ 2020-07-10  4:14 UTC (permalink / raw)
  To: Ajit Khaparde, Test Report; +Cc: dpdk-test-reports

[-- Attachment #1: Type: text/plain, Size: 1253 bytes --]

Test-Label: iol-broadcom-Performance
Test-Status: SUCCESS
http://dpdk.org/patch/73681

_Performance Testing PASS_

Submitter: luyicai <luyicai@huawei.com>
Date: Friday, July 10 2020 03:29:35 
DPDK git baseline: Repo:dpdk
  Branch: master
  CommitID:2d6ed071a8b93ead509ff26914bdb8938efd7543

73681 --> performance testing pass

Test environment and result as below:

Ubuntu 18.04
Kernel: 4.15.0-65-generic
Compiler: gcc gcc (Ubuntu 7.4.0-1ubuntu1~18.04.1) 7.4.0
NIC: Broadcom Inc. brcm_57414 25000 Mbps
Target: x86_64-native-linuxapp-gcc
Fail/Total: 0/2

Detail performance results: 
+------------+---------+-------------------------------------+
| frame_size | txd/rxd | throughput difference from expected |
+============+=========+=====================================+
| 64         | 512     | 0.079                               |
+------------+---------+-------------------------------------+
| 64         | 2048    | -0.097                              |
+------------+---------+-------------------------------------+

To view detailed results, visit:
https://lab.dpdk.org/results/dashboard/patchsets/11985/

UNH-IOL DPDK Community Lab

To manage your email subscriptions, visit: 
https://lab.dpdk.org/results/dashboard/preferences/subscriptions/

^ permalink raw reply	[flat|nested] 6+ messages in thread

end of thread, other threads:[~2020-07-11 12:23 UTC | newest]

Thread overview: 6+ messages (download: mbox.gz / follow: Atom feed)
-- links below jump to the message on this page --
2020-07-11  2:28 [dpdk-test-report] |SUCCESS| pw73681 [PATCH] [V2] net/bonding: fix lacp negotiation failed dpdklab
  -- strict thread matches above, loose matches on Subject: below --
2020-07-11 12:23 dpdklab
2020-07-11 11:49 dpdklab
2020-07-11  1:44 dpdklab
2020-07-10  4:23 dpdklab
2020-07-10  4:14 dpdklab

automatic DPDK test reports

This inbox may be cloned and mirrored by anyone:

	git clone --mirror https://inbox.dpdk.org/test-report/0 test-report/git/0.git

	# If you have public-inbox 1.1+ installed, you may
	# initialize and index your mirror using the following commands:
	public-inbox-init -V2 test-report test-report/ https://inbox.dpdk.org/test-report \
		test-report@dpdk.org
	public-inbox-index test-report

Example config snippet for mirrors.
Newsgroup available over NNTP:
	nntp://inbox.dpdk.org/inbox.dpdk.test-report


AGPL code for this site: git clone https://public-inbox.org/public-inbox.git