From: dpdklab@iol.unh.edu
To: Test Report <test-report@dpdk.org>
Cc: dpdk-test-reports@iol.unh.edu
Subject: [dpdk-test-report] |SUCCESS| pw73682 [PATCH] net: fix unneeded replacement of 0 by ffff for TCP checksum
Date: Fri, 10 Jul 2020 23:09:24 -0400 (EDT)	[thread overview]
Message-ID: <20200711030924.C89DE6D437@noxus.dpdklab.iol.unh.edu> (raw)
[-- Attachment #1: Type: text/plain, Size: 2905 bytes --]
Test-Label: iol-testing
Test-Status: SUCCESS
http://dpdk.org/patch/73682
_Testing PASS_
Submitter: Hongzhi Guo <guohongzhi1@huawei.com>
Date: Friday, July 10 2020 06:55:51 
DPDK git baseline: Repo:dpdk
  Branch: master
  CommitID:2d6ed071a8b93ead509ff26914bdb8938efd7543
73682 --> testing pass
Test environment and result as below:
+---------------------+--------------------+-------------------+----------------+------------------+--------------+
|     Environment     | dpdk_meson_compile | dpdk_compile_spdk | dpdk_unit_test | dpdk_compile_ovs | dpdk_compile |
+=====================+====================+===================+================+==================+==============+
| Windows Server 2019 | PASS               | SKIPPED           | SKIPPED        | SKIPPED          | SKIPPED      |
+---------------------+--------------------+-------------------+----------------+------------------+--------------+
| FreeBSD 11.2        | PASS               | PASS              | SKIPPED        | SKIPPED          | PASS         |
+---------------------+--------------------+-------------------+----------------+------------------+--------------+
| Ubuntu 18.04        | PASS               | PASS              | PASS           | PASS             | PASS         |
+---------------------+--------------------+-------------------+----------------+------------------+--------------+
| Fedora 31           | PASS               | PASS              | SKIPPED        | PASS             | PASS         |
+---------------------+--------------------+-------------------+----------------+------------------+--------------+
| CentOS 8            | PASS               | PASS              | SKIPPED        | PASS             | PASS         |
+---------------------+--------------------+-------------------+----------------+------------------+--------------+
| openSUSE Leap 15    | PASS               | PASS              | SKIPPED        | PASS             | PASS         |
+---------------------+--------------------+-------------------+----------------+------------------+--------------+
| Arch Linux          | PASS               | SKIPPED           | SKIPPED        | PASS             | PASS         |
+---------------------+--------------------+-------------------+----------------+------------------+--------------+
Windows Server 2019
	Kernel: 10.0
	Compiler: clang 9.0
FreeBSD 11.2
	Kernel: 11.2
	Compiler: gcc 8.3
Ubuntu 18.04
	Kernel: 4.15.0-generic
	Compiler: gcc 7.4
Fedora 31
	Kernel: 5.3.16
	Compiler: gcc 9.2.1
CentOS 8
	Kernel: 4.18.0.el8_0
	Compiler: gcc 8.3.1
openSUSE Leap 15
	Kernel: 4.12.14
	Compiler: gcc 7.4.1
Arch Linux
	Kernel: latest
	Compiler: gcc latest
To view detailed results, visit:
https://lab.dpdk.org/results/dashboard/patchsets/11986/
UNH-IOL DPDK Community Lab
To manage your email subscriptions, visit: 
https://lab.dpdk.org/results/dashboard/preferences/subscriptions/
next             reply	other threads:[~2020-07-11  3:09 UTC|newest]
Thread overview: 4+ messages / expand[flat|nested]  mbox.gz  Atom feed  top
2020-07-11  3:09 dpdklab [this message]
  -- strict thread matches above, loose matches on Subject: below --
2020-07-11 12:52 dpdklab
2020-07-10  7:21 dpdklab
     [not found] <20200710065551.59352-1-guohongzhi1@huawei.com>
2020-07-10  6:56 ` checkpatch
Reply instructions:
You may reply publicly to this message via plain-text email
using any one of the following methods:
* Save the following mbox file, import it into your mail client,
  and reply-to-all from there: mbox
  Avoid top-posting and favor interleaved quoting:
  https://en.wikipedia.org/wiki/Posting_style#Interleaved_style
* Reply using the --to, --cc, and --in-reply-to
  switches of git-send-email(1):
  git send-email \
    --in-reply-to=20200711030924.C89DE6D437@noxus.dpdklab.iol.unh.edu \
    --to=dpdklab@iol.unh.edu \
    --cc=dpdk-test-reports@iol.unh.edu \
    --cc=test-report@dpdk.org \
    /path/to/YOUR_REPLY
  https://kernel.org/pub/software/scm/git/docs/git-send-email.html
* If your mail client supports setting the In-Reply-To header
  via mailto: links, try the mailto: link
  Be sure your reply has a Subject: header at the top and a blank line
  before the message body.
This is a public inbox, see mirroring instructions
for how to clone and mirror all data and code used for this inbox;
as well as URLs for NNTP newsgroup(s).