Test-Label: checkpatch Test-Status: SUCCESS http://dpdk.org/patch/73446 _coding style OK_
[-- Attachment #1: Type: text/plain, Size: 1254 bytes --] Test-Label: iol-broadcom-Performance Test-Status: SUCCESS http://dpdk.org/patch/73446 _Performance Testing PASS_ Submitter: None <levendsayar@gmail.com> Date: Tuesday, July 07 2020 12:25:16 DPDK git baseline: Repo:dpdk Branch: master CommitID:4c4f83944683eca973d5fc5df76cd6199a090e5f 73446 --> performance testing pass Test environment and result as below: Ubuntu 18.04 Kernel: 4.15.0-65-generic Compiler: gcc gcc (Ubuntu 7.4.0-1ubuntu1~18.04.1) 7.4.0 NIC: Broadcom Inc. brcm_57414 25000 Mbps Target: x86_64-native-linuxapp-gcc Fail/Total: 0/2 Detail performance results: +------------+---------+-------------------------------------+ | frame_size | txd/rxd | throughput difference from expected | +============+=========+=====================================+ | 64 | 512 | 0.081 | +------------+---------+-------------------------------------+ | 64 | 2048 | -0.049 | +------------+---------+-------------------------------------+ To view detailed results, visit: https://lab.dpdk.org/results/dashboard/patchsets/11907/ UNH-IOL DPDK Community Lab To manage your email subscriptions, visit: https://lab.dpdk.org/results/dashboard/preferences/subscriptions/
[-- Attachment #1: Type: text/plain, Size: 2906 bytes --] Test-Label: iol-testing Test-Status: SUCCESS http://dpdk.org/patch/73446 _Testing PASS_ Submitter: Levend Sayar <levendsayar@gmail.com> Date: Tuesday, July 07 2020 12:25:16 DPDK git baseline: Repo:dpdk Branch: master CommitID:4c4f83944683eca973d5fc5df76cd6199a090e5f 73446 --> testing pass Test environment and result as below: +---------------------+--------------------+--------------+------------------+----------------+-------------------+ | Environment | dpdk_meson_compile | dpdk_compile | dpdk_compile_ovs | dpdk_unit_test | dpdk_compile_spdk | +=====================+====================+==============+==================+================+===================+ | Windows Server 2019 | PASS | SKIPPED | SKIPPED | SKIPPED | SKIPPED | +---------------------+--------------------+--------------+------------------+----------------+-------------------+ | FreeBSD 11.2 | PASS | PASS | SKIPPED | SKIPPED | PASS | +---------------------+--------------------+--------------+------------------+----------------+-------------------+ | Ubuntu 18.04 | PASS | PASS | PASS | PASS | PASS | +---------------------+--------------------+--------------+------------------+----------------+-------------------+ | Fedora 31 | PASS | PASS | PASS | SKIPPED | PASS | +---------------------+--------------------+--------------+------------------+----------------+-------------------+ | CentOS 8 | PASS | PASS | PASS | SKIPPED | PASS | +---------------------+--------------------+--------------+------------------+----------------+-------------------+ | openSUSE Leap 15 | PASS | PASS | PASS | SKIPPED | PASS | +---------------------+--------------------+--------------+------------------+----------------+-------------------+ | Arch Linux | PASS | PASS | PASS | SKIPPED | SKIPPED | +---------------------+--------------------+--------------+------------------+----------------+-------------------+ Windows Server 2019 Kernel: 10.0 Compiler: clang 9.0 FreeBSD 11.2 Kernel: 11.2 Compiler: gcc 8.3 Ubuntu 18.04 Kernel: 4.15.0-generic Compiler: gcc 7.4 Fedora 31 Kernel: 5.3.16 Compiler: gcc 9.2.1 CentOS 8 Kernel: 4.18.0.el8_0 Compiler: gcc 8.3.1 openSUSE Leap 15 Kernel: 4.12.14 Compiler: gcc 7.4.1 Arch Linux Kernel: latest Compiler: gcc latest To view detailed results, visit: https://lab.dpdk.org/results/dashboard/patchsets/11907/ UNH-IOL DPDK Community Lab To manage your email subscriptions, visit: https://lab.dpdk.org/results/dashboard/preferences/subscriptions/
[-- Attachment #1: Type: text/plain, Size: 3961 bytes --] Test-Label: iol-mellanox-Performance Test-Status: SUCCESS http://dpdk.org/patch/73446 _Performance Testing PASS_ Submitter: Levend Sayar <levendsayar@gmail.com> Date: Tuesday, July 07 2020 12:25:16 DPDK git baseline: Repo:dpdk Branch: master CommitID:4c4f83944683eca973d5fc5df76cd6199a090e5f 73446 --> performance testing pass Test environment and result as below: Ubuntu 18.04 Kernel: 4.15.0-generic Compiler: gcc 7.4 NIC: Mellanox ConnectX-5 100000 Mbps Target: x86_64-native-linuxapp-gcc Fail/Total: 0/6 Detail performance results: +------------+---------+-------------------------------------+ | frame_size | txd/rxd | throughput difference from expected | +============+=========+=====================================+ | 64 | 256 | 0.025 | +------------+---------+-------------------------------------+ | 128 | 256 | -0.024 | +------------+---------+-------------------------------------+ | 256 | 256 | -0.081 | +------------+---------+-------------------------------------+ | 512 | 256 | 0.018 | +------------+---------+-------------------------------------+ | 1024 | 256 | 0.013 | +------------+---------+-------------------------------------+ | 1518 | 256 | -0.001 | +------------+---------+-------------------------------------+ Ubuntu 18.04 Kernel: 4.15.0-generic Compiler: gcc 7.4 NIC: Mellanox ConnectX-4 Lx 25000 Mbps Target: x86_64-native-linuxapp-gcc Fail/Total: 0/6 Detail performance results: +------------+---------+-------------------------------------+ | frame_size | txd/rxd | throughput difference from expected | +============+=========+=====================================+ | 64 | 256 | -0.116 | +------------+---------+-------------------------------------+ | 128 | 256 | 0.521 | +------------+---------+-------------------------------------+ | 256 | 256 | 0.364 | +------------+---------+-------------------------------------+ | 512 | 256 | -0.001 | +------------+---------+-------------------------------------+ | 1024 | 256 | 0 | +------------+---------+-------------------------------------+ | 1518 | 256 | 0.010 | +------------+---------+-------------------------------------+ Ubuntu 18.04 Kernel: 4.15.0-generic Compiler: gcc 7.4 NIC: Mellanox ConnectX-4 Lx 40000 Mbps Target: x86_64-native-linuxapp-gcc Fail/Total: 0/6 Detail performance results: +------------+---------+-------------------------------------+ | frame_size | txd/rxd | throughput difference from expected | +============+=========+=====================================+ | 64 | 256 | 0.021 | +------------+---------+-------------------------------------+ | 128 | 256 | 1.014 | +------------+---------+-------------------------------------+ | 256 | 256 | -0.233 | +------------+---------+-------------------------------------+ | 512 | 256 | -0.013 | +------------+---------+-------------------------------------+ | 1024 | 256 | 0.003 | +------------+---------+-------------------------------------+ | 1518 | 256 | -0.007 | +------------+---------+-------------------------------------+ To view detailed results, visit: https://lab.dpdk.org/results/dashboard/patchsets/11907/ UNH-IOL DPDK Community Lab To manage your email subscriptions, visit: https://lab.dpdk.org/results/dashboard/preferences/subscriptions/
[-- Attachment #1: Type: text/plain, Size: 1257 bytes --] Test-Label: iol-intel-Performance Test-Status: SUCCESS http://dpdk.org/patch/73446 _Performance Testing PASS_ Submitter: Levend Sayar <levendsayar@gmail.com> Date: Tuesday, July 07 2020 12:25:16 DPDK git baseline: Repo:dpdk Branch: master CommitID:4c4f83944683eca973d5fc5df76cd6199a090e5f 73446 --> performance testing pass Test environment and result as below: Ubuntu 18.04 Kernel: 4.15.0-generic Compiler: gcc 7.4 NIC: Intel Corporation Ethernet Converged Network Adapter XL710-QDA2 40000 Mbps Target: x86_64-native-linuxapp-gcc Fail/Total: 0/2 Detail performance results: +------------+---------+-------------------------------------+ | frame_size | txd/rxd | throughput difference from expected | +============+=========+=====================================+ | 64 | 512 | 5.006 | +------------+---------+-------------------------------------+ | 64 | 2048 | 2.960 | +------------+---------+-------------------------------------+ To view detailed results, visit: https://lab.dpdk.org/results/dashboard/patchsets/11907/ UNH-IOL DPDK Community Lab To manage your email subscriptions, visit: https://lab.dpdk.org/results/dashboard/preferences/subscriptions/