[-- Attachment #1: Type: text/plain, Size: 1038 bytes --] _Performance Testing PASS_ Branch: dpdk 2d6ed071a8b93ead509ff26914bdb8938efd7543 --> performance testing pass Test environment and result as below: Ubuntu 18.04 Kernel: 4.15.0-65-generic Compiler: gcc gcc (Ubuntu 7.4.0-1ubuntu1~18.04.1) 7.4.0 NIC: Broadcom Inc. brcm_57414 25000 Mbps Target: x86_64-native-linuxapp-gcc Fail/Total: 0/2 Detail performance results: +------------+---------+-------------------------------------+ | frame_size | txd/rxd | throughput difference from expected | +============+=========+=====================================+ | 64 | 512 | 0 | +------------+---------+-------------------------------------+ | 64 | 2048 | 0 | +------------+---------+-------------------------------------+ To view detailed results, visit: https://lab.dpdk.org/results/dashboard/tarballs/10408/ UNH-IOL DPDK Community Lab To manage your email subscriptions, visit: https://lab.dpdk.org/results/dashboard/preferences/subscriptions/
[-- Attachment #1: Type: text/plain, Size: 2695 bytes --] _Testing PASS_ Branch: dpdk 2d6ed071a8b93ead509ff26914bdb8938efd7543 --> testing pass Test environment and result as below: +---------------------+----------------+--------------------+--------------+------------------+-------------------+ | Environment | dpdk_unit_test | dpdk_meson_compile | dpdk_compile | dpdk_compile_ovs | dpdk_compile_spdk | +=====================+================+====================+==============+==================+===================+ | Ubuntu 18.04 | PASS | PASS | PASS | PASS | PASS | +---------------------+----------------+--------------------+--------------+------------------+-------------------+ | Windows Server 2019 | SKIPPED | PASS | SKIPPED | SKIPPED | SKIPPED | +---------------------+----------------+--------------------+--------------+------------------+-------------------+ | FreeBSD 11.2 | SKIPPED | PASS | PASS | SKIPPED | PASS | +---------------------+----------------+--------------------+--------------+------------------+-------------------+ | CentOS 8 | SKIPPED | PASS | PASS | PASS | PASS | +---------------------+----------------+--------------------+--------------+------------------+-------------------+ | Fedora 31 | SKIPPED | PASS | PASS | PASS | PASS | +---------------------+----------------+--------------------+--------------+------------------+-------------------+ | openSUSE Leap 15 | SKIPPED | PASS | PASS | PASS | PASS | +---------------------+----------------+--------------------+--------------+------------------+-------------------+ | Arch Linux | SKIPPED | PASS | PASS | PASS | SKIPPED | +---------------------+----------------+--------------------+--------------+------------------+-------------------+ Ubuntu 18.04 Kernel: 4.15.0-generic Compiler: gcc 7.4 Windows Server 2019 Kernel: 10.0 Compiler: clang 9.0 FreeBSD 11.2 Kernel: 11.2 Compiler: gcc 8.3 CentOS 8 Kernel: 4.18.0.el8_0 Compiler: gcc 8.3.1 Fedora 31 Kernel: 5.3.16 Compiler: gcc 9.2.1 openSUSE Leap 15 Kernel: 4.12.14 Compiler: gcc 7.4.1 Arch Linux Kernel: latest Compiler: gcc latest To view detailed results, visit: https://lab.dpdk.org/results/dashboard/tarballs/10408/ UNH-IOL DPDK Community Lab To manage your email subscriptions, visit: https://lab.dpdk.org/results/dashboard/preferences/subscriptions/
[-- Attachment #1: Type: text/plain, Size: 1690 bytes --] _Performance Testing PASS_ Branch: dpdk 2d6ed071a8b93ead509ff26914bdb8938efd7543 --> performance testing pass Test environment and result as below: Ubuntu 18.04 Kernel: 4.15.0-generic Compiler: gcc 7.4 NIC: Intel Corporation Ethernet Converged Network Adapter XL710-QDA2 40000 Mbps Target: x86_64-native-linuxapp-gcc Fail/Total: 0/2 Detail performance results: +------------+---------+-------------------------------------+ | frame_size | txd/rxd | throughput difference from expected | +============+=========+=====================================+ | 64 | 512 | 4.703 | +------------+---------+-------------------------------------+ | 64 | 2048 | 2.975 | +------------+---------+-------------------------------------+ Ubuntu 18.04 Kernel: 4.15.0-generic Compiler: gcc 7.4 NIC: Intel Corporation Ethernet Converged Network Adapter 82599ES 10000 Mbps Target: x86_64-native-linuxapp-gcc Fail/Total: 0/2 Detail performance results: +------------+---------+-------------------------------------+ | frame_size | txd/rxd | throughput difference from expected | +============+=========+=====================================+ | 64 | 512 | 2.610 | +------------+---------+-------------------------------------+ | 64 | 2048 | 0.988 | +------------+---------+-------------------------------------+ To view detailed results, visit: https://lab.dpdk.org/results/dashboard/tarballs/10408/ UNH-IOL DPDK Community Lab To manage your email subscriptions, visit: https://lab.dpdk.org/results/dashboard/preferences/subscriptions/