* [dpdk-test-report] |SUCCESS| pw74060 [PATCH] net/i40e: fix incorrect hash look up table
@ 2020-07-16 20:51 dpdklab
0 siblings, 0 replies; 4+ messages in thread
From: dpdklab @ 2020-07-16 20:51 UTC (permalink / raw)
To: Ajit Khaparde, Test Report; +Cc: dpdk-test-reports
[-- Attachment #1: Type: text/plain, Size: 1268 bytes --]
Test-Label: iol-broadcom-Performance
Test-Status: SUCCESS
http://dpdk.org/patch/74060
_Performance Testing PASS_
Submitter: Shougang Wang <shougangx.wang@intel.com>
Date: Wednesday, July 15 2020 06:35:15
DPDK git baseline: Repo:dpdk
Branch: master
CommitID:466032ef8012a7fddd8dda986c5977e9341e3c35
74060 --> performance testing pass
Test environment and result as below:
Ubuntu 18.04
Kernel: 4.15.0-65-generic
Compiler: gcc gcc (Ubuntu 7.4.0-1ubuntu1~18.04.1) 7.4.0
NIC: Broadcom Inc. brcm_57414 25000 Mbps
Target: x86_64-native-linuxapp-gcc
Fail/Total: 0/2
Detail performance results:
+------------+---------+-------------------------------------+
| frame_size | txd/rxd | throughput difference from expected |
+============+=========+=====================================+
| 64 | 512 | 0.045 |
+------------+---------+-------------------------------------+
| 64 | 2048 | -0.022 |
+------------+---------+-------------------------------------+
To view detailed results, visit:
https://lab.dpdk.org/results/dashboard/patchsets/12080/
UNH-IOL DPDK Community Lab
To manage your email subscriptions, visit:
https://lab.dpdk.org/results/dashboard/preferences/subscriptions/
^ permalink raw reply [flat|nested] 4+ messages in thread
* [dpdk-test-report] |SUCCESS| pw74060 [PATCH] net/i40e: fix incorrect hash look up table
@ 2020-07-15 20:58 dpdklab
0 siblings, 0 replies; 4+ messages in thread
From: dpdklab @ 2020-07-15 20:58 UTC (permalink / raw)
To: Test Report; +Cc: dpdk-test-reports
[-- Attachment #1: Type: text/plain, Size: 2912 bytes --]
Test-Label: iol-testing
Test-Status: SUCCESS
http://dpdk.org/patch/74060
_Testing PASS_
Submitter: Shougang Wang <shougangx.wang@intel.com>
Date: Wednesday, July 15 2020 06:35:15
DPDK git baseline: Repo:dpdk
Branch: master
CommitID:466032ef8012a7fddd8dda986c5977e9341e3c35
74060 --> testing pass
Test environment and result as below:
+---------------------+--------------------+--------------+----------------+------------------+-------------------+
| Environment | dpdk_meson_compile | dpdk_compile | dpdk_unit_test | dpdk_compile_ovs | dpdk_compile_spdk |
+=====================+====================+==============+================+==================+===================+
| Windows Server 2019 | PASS | SKIPPED | SKIPPED | SKIPPED | SKIPPED |
+---------------------+--------------------+--------------+----------------+------------------+-------------------+
| FreeBSD 11.2 | PASS | PASS | SKIPPED | SKIPPED | PASS |
+---------------------+--------------------+--------------+----------------+------------------+-------------------+
| Ubuntu 18.04 | PASS | PASS | PASS | PASS | PASS |
+---------------------+--------------------+--------------+----------------+------------------+-------------------+
| openSUSE Leap 15 | PASS | PASS | SKIPPED | PASS | PASS |
+---------------------+--------------------+--------------+----------------+------------------+-------------------+
| CentOS 8 | PASS | PASS | SKIPPED | PASS | PASS |
+---------------------+--------------------+--------------+----------------+------------------+-------------------+
| Fedora 31 | PASS | PASS | SKIPPED | PASS | PASS |
+---------------------+--------------------+--------------+----------------+------------------+-------------------+
| Arch Linux | PASS | PASS | SKIPPED | PASS | SKIPPED |
+---------------------+--------------------+--------------+----------------+------------------+-------------------+
Windows Server 2019
Kernel: 10.0
Compiler: clang 9.0
FreeBSD 11.2
Kernel: 11.2
Compiler: gcc 8.3
Ubuntu 18.04
Kernel: 4.15.0-generic
Compiler: gcc 7.4
openSUSE Leap 15
Kernel: 4.12.14
Compiler: gcc 7.4.1
CentOS 8
Kernel: 4.18.0.el8_0
Compiler: gcc 8.3.1
Fedora 31
Kernel: 5.3.16
Compiler: gcc 9.2.1
Arch Linux
Kernel: latest
Compiler: gcc latest
To view detailed results, visit:
https://lab.dpdk.org/results/dashboard/patchsets/12080/
UNH-IOL DPDK Community Lab
To manage your email subscriptions, visit:
https://lab.dpdk.org/results/dashboard/preferences/subscriptions/
^ permalink raw reply [flat|nested] 4+ messages in thread
* [dpdk-test-report] |SUCCESS| pw74060 [PATCH] net/i40e: fix incorrect hash look up table
@ 2020-07-15 7:50 dpdklab
0 siblings, 0 replies; 4+ messages in thread
From: dpdklab @ 2020-07-15 7:50 UTC (permalink / raw)
To: Test Report; +Cc: dpdk-test-reports
[-- Attachment #1: Type: text/plain, Size: 1917 bytes --]
Test-Label: iol-intel-Performance
Test-Status: SUCCESS
http://dpdk.org/patch/74060
_Performance Testing PASS_
Submitter: Shougang Wang <shougangx.wang@intel.com>
Date: Wednesday, July 15 2020 06:35:15
DPDK git baseline: Repo:dpdk
Branch: master
CommitID:466032ef8012a7fddd8dda986c5977e9341e3c35
74060 --> performance testing pass
Test environment and result as below:
Ubuntu 18.04
Kernel: 4.15.0-generic
Compiler: gcc 7.4
NIC: Intel Corporation Ethernet Converged Network Adapter XL710-QDA2 40000 Mbps
Target: x86_64-native-linuxapp-gcc
Fail/Total: 0/2
Detail performance results:
+------------+---------+-------------------------------------+
| frame_size | txd/rxd | throughput difference from expected |
+============+=========+=====================================+
| 64 | 512 | 4.874 |
+------------+---------+-------------------------------------+
| 64 | 2048 | 3.043 |
+------------+---------+-------------------------------------+
Ubuntu 18.04
Kernel: 4.15.0-generic
Compiler: gcc 7.4
NIC: Intel Corporation Ethernet Converged Network Adapter 82599ES 10000 Mbps
Target: x86_64-native-linuxapp-gcc
Fail/Total: 0/2
Detail performance results:
+------------+---------+-------------------------------------+
| frame_size | txd/rxd | throughput difference from expected |
+============+=========+=====================================+
| 64 | 512 | 2.776 |
+------------+---------+-------------------------------------+
| 64 | 2048 | 0.853 |
+------------+---------+-------------------------------------+
To view detailed results, visit:
https://lab.dpdk.org/results/dashboard/patchsets/12080/
UNH-IOL DPDK Community Lab
To manage your email subscriptions, visit:
https://lab.dpdk.org/results/dashboard/preferences/subscriptions/
^ permalink raw reply [flat|nested] 4+ messages in thread
* [dpdk-test-report] |SUCCESS| pw74060 [PATCH] net/i40e: fix incorrect hash look up table
[not found] <20200715063515.9262-1-shougangx.wang@intel.com>
@ 2020-07-15 6:49 ` checkpatch
0 siblings, 0 replies; 4+ messages in thread
From: checkpatch @ 2020-07-15 6:49 UTC (permalink / raw)
To: test-report
Test-Label: checkpatch
Test-Status: SUCCESS
http://dpdk.org/patch/74060
_coding style OK_
^ permalink raw reply [flat|nested] 4+ messages in thread
end of thread, other threads:[~2020-07-16 20:51 UTC | newest]
Thread overview: 4+ messages (download: mbox.gz / follow: Atom feed)
-- links below jump to the message on this page --
2020-07-16 20:51 [dpdk-test-report] |SUCCESS| pw74060 [PATCH] net/i40e: fix incorrect hash look up table dpdklab
-- strict thread matches above, loose matches on Subject: below --
2020-07-15 20:58 dpdklab
2020-07-15 7:50 dpdklab
[not found] <20200715063515.9262-1-shougangx.wang@intel.com>
2020-07-15 6:49 ` checkpatch
This is a public inbox, see mirroring instructions
for how to clone and mirror all data and code used for this inbox;
as well as URLs for NNTP newsgroup(s).