* [dpdk-test-report] |SUCCESS| pw74113-74114 [PATCH] [v5, 1/2] doc: add ring based mempool guide
@ 2020-07-16 21:45 dpdklab
0 siblings, 0 replies; 3+ messages in thread
From: dpdklab @ 2020-07-16 21:45 UTC (permalink / raw)
To: Ajit Khaparde, Test Report; +Cc: dpdk-test-reports
[-- Attachment #1: Type: text/plain, Size: 1284 bytes --]
Test-Label: iol-broadcom-Performance
Test-Status: SUCCESS
http://dpdk.org/patch/74113
_Performance Testing PASS_
Submitter: Ananyev, Konstantin <konstantin.ananyev@intel.com>
Date: Wednesday, July 15 2020 14:58:14
DPDK git baseline: Repo:dpdk
Branch: master
CommitID:466032ef8012a7fddd8dda986c5977e9341e3c35
74113-74114 --> performance testing pass
Test environment and result as below:
Ubuntu 18.04
Kernel: 4.15.0-65-generic
Compiler: gcc gcc (Ubuntu 7.4.0-1ubuntu1~18.04.1) 7.4.0
NIC: Broadcom Inc. brcm_57414 25000 Mbps
Target: x86_64-native-linuxapp-gcc
Fail/Total: 0/2
Detail performance results:
+------------+---------+-------------------------------------+
| frame_size | txd/rxd | throughput difference from expected |
+============+=========+=====================================+
| 64 | 512 | 0.068 |
+------------+---------+-------------------------------------+
| 64 | 2048 | -0.054 |
+------------+---------+-------------------------------------+
To view detailed results, visit:
https://lab.dpdk.org/results/dashboard/patchsets/12102/
UNH-IOL DPDK Community Lab
To manage your email subscriptions, visit:
https://lab.dpdk.org/results/dashboard/preferences/subscriptions/
^ permalink raw reply [flat|nested] 3+ messages in thread
* [dpdk-test-report] |SUCCESS| pw74113-74114 [PATCH] [v5, 1/2] doc: add ring based mempool guide
@ 2020-07-16 5:27 dpdklab
0 siblings, 0 replies; 3+ messages in thread
From: dpdklab @ 2020-07-16 5:27 UTC (permalink / raw)
To: Test Report; +Cc: dpdk-test-reports
[-- Attachment #1: Type: text/plain, Size: 2927 bytes --]
Test-Label: iol-testing
Test-Status: SUCCESS
http://dpdk.org/patch/74113
_Testing PASS_
Submitter: Konstantin Ananyev <konstantin.ananyev@intel.com>
Date: Wednesday, July 15 2020 14:58:14
DPDK git baseline: Repo:dpdk
Branch: master
CommitID:466032ef8012a7fddd8dda986c5977e9341e3c35
74113-74114 --> testing pass
Test environment and result as below:
+---------------------+--------------------+----------------+-------------------+------------------+--------------+
| Environment | dpdk_meson_compile | dpdk_unit_test | dpdk_compile_spdk | dpdk_compile_ovs | dpdk_compile |
+=====================+====================+================+===================+==================+==============+
| Windows Server 2019 | PASS | SKIPPED | SKIPPED | SKIPPED | SKIPPED |
+---------------------+--------------------+----------------+-------------------+------------------+--------------+
| FreeBSD 11.2 | PASS | SKIPPED | PASS | SKIPPED | PASS |
+---------------------+--------------------+----------------+-------------------+------------------+--------------+
| Ubuntu 18.04 | PASS | PASS | PASS | PASS | PASS |
+---------------------+--------------------+----------------+-------------------+------------------+--------------+
| CentOS 8 | PASS | SKIPPED | PASS | PASS | PASS |
+---------------------+--------------------+----------------+-------------------+------------------+--------------+
| Fedora 31 | PASS | SKIPPED | PASS | PASS | PASS |
+---------------------+--------------------+----------------+-------------------+------------------+--------------+
| openSUSE Leap 15 | PASS | SKIPPED | PASS | PASS | PASS |
+---------------------+--------------------+----------------+-------------------+------------------+--------------+
| Arch Linux | PASS | SKIPPED | SKIPPED | PASS | PASS |
+---------------------+--------------------+----------------+-------------------+------------------+--------------+
Windows Server 2019
Kernel: 10.0
Compiler: clang 9.0
FreeBSD 11.2
Kernel: 11.2
Compiler: gcc 8.3
Ubuntu 18.04
Kernel: 4.15.0-generic
Compiler: gcc 7.4
CentOS 8
Kernel: 4.18.0.el8_0
Compiler: gcc 8.3.1
Fedora 31
Kernel: 5.3.16
Compiler: gcc 9.2.1
openSUSE Leap 15
Kernel: 4.12.14
Compiler: gcc 7.4.1
Arch Linux
Kernel: latest
Compiler: gcc latest
To view detailed results, visit:
https://lab.dpdk.org/results/dashboard/patchsets/12102/
UNH-IOL DPDK Community Lab
To manage your email subscriptions, visit:
https://lab.dpdk.org/results/dashboard/preferences/subscriptions/
^ permalink raw reply [flat|nested] 3+ messages in thread
* [dpdk-test-report] |SUCCESS| pw74113-74114 [PATCH] [v5, 1/2] doc: add ring based mempool guide
@ 2020-07-15 22:53 dpdklab
0 siblings, 0 replies; 3+ messages in thread
From: dpdklab @ 2020-07-15 22:53 UTC (permalink / raw)
To: Test Report; +Cc: dpdk-test-reports
[-- Attachment #1: Type: text/plain, Size: 1932 bytes --]
Test-Label: iol-intel-Performance
Test-Status: SUCCESS
http://dpdk.org/patch/74113
_Performance Testing PASS_
Submitter: Konstantin Ananyev <konstantin.ananyev@intel.com>
Date: Wednesday, July 15 2020 14:58:14
DPDK git baseline: Repo:dpdk
Branch: master
CommitID:466032ef8012a7fddd8dda986c5977e9341e3c35
74113-74114 --> performance testing pass
Test environment and result as below:
Ubuntu 18.04
Kernel: 4.15.0-generic
Compiler: gcc 7.4
NIC: Intel Corporation Ethernet Converged Network Adapter XL710-QDA2 40000 Mbps
Target: x86_64-native-linuxapp-gcc
Fail/Total: 0/2
Detail performance results:
+------------+---------+-------------------------------------+
| frame_size | txd/rxd | throughput difference from expected |
+============+=========+=====================================+
| 64 | 512 | 5.078 |
+------------+---------+-------------------------------------+
| 64 | 2048 | 3.079 |
+------------+---------+-------------------------------------+
Ubuntu 18.04
Kernel: 4.15.0-generic
Compiler: gcc 7.4
NIC: Intel Corporation Ethernet Converged Network Adapter 82599ES 10000 Mbps
Target: x86_64-native-linuxapp-gcc
Fail/Total: 0/2
Detail performance results:
+------------+---------+-------------------------------------+
| frame_size | txd/rxd | throughput difference from expected |
+============+=========+=====================================+
| 64 | 512 | 2.918 |
+------------+---------+-------------------------------------+
| 64 | 2048 | 1.051 |
+------------+---------+-------------------------------------+
To view detailed results, visit:
https://lab.dpdk.org/results/dashboard/patchsets/12102/
UNH-IOL DPDK Community Lab
To manage your email subscriptions, visit:
https://lab.dpdk.org/results/dashboard/preferences/subscriptions/
^ permalink raw reply [flat|nested] 3+ messages in thread
end of thread, other threads:[~2020-07-16 21:45 UTC | newest]
Thread overview: 3+ messages (download: mbox.gz / follow: Atom feed)
-- links below jump to the message on this page --
2020-07-16 21:45 [dpdk-test-report] |SUCCESS| pw74113-74114 [PATCH] [v5, 1/2] doc: add ring based mempool guide dpdklab
-- strict thread matches above, loose matches on Subject: below --
2020-07-16 5:27 dpdklab
2020-07-15 22:53 dpdklab
This is a public inbox, see mirroring instructions
for how to clone and mirror all data and code used for this inbox;
as well as URLs for NNTP newsgroup(s).