* [dpdk-test-report] |SUCCESS| pw74579 [PATCH] [v2] crypto/qat: add DOCSIS performance optimization
@ 2020-07-21 19:28 dpdklab
0 siblings, 0 replies; 5+ messages in thread
From: dpdklab @ 2020-07-21 19:28 UTC (permalink / raw)
To: Test Report; +Cc: dpdk-test-reports
[-- Attachment #1: Type: text/plain, Size: 1910 bytes --]
Test-Label: iol-intel-Performance
Test-Status: SUCCESS
http://dpdk.org/patch/74579
_Performance Testing PASS_
Submitter: David Coyle <david.coyle@intel.com>
Date: Tuesday, July 21 2020 14:47:18
DPDK git baseline: Repo:dpdk
Branch: master
CommitID:cf43d9d04b935e3796331e453adedc3aabbedd12
74579 --> performance testing pass
Test environment and result as below:
Ubuntu 18.04
Kernel: 4.15.0-generic
Compiler: gcc 7.4
NIC: Intel Corporation Ethernet Converged Network Adapter XL710-QDA2 40000 Mbps
Target: x86_64-native-linuxapp-gcc
Fail/Total: 0/2
Detail performance results:
+------------+---------+-------------------------------------+
| frame_size | txd/rxd | throughput difference from expected |
+============+=========+=====================================+
| 64 | 512 | 5.096 |
+------------+---------+-------------------------------------+
| 64 | 2048 | 3.033 |
+------------+---------+-------------------------------------+
Ubuntu 18.04
Kernel: 4.15.0-generic
Compiler: gcc 7.4
NIC: Intel Corporation Ethernet Converged Network Adapter 82599ES 10000 Mbps
Target: x86_64-native-linuxapp-gcc
Fail/Total: 0/2
Detail performance results:
+------------+---------+-------------------------------------+
| frame_size | txd/rxd | throughput difference from expected |
+============+=========+=====================================+
| 64 | 512 | 2.926 |
+------------+---------+-------------------------------------+
| 64 | 2048 | 1.298 |
+------------+---------+-------------------------------------+
To view detailed results, visit:
https://lab.dpdk.org/results/dashboard/patchsets/12263/
UNH-IOL DPDK Community Lab
To manage your email subscriptions, visit:
https://lab.dpdk.org/results/dashboard/preferences/subscriptions/
^ permalink raw reply [flat|nested] 5+ messages in thread
* [dpdk-test-report] |SUCCESS| pw74579 [PATCH] [v2] crypto/qat: add DOCSIS performance optimization
@ 2020-07-22 23:58 dpdklab
0 siblings, 0 replies; 5+ messages in thread
From: dpdklab @ 2020-07-22 23:58 UTC (permalink / raw)
To: Test Report; +Cc: dpdk-test-reports
[-- Attachment #1: Type: text/plain, Size: 2905 bytes --]
Test-Label: iol-testing
Test-Status: SUCCESS
http://dpdk.org/patch/74579
_Testing PASS_
Submitter: David Coyle <david.coyle@intel.com>
Date: Tuesday, July 21 2020 14:47:18
DPDK git baseline: Repo:dpdk
Branch: master
CommitID:cf43d9d04b935e3796331e453adedc3aabbedd12
74579 --> testing pass
Test environment and result as below:
+---------------------+--------------------+--------------+----------------+------------------+-------------------+
| Environment | dpdk_meson_compile | dpdk_compile | dpdk_unit_test | dpdk_compile_ovs | dpdk_compile_spdk |
+=====================+====================+==============+================+==================+===================+
| Windows Server 2019 | PASS | SKIPPED | SKIPPED | SKIPPED | SKIPPED |
+---------------------+--------------------+--------------+----------------+------------------+-------------------+
| FreeBSD 11.2 | PASS | PASS | SKIPPED | SKIPPED | PASS |
+---------------------+--------------------+--------------+----------------+------------------+-------------------+
| Ubuntu 18.04 | PASS | PASS | PASS | PASS | PASS |
+---------------------+--------------------+--------------+----------------+------------------+-------------------+
| CentOS 8 | PASS | PASS | SKIPPED | PASS | PASS |
+---------------------+--------------------+--------------+----------------+------------------+-------------------+
| openSUSE Leap 15 | PASS | PASS | SKIPPED | PASS | PASS |
+---------------------+--------------------+--------------+----------------+------------------+-------------------+
| Fedora 31 | PASS | PASS | SKIPPED | PASS | PASS |
+---------------------+--------------------+--------------+----------------+------------------+-------------------+
| Arch Linux | PASS | PASS | SKIPPED | PASS | SKIPPED |
+---------------------+--------------------+--------------+----------------+------------------+-------------------+
Windows Server 2019
Kernel: 10.0
Compiler: clang 9.0
FreeBSD 11.2
Kernel: 11.2
Compiler: gcc 8.3
Ubuntu 18.04
Kernel: 4.15.0-generic
Compiler: gcc 7.4
CentOS 8
Kernel: 4.18.0.el8_0
Compiler: gcc 8.3.1
openSUSE Leap 15
Kernel: 4.12.14
Compiler: gcc 7.4.1
Fedora 31
Kernel: 5.3.16
Compiler: gcc 9.2.1
Arch Linux
Kernel: latest
Compiler: gcc latest
To view detailed results, visit:
https://lab.dpdk.org/results/dashboard/patchsets/12263/
UNH-IOL DPDK Community Lab
To manage your email subscriptions, visit:
https://lab.dpdk.org/results/dashboard/preferences/subscriptions/
^ permalink raw reply [flat|nested] 5+ messages in thread
* [dpdk-test-report] |SUCCESS| pw74579 [PATCH] [v2] crypto/qat: add DOCSIS performance optimization
@ 2020-07-22 16:50 dpdklab
0 siblings, 0 replies; 5+ messages in thread
From: dpdklab @ 2020-07-22 16:50 UTC (permalink / raw)
To: Ali Alnubani, Test Report; +Cc: dpdk-test-reports
[-- Attachment #1: Type: text/plain, Size: 3960 bytes --]
Test-Label: iol-mellanox-Performance
Test-Status: SUCCESS
http://dpdk.org/patch/74579
_Performance Testing PASS_
Submitter: David Coyle <david.coyle@intel.com>
Date: Tuesday, July 21 2020 14:47:18
DPDK git baseline: Repo:dpdk
Branch: master
CommitID:cf43d9d04b935e3796331e453adedc3aabbedd12
74579 --> performance testing pass
Test environment and result as below:
Ubuntu 18.04
Kernel: 4.15.0-generic
Compiler: gcc 7.4
NIC: Mellanox ConnectX-5 100000 Mbps
Target: x86_64-native-linuxapp-gcc
Fail/Total: 0/6
Detail performance results:
+------------+---------+-------------------------------------+
| frame_size | txd/rxd | throughput difference from expected |
+============+=========+=====================================+
| 64 | 256 | 0.255 |
+------------+---------+-------------------------------------+
| 128 | 256 | 0.367 |
+------------+---------+-------------------------------------+
| 256 | 256 | -0.129 |
+------------+---------+-------------------------------------+
| 512 | 256 | -0.222 |
+------------+---------+-------------------------------------+
| 1024 | 256 | 0.043 |
+------------+---------+-------------------------------------+
| 1518 | 256 | 0.013 |
+------------+---------+-------------------------------------+
Ubuntu 18.04
Kernel: 4.15.0-generic
Compiler: gcc 7.4
NIC: Mellanox ConnectX-4 Lx 25000 Mbps
Target: x86_64-native-linuxapp-gcc
Fail/Total: 0/6
Detail performance results:
+------------+---------+-------------------------------------+
| frame_size | txd/rxd | throughput difference from expected |
+============+=========+=====================================+
| 64 | 256 | 0.048 |
+------------+---------+-------------------------------------+
| 128 | 256 | 0.222 |
+------------+---------+-------------------------------------+
| 256 | 256 | 0.135 |
+------------+---------+-------------------------------------+
| 512 | 256 | 0.015 |
+------------+---------+-------------------------------------+
| 1024 | 256 | -0.002 |
+------------+---------+-------------------------------------+
| 1518 | 256 | -0.007 |
+------------+---------+-------------------------------------+
Ubuntu 18.04
Kernel: 4.15.0-generic
Compiler: gcc 7.4
NIC: Mellanox ConnectX-4 Lx 40000 Mbps
Target: x86_64-native-linuxapp-gcc
Fail/Total: 0/6
Detail performance results:
+------------+---------+-------------------------------------+
| frame_size | txd/rxd | throughput difference from expected |
+============+=========+=====================================+
| 64 | 256 | -0.171 |
+------------+---------+-------------------------------------+
| 128 | 256 | -0.290 |
+------------+---------+-------------------------------------+
| 256 | 256 | -0.061 |
+------------+---------+-------------------------------------+
| 512 | 256 | -0.001 |
+------------+---------+-------------------------------------+
| 1024 | 256 | 0 |
+------------+---------+-------------------------------------+
| 1518 | 256 | -0.002 |
+------------+---------+-------------------------------------+
To view detailed results, visit:
https://lab.dpdk.org/results/dashboard/patchsets/12263/
UNH-IOL DPDK Community Lab
To manage your email subscriptions, visit:
https://lab.dpdk.org/results/dashboard/preferences/subscriptions/
^ permalink raw reply [flat|nested] 5+ messages in thread
* [dpdk-test-report] |SUCCESS| pw74579 [PATCH] [v2] crypto/qat: add DOCSIS performance optimization
@ 2020-07-21 15:43 dpdklab
0 siblings, 0 replies; 5+ messages in thread
From: dpdklab @ 2020-07-21 15:43 UTC (permalink / raw)
To: Ajit Khaparde, Test Report; +Cc: dpdk-test-reports
[-- Attachment #1: Type: text/plain, Size: 1261 bytes --]
Test-Label: iol-broadcom-Performance
Test-Status: SUCCESS
http://dpdk.org/patch/74579
_Performance Testing PASS_
Submitter: David Coyle <david.coyle@intel.com>
Date: Tuesday, July 21 2020 14:47:18
DPDK git baseline: Repo:dpdk
Branch: master
CommitID:cf43d9d04b935e3796331e453adedc3aabbedd12
74579 --> performance testing pass
Test environment and result as below:
Ubuntu 18.04
Kernel: 4.15.0-65-generic
Compiler: gcc gcc (Ubuntu 7.4.0-1ubuntu1~18.04.1) 7.4.0
NIC: Broadcom Inc. brcm_57414 25000 Mbps
Target: x86_64-native-linuxapp-gcc
Fail/Total: 0/2
Detail performance results:
+------------+---------+-------------------------------------+
| frame_size | txd/rxd | throughput difference from expected |
+============+=========+=====================================+
| 64 | 512 | 0.064 |
+------------+---------+-------------------------------------+
| 64 | 2048 | -0.093 |
+------------+---------+-------------------------------------+
To view detailed results, visit:
https://lab.dpdk.org/results/dashboard/patchsets/12263/
UNH-IOL DPDK Community Lab
To manage your email subscriptions, visit:
https://lab.dpdk.org/results/dashboard/preferences/subscriptions/
^ permalink raw reply [flat|nested] 5+ messages in thread
* [dpdk-test-report] |SUCCESS| pw74579 [PATCH v2] crypto/qat: add DOCSIS performance optimization
[not found] <20200721144718.27696-1-david.coyle@intel.com>
@ 2020-07-21 15:12 ` checkpatch
0 siblings, 0 replies; 5+ messages in thread
From: checkpatch @ 2020-07-21 15:12 UTC (permalink / raw)
To: test-report
Test-Label: checkpatch
Test-Status: SUCCESS
http://dpdk.org/patch/74579
_coding style OK_
^ permalink raw reply [flat|nested] 5+ messages in thread
end of thread, other threads:[~2020-07-22 23:58 UTC | newest]
Thread overview: 5+ messages (download: mbox.gz / follow: Atom feed)
-- links below jump to the message on this page --
2020-07-21 19:28 [dpdk-test-report] |SUCCESS| pw74579 [PATCH] [v2] crypto/qat: add DOCSIS performance optimization dpdklab
-- strict thread matches above, loose matches on Subject: below --
2020-07-22 23:58 dpdklab
2020-07-22 16:50 dpdklab
2020-07-21 15:43 dpdklab
[not found] <20200721144718.27696-1-david.coyle@intel.com>
2020-07-21 15:12 ` [dpdk-test-report] |SUCCESS| pw74579 [PATCH v2] " checkpatch
This is a public inbox, see mirroring instructions
for how to clone and mirror all data and code used for this inbox;
as well as URLs for NNTP newsgroup(s).