Test-Label: checkpatch Test-Status: SUCCESS http://dpdk.org/patch/75091 _coding style OK_
[-- Attachment #1: Type: text/plain, Size: 1909 bytes --] Test-Label: iol-intel-Performance Test-Status: SUCCESS http://dpdk.org/patch/75091 _Performance Testing PASS_ Submitter: Gaurav Singh <gaurav1086@gmail.com> Date: Friday, July 31 2020 03:45:20 DPDK git baseline: Repo:dpdk Branch: master CommitID:aee76bb79b91e2f8bce0e9356bee23f6e52d0513 75091 --> performance testing pass Test environment and result as below: Ubuntu 18.04 Kernel: 4.15.0-generic Compiler: gcc 7.4 NIC: Intel Corporation Ethernet Converged Network Adapter XL710-QDA2 40000 Mbps Target: x86_64-native-linuxapp-gcc Fail/Total: 0/2 Detail performance results: +------------+---------+-------------------------------------+ | frame_size | txd/rxd | throughput difference from expected | +============+=========+=====================================+ | 64 | 512 | 4.855 | +------------+---------+-------------------------------------+ | 64 | 2048 | 2.934 | +------------+---------+-------------------------------------+ Ubuntu 18.04 Kernel: 4.15.0-generic Compiler: gcc 7.4 NIC: Intel Corporation Ethernet Converged Network Adapter 82599ES 10000 Mbps Target: x86_64-native-linuxapp-gcc Fail/Total: 0/2 Detail performance results: +------------+---------+-------------------------------------+ | frame_size | txd/rxd | throughput difference from expected | +============+=========+=====================================+ | 64 | 512 | 2.549 | +------------+---------+-------------------------------------+ | 64 | 2048 | 1.375 | +------------+---------+-------------------------------------+ To view detailed results, visit: https://lab.dpdk.org/results/dashboard/patchsets/12437/ UNH-IOL DPDK Community Lab To manage your email subscriptions, visit: https://lab.dpdk.org/results/dashboard/preferences/subscriptions/
[-- Attachment #1: Type: text/plain, Size: 2904 bytes --] Test-Label: iol-testing Test-Status: SUCCESS http://dpdk.org/patch/75091 _Testing PASS_ Submitter: Gaurav Singh <gaurav1086@gmail.com> Date: Friday, July 31 2020 03:45:20 DPDK git baseline: Repo:dpdk Branch: master CommitID:aee76bb79b91e2f8bce0e9356bee23f6e52d0513 75091 --> testing pass Test environment and result as below: +---------------------+--------------------+------------------+-------------------+----------------+--------------+ | Environment | dpdk_meson_compile | dpdk_compile_ovs | dpdk_compile_spdk | dpdk_unit_test | dpdk_compile | +=====================+====================+==================+===================+================+==============+ | Windows Server 2019 | PASS | SKIPPED | SKIPPED | SKIPPED | SKIPPED | +---------------------+--------------------+------------------+-------------------+----------------+--------------+ | FreeBSD 11.2 | PASS | SKIPPED | PASS | SKIPPED | PASS | +---------------------+--------------------+------------------+-------------------+----------------+--------------+ | Ubuntu 18.04 | PASS | PASS | PASS | PASS | PASS | +---------------------+--------------------+------------------+-------------------+----------------+--------------+ | CentOS 8 | PASS | PASS | PASS | SKIPPED | PASS | +---------------------+--------------------+------------------+-------------------+----------------+--------------+ | openSUSE Leap 15 | PASS | PASS | PASS | SKIPPED | PASS | +---------------------+--------------------+------------------+-------------------+----------------+--------------+ | Fedora 31 | PASS | PASS | PASS | SKIPPED | PASS | +---------------------+--------------------+------------------+-------------------+----------------+--------------+ | Arch Linux | PASS | PASS | SKIPPED | SKIPPED | PASS | +---------------------+--------------------+------------------+-------------------+----------------+--------------+ Windows Server 2019 Kernel: 10.0 Compiler: clang 9.0 FreeBSD 11.2 Kernel: 11.2 Compiler: gcc 8.3 Ubuntu 18.04 Kernel: 4.15.0-generic Compiler: gcc 7.4 CentOS 8 Kernel: 4.18.0.el8_0 Compiler: gcc 8.3.1 openSUSE Leap 15 Kernel: 4.12.14 Compiler: gcc 7.4.1 Fedora 31 Kernel: 5.3.16 Compiler: gcc 9.2.1 Arch Linux Kernel: latest Compiler: gcc latest To view detailed results, visit: https://lab.dpdk.org/results/dashboard/patchsets/12437/ UNH-IOL DPDK Community Lab To manage your email subscriptions, visit: https://lab.dpdk.org/results/dashboard/preferences/subscriptions/
[-- Attachment #1: Type: text/plain, Size: 3959 bytes --] Test-Label: iol-mellanox-Performance Test-Status: SUCCESS http://dpdk.org/patch/75091 _Performance Testing PASS_ Submitter: Gaurav Singh <gaurav1086@gmail.com> Date: Friday, July 31 2020 03:45:20 DPDK git baseline: Repo:dpdk Branch: master CommitID:aee76bb79b91e2f8bce0e9356bee23f6e52d0513 75091 --> performance testing pass Test environment and result as below: Ubuntu 18.04 Kernel: 4.15.0-generic Compiler: gcc 7.4 NIC: Mellanox ConnectX-5 100000 Mbps Target: x86_64-native-linuxapp-gcc Fail/Total: 0/6 Detail performance results: +------------+---------+-------------------------------------+ | frame_size | txd/rxd | throughput difference from expected | +============+=========+=====================================+ | 64 | 256 | -0.006 | +------------+---------+-------------------------------------+ | 128 | 256 | -0.023 | +------------+---------+-------------------------------------+ | 256 | 256 | -0.031 | +------------+---------+-------------------------------------+ | 512 | 256 | 0.024 | +------------+---------+-------------------------------------+ | 1024 | 256 | 0.085 | +------------+---------+-------------------------------------+ | 1518 | 256 | 0.049 | +------------+---------+-------------------------------------+ Ubuntu 18.04 Kernel: 4.15.0-generic Compiler: gcc 7.4 NIC: Mellanox ConnectX-4 Lx 25000 Mbps Target: x86_64-native-linuxapp-gcc Fail/Total: 0/6 Detail performance results: +------------+---------+-------------------------------------+ | frame_size | txd/rxd | throughput difference from expected | +============+=========+=====================================+ | 64 | 256 | 0.203 | +------------+---------+-------------------------------------+ | 128 | 256 | 0.067 | +------------+---------+-------------------------------------+ | 256 | 256 | -0.258 | +------------+---------+-------------------------------------+ | 512 | 256 | -0.031 | +------------+---------+-------------------------------------+ | 1024 | 256 | 0.017 | +------------+---------+-------------------------------------+ | 1518 | 256 | -0.003 | +------------+---------+-------------------------------------+ Ubuntu 18.04 Kernel: 4.15.0-generic Compiler: gcc 7.4 NIC: Mellanox ConnectX-4 Lx 40000 Mbps Target: x86_64-native-linuxapp-gcc Fail/Total: 0/6 Detail performance results: +------------+---------+-------------------------------------+ | frame_size | txd/rxd | throughput difference from expected | +============+=========+=====================================+ | 64 | 256 | -0.010 | +------------+---------+-------------------------------------+ | 128 | 256 | 0.001 | +------------+---------+-------------------------------------+ | 256 | 256 | -0.499 | +------------+---------+-------------------------------------+ | 512 | 256 | 0.020 | +------------+---------+-------------------------------------+ | 1024 | 256 | 0.002 | +------------+---------+-------------------------------------+ | 1518 | 256 | -0.002 | +------------+---------+-------------------------------------+ To view detailed results, visit: https://lab.dpdk.org/results/dashboard/patchsets/12437/ UNH-IOL DPDK Community Lab To manage your email subscriptions, visit: https://lab.dpdk.org/results/dashboard/preferences/subscriptions/