* [dpdk-test-report] |SUCCESS| pw75168-75172 [PATCH] [v2, 1/4] net/virtio: add DEVICE_NEEDS_RESET status bit
@ 2020-08-04 16:07 dpdklab
0 siblings, 0 replies; 3+ messages in thread
From: dpdklab @ 2020-08-04 16:07 UTC (permalink / raw)
To: Test Report; +Cc: dpdk-test-reports
[-- Attachment #1: Type: text/plain, Size: 2913 bytes --]
Test-Label: iol-testing
Test-Status: SUCCESS
http://dpdk.org/patch/75168
_Testing PASS_
Submitter: Adrian Moreno <amorenoz@redhat.com>
Date: Tuesday, August 04 2020 07:24:28
DPDK git baseline: Repo:dpdk
Branch: master
CommitID:6636b04b82897816e0e05134f55a578cb7e124bc
75168-75172 --> testing pass
Test environment and result as below:
+---------------------+--------------------+-------------------+----------------+------------------+--------------+
| Environment | dpdk_meson_compile | dpdk_compile_spdk | dpdk_unit_test | dpdk_compile_ovs | dpdk_compile |
+=====================+====================+===================+================+==================+==============+
| Windows Server 2019 | PASS | SKIPPED | SKIPPED | SKIPPED | SKIPPED |
+---------------------+--------------------+-------------------+----------------+------------------+--------------+
| FreeBSD 11.2 | PASS | PASS | SKIPPED | SKIPPED | PASS |
+---------------------+--------------------+-------------------+----------------+------------------+--------------+
| openSUSE Leap 15 | PASS | PASS | SKIPPED | PASS | PASS |
+---------------------+--------------------+-------------------+----------------+------------------+--------------+
| Ubuntu 18.04 | PASS | PASS | PASS | PASS | PASS |
+---------------------+--------------------+-------------------+----------------+------------------+--------------+
| CentOS 8 | PASS | PASS | SKIPPED | PASS | PASS |
+---------------------+--------------------+-------------------+----------------+------------------+--------------+
| Fedora 31 | PASS | PASS | SKIPPED | PASS | PASS |
+---------------------+--------------------+-------------------+----------------+------------------+--------------+
| Arch Linux | PASS | SKIPPED | SKIPPED | PASS | PASS |
+---------------------+--------------------+-------------------+----------------+------------------+--------------+
Windows Server 2019
Kernel: 10.0
Compiler: clang 9.0
FreeBSD 11.2
Kernel: 11.2
Compiler: gcc 8.3
openSUSE Leap 15
Kernel: 4.12.14
Compiler: gcc 7.4.1
Ubuntu 18.04
Kernel: 4.15.0-generic
Compiler: gcc 7.4
CentOS 8
Kernel: 4.18.0.el8_0
Compiler: gcc 8.3.1
Fedora 31
Kernel: 5.3.16
Compiler: gcc 9.2.1
Arch Linux
Kernel: latest
Compiler: gcc latest
To view detailed results, visit:
https://lab.dpdk.org/results/dashboard/patchsets/12480/
UNH-IOL DPDK Community Lab
To manage your email subscriptions, visit:
https://lab.dpdk.org/results/dashboard/preferences/subscriptions/
^ permalink raw reply [flat|nested] 3+ messages in thread
* [dpdk-test-report] |SUCCESS| pw75168-75172 [PATCH] [v2, 1/4] net/virtio: add DEVICE_NEEDS_RESET status bit
@ 2020-08-04 16:25 dpdklab
0 siblings, 0 replies; 3+ messages in thread
From: dpdklab @ 2020-08-04 16:25 UTC (permalink / raw)
To: Ali Alnubani, Test Report; +Cc: dpdk-test-reports
[-- Attachment #1: Type: text/plain, Size: 3968 bytes --]
Test-Label: iol-mellanox-Performance
Test-Status: SUCCESS
http://dpdk.org/patch/75168
_Performance Testing PASS_
Submitter: Adrian Moreno <amorenoz@redhat.com>
Date: Tuesday, August 04 2020 07:24:28
DPDK git baseline: Repo:dpdk
Branch: master
CommitID:6636b04b82897816e0e05134f55a578cb7e124bc
75168-75172 --> performance testing pass
Test environment and result as below:
Ubuntu 18.04
Kernel: 4.15.0-generic
Compiler: gcc 7.4
NIC: Mellanox ConnectX-5 100000 Mbps
Target: x86_64-native-linuxapp-gcc
Fail/Total: 0/6
Detail performance results:
+------------+---------+-------------------------------------+
| frame_size | txd/rxd | throughput difference from expected |
+============+=========+=====================================+
| 64 | 256 | 0.242 |
+------------+---------+-------------------------------------+
| 128 | 256 | 0.229 |
+------------+---------+-------------------------------------+
| 256 | 256 | 0.340 |
+------------+---------+-------------------------------------+
| 512 | 256 | -0.037 |
+------------+---------+-------------------------------------+
| 1024 | 256 | -0.064 |
+------------+---------+-------------------------------------+
| 1518 | 256 | -0.038 |
+------------+---------+-------------------------------------+
Ubuntu 18.04
Kernel: 4.15.0-generic
Compiler: gcc 7.4
NIC: Mellanox ConnectX-4 Lx 25000 Mbps
Target: x86_64-native-linuxapp-gcc
Fail/Total: 0/6
Detail performance results:
+------------+---------+-------------------------------------+
| frame_size | txd/rxd | throughput difference from expected |
+============+=========+=====================================+
| 64 | 256 | -0.148 |
+------------+---------+-------------------------------------+
| 128 | 256 | 0.162 |
+------------+---------+-------------------------------------+
| 256 | 256 | 0.003 |
+------------+---------+-------------------------------------+
| 512 | 256 | -0.035 |
+------------+---------+-------------------------------------+
| 1024 | 256 | 0.010 |
+------------+---------+-------------------------------------+
| 1518 | 256 | -0.007 |
+------------+---------+-------------------------------------+
Ubuntu 18.04
Kernel: 4.15.0-generic
Compiler: gcc 7.4
NIC: Mellanox ConnectX-4 Lx 40000 Mbps
Target: x86_64-native-linuxapp-gcc
Fail/Total: 0/6
Detail performance results:
+------------+---------+-------------------------------------+
| frame_size | txd/rxd | throughput difference from expected |
+============+=========+=====================================+
| 64 | 256 | -0.205 |
+------------+---------+-------------------------------------+
| 128 | 256 | -0.099 |
+------------+---------+-------------------------------------+
| 256 | 256 | -0.075 |
+------------+---------+-------------------------------------+
| 512 | 256 | -0.002 |
+------------+---------+-------------------------------------+
| 1024 | 256 | -0.001 |
+------------+---------+-------------------------------------+
| 1518 | 256 | -0.002 |
+------------+---------+-------------------------------------+
To view detailed results, visit:
https://lab.dpdk.org/results/dashboard/patchsets/12480/
UNH-IOL DPDK Community Lab
To manage your email subscriptions, visit:
https://lab.dpdk.org/results/dashboard/preferences/subscriptions/
^ permalink raw reply [flat|nested] 3+ messages in thread
* [dpdk-test-report] |SUCCESS| pw75168-75172 [PATCH] [v2, 1/4] net/virtio: add DEVICE_NEEDS_RESET status bit
@ 2020-08-04 15:33 dpdklab
0 siblings, 0 replies; 3+ messages in thread
From: dpdklab @ 2020-08-04 15:33 UTC (permalink / raw)
To: Test Report; +Cc: dpdk-test-reports
[-- Attachment #1: Type: text/plain, Size: 1918 bytes --]
Test-Label: iol-intel-Performance
Test-Status: SUCCESS
http://dpdk.org/patch/75168
_Performance Testing PASS_
Submitter: Adrian Moreno <amorenoz@redhat.com>
Date: Tuesday, August 04 2020 07:24:28
DPDK git baseline: Repo:dpdk
Branch: master
CommitID:6636b04b82897816e0e05134f55a578cb7e124bc
75168-75172 --> performance testing pass
Test environment and result as below:
Ubuntu 18.04
Kernel: 4.15.0-generic
Compiler: gcc 7.4
NIC: Intel Corporation Ethernet Converged Network Adapter XL710-QDA2 40000 Mbps
Target: x86_64-native-linuxapp-gcc
Fail/Total: 0/2
Detail performance results:
+------------+---------+-------------------------------------+
| frame_size | txd/rxd | throughput difference from expected |
+============+=========+=====================================+
| 64 | 512 | 4.313 |
+------------+---------+-------------------------------------+
| 64 | 2048 | 2.712 |
+------------+---------+-------------------------------------+
Ubuntu 18.04
Kernel: 4.15.0-generic
Compiler: gcc 7.4
NIC: Intel Corporation Ethernet Converged Network Adapter 82599ES 10000 Mbps
Target: x86_64-native-linuxapp-gcc
Fail/Total: 0/2
Detail performance results:
+------------+---------+-------------------------------------+
| frame_size | txd/rxd | throughput difference from expected |
+============+=========+=====================================+
| 64 | 512 | 2.538 |
+------------+---------+-------------------------------------+
| 64 | 2048 | 1.241 |
+------------+---------+-------------------------------------+
To view detailed results, visit:
https://lab.dpdk.org/results/dashboard/patchsets/12480/
UNH-IOL DPDK Community Lab
To manage your email subscriptions, visit:
https://lab.dpdk.org/results/dashboard/preferences/subscriptions/
^ permalink raw reply [flat|nested] 3+ messages in thread
end of thread, other threads:[~2020-08-04 16:25 UTC | newest]
Thread overview: 3+ messages (download: mbox.gz / follow: Atom feed)
-- links below jump to the message on this page --
2020-08-04 16:07 [dpdk-test-report] |SUCCESS| pw75168-75172 [PATCH] [v2, 1/4] net/virtio: add DEVICE_NEEDS_RESET status bit dpdklab
-- strict thread matches above, loose matches on Subject: below --
2020-08-04 16:25 dpdklab
2020-08-04 15:33 dpdklab
This is a public inbox, see mirroring instructions
for how to clone and mirror all data and code used for this inbox;
as well as URLs for NNTP newsgroup(s).