* [dpdk-test-report] |SUCCESS| [GIT MASTER] cd6f1d7a5fde76c4f1e771de9f7aafdf59d691e4
@ 2020-08-11 1:13 dpdklab
0 siblings, 0 replies; 6+ messages in thread
From: dpdklab @ 2020-08-11 1:13 UTC (permalink / raw)
To: Test Report; +Cc: dpdk-test-reports
[-- Attachment #1: Type: text/plain, Size: 2708 bytes --]
_Testing PASS_
Branch: dpdk-next-net-mlx
cd6f1d7a5fde76c4f1e771de9f7aafdf59d691e4 --> testing pass
Test environment and result as below:
+---------------------+--------------------+-------------------+----------------+--------------+------------------+
| Environment | dpdk_meson_compile | dpdk_compile_spdk | dpdk_unit_test | dpdk_compile | dpdk_compile_ovs |
+=====================+====================+===================+================+==============+==================+
| Windows Server 2019 | PASS | SKIPPED | SKIPPED | SKIPPED | SKIPPED |
+---------------------+--------------------+-------------------+----------------+--------------+------------------+
| FreeBSD 11.2 | PASS | PASS | SKIPPED | PASS | SKIPPED |
+---------------------+--------------------+-------------------+----------------+--------------+------------------+
| Ubuntu 18.04 | PASS | PASS | PASS | PASS | PASS |
+---------------------+--------------------+-------------------+----------------+--------------+------------------+
| CentOS 8 | PASS | PASS | SKIPPED | PASS | PASS |
+---------------------+--------------------+-------------------+----------------+--------------+------------------+
| Fedora 31 | PASS | PASS | SKIPPED | PASS | PASS |
+---------------------+--------------------+-------------------+----------------+--------------+------------------+
| openSUSE Leap 15 | PASS | PASS | SKIPPED | PASS | PASS |
+---------------------+--------------------+-------------------+----------------+--------------+------------------+
| Arch Linux | PASS | SKIPPED | SKIPPED | PASS | PASS |
+---------------------+--------------------+-------------------+----------------+--------------+------------------+
Windows Server 2019
Kernel: 10.0
Compiler: clang 9.0
FreeBSD 11.2
Kernel: 11.2
Compiler: gcc 8.3
Ubuntu 18.04
Kernel: 4.15.0-generic
Compiler: gcc 7.4
CentOS 8
Kernel: 4.18.0.el8_0
Compiler: gcc 8.3.1
Fedora 31
Kernel: 5.3.16
Compiler: gcc 9.2.1
openSUSE Leap 15
Kernel: 4.12.14
Compiler: gcc 7.4.1
Arch Linux
Kernel: latest
Compiler: gcc latest
To view detailed results, visit:
https://lab.dpdk.org/results/dashboard/tarballs/10950/
UNH-IOL DPDK Community Lab
To manage your email subscriptions, visit:
https://lab.dpdk.org/results/dashboard/preferences/subscriptions/
^ permalink raw reply [flat|nested] 6+ messages in thread
* [dpdk-test-report] |SUCCESS| [GIT MASTER] cd6f1d7a5fde76c4f1e771de9f7aafdf59d691e4
@ 2020-08-11 1:58 dpdklab
0 siblings, 0 replies; 6+ messages in thread
From: dpdklab @ 2020-08-11 1:58 UTC (permalink / raw)
To: Test Report; +Cc: dpdk-test-reports
[-- Attachment #1: Type: text/plain, Size: 2695 bytes --]
_Testing PASS_
Branch: dpdk
cd6f1d7a5fde76c4f1e771de9f7aafdf59d691e4 --> testing pass
Test environment and result as below:
+---------------------+----------------+--------------------+--------------+-------------------+------------------+
| Environment | dpdk_unit_test | dpdk_meson_compile | dpdk_compile | dpdk_compile_spdk | dpdk_compile_ovs |
+=====================+================+====================+==============+===================+==================+
| Ubuntu 18.04 | PASS | PASS | PASS | PASS | PASS |
+---------------------+----------------+--------------------+--------------+-------------------+------------------+
| Windows Server 2019 | SKIPPED | PASS | SKIPPED | SKIPPED | SKIPPED |
+---------------------+----------------+--------------------+--------------+-------------------+------------------+
| FreeBSD 11.2 | SKIPPED | PASS | PASS | PASS | SKIPPED |
+---------------------+----------------+--------------------+--------------+-------------------+------------------+
| CentOS 8 | SKIPPED | PASS | PASS | PASS | PASS |
+---------------------+----------------+--------------------+--------------+-------------------+------------------+
| Fedora 31 | SKIPPED | PASS | PASS | PASS | PASS |
+---------------------+----------------+--------------------+--------------+-------------------+------------------+
| openSUSE Leap 15 | SKIPPED | PASS | PASS | PASS | PASS |
+---------------------+----------------+--------------------+--------------+-------------------+------------------+
| Arch Linux | SKIPPED | PASS | PASS | SKIPPED | PASS |
+---------------------+----------------+--------------------+--------------+-------------------+------------------+
Ubuntu 18.04
Kernel: 4.15.0-generic
Compiler: gcc 7.4
Windows Server 2019
Kernel: 10.0
Compiler: clang 9.0
FreeBSD 11.2
Kernel: 11.2
Compiler: gcc 8.3
CentOS 8
Kernel: 4.18.0.el8_0
Compiler: gcc 8.3.1
Fedora 31
Kernel: 5.3.16
Compiler: gcc 9.2.1
openSUSE Leap 15
Kernel: 4.12.14
Compiler: gcc 7.4.1
Arch Linux
Kernel: latest
Compiler: gcc latest
To view detailed results, visit:
https://lab.dpdk.org/results/dashboard/tarballs/10951/
UNH-IOL DPDK Community Lab
To manage your email subscriptions, visit:
https://lab.dpdk.org/results/dashboard/preferences/subscriptions/
^ permalink raw reply [flat|nested] 6+ messages in thread
* [dpdk-test-report] |SUCCESS| [GIT MASTER] cd6f1d7a5fde76c4f1e771de9f7aafdf59d691e4
@ 2020-08-11 0:03 dpdklab
0 siblings, 0 replies; 6+ messages in thread
From: dpdklab @ 2020-08-11 0:03 UTC (permalink / raw)
To: Test Report; +Cc: dpdk-test-reports
[-- Attachment #1: Type: text/plain, Size: 1690 bytes --]
_Performance Testing PASS_
Branch: dpdk
cd6f1d7a5fde76c4f1e771de9f7aafdf59d691e4 --> performance testing pass
Test environment and result as below:
Ubuntu 18.04
Kernel: 4.15.0-generic
Compiler: gcc 7.4
NIC: Intel Corporation Ethernet Converged Network Adapter XL710-QDA2 40000 Mbps
Target: x86_64-native-linuxapp-gcc
Fail/Total: 0/2
Detail performance results:
+------------+---------+-------------------------------------+
| frame_size | txd/rxd | throughput difference from expected |
+============+=========+=====================================+
| 64 | 512 | 5.144 |
+------------+---------+-------------------------------------+
| 64 | 2048 | 2.783 |
+------------+---------+-------------------------------------+
Ubuntu 18.04
Kernel: 4.15.0-generic
Compiler: gcc 7.4
NIC: Intel Corporation Ethernet Converged Network Adapter 82599ES 10000 Mbps
Target: x86_64-native-linuxapp-gcc
Fail/Total: 0/2
Detail performance results:
+------------+---------+-------------------------------------+
| frame_size | txd/rxd | throughput difference from expected |
+============+=========+=====================================+
| 64 | 512 | 3.014 |
+------------+---------+-------------------------------------+
| 64 | 2048 | 1.382 |
+------------+---------+-------------------------------------+
To view detailed results, visit:
https://lab.dpdk.org/results/dashboard/tarballs/10951/
UNH-IOL DPDK Community Lab
To manage your email subscriptions, visit:
https://lab.dpdk.org/results/dashboard/preferences/subscriptions/
^ permalink raw reply [flat|nested] 6+ messages in thread
* [dpdk-test-report] |SUCCESS| [GIT MASTER] cd6f1d7a5fde76c4f1e771de9f7aafdf59d691e4
@ 2020-08-10 23:35 dpdklab
0 siblings, 0 replies; 6+ messages in thread
From: dpdklab @ 2020-08-10 23:35 UTC (permalink / raw)
To: Test Report; +Cc: dpdk-test-reports
[-- Attachment #1: Type: text/plain, Size: 1703 bytes --]
_Performance Testing PASS_
Branch: dpdk-next-net-mlx
cd6f1d7a5fde76c4f1e771de9f7aafdf59d691e4 --> performance testing pass
Test environment and result as below:
Ubuntu 18.04
Kernel: 4.15.0-generic
Compiler: gcc 7.4
NIC: Intel Corporation Ethernet Converged Network Adapter XL710-QDA2 40000 Mbps
Target: x86_64-native-linuxapp-gcc
Fail/Total: 0/2
Detail performance results:
+------------+---------+-------------------------------------+
| frame_size | txd/rxd | throughput difference from expected |
+============+=========+=====================================+
| 64 | 512 | 4.264 |
+------------+---------+-------------------------------------+
| 64 | 2048 | 2.627 |
+------------+---------+-------------------------------------+
Ubuntu 18.04
Kernel: 4.15.0-generic
Compiler: gcc 7.4
NIC: Intel Corporation Ethernet Converged Network Adapter 82599ES 10000 Mbps
Target: x86_64-native-linuxapp-gcc
Fail/Total: 0/2
Detail performance results:
+------------+---------+-------------------------------------+
| frame_size | txd/rxd | throughput difference from expected |
+============+=========+=====================================+
| 64 | 512 | 2.846 |
+------------+---------+-------------------------------------+
| 64 | 2048 | 1.455 |
+------------+---------+-------------------------------------+
To view detailed results, visit:
https://lab.dpdk.org/results/dashboard/tarballs/10950/
UNH-IOL DPDK Community Lab
To manage your email subscriptions, visit:
https://lab.dpdk.org/results/dashboard/preferences/subscriptions/
^ permalink raw reply [flat|nested] 6+ messages in thread
* [dpdk-test-report] |SUCCESS| [GIT MASTER] cd6f1d7a5fde76c4f1e771de9f7aafdf59d691e4
@ 2020-08-09 22:39 dpdklab
0 siblings, 0 replies; 6+ messages in thread
From: dpdklab @ 2020-08-09 22:39 UTC (permalink / raw)
To: Ali Alnubani, Test Report; +Cc: dpdk-test-reports
[-- Attachment #1: Type: text/plain, Size: 3737 bytes --]
_Performance Testing PASS_
Branch: dpdk
cd6f1d7a5fde76c4f1e771de9f7aafdf59d691e4 --> performance testing pass
Test environment and result as below:
Ubuntu 18.04
Kernel: 4.15.0-generic
Compiler: gcc 7.4
NIC: Mellanox ConnectX-5 100000 Mbps
Target: x86_64-native-linuxapp-gcc
Fail/Total: 0/6
Detail performance results:
+------------+---------+-------------------------------------+
| frame_size | txd/rxd | throughput difference from expected |
+============+=========+=====================================+
| 64 | 256 | -0.275 |
+------------+---------+-------------------------------------+
| 128 | 256 | -0.236 |
+------------+---------+-------------------------------------+
| 256 | 256 | -0.061 |
+------------+---------+-------------------------------------+
| 512 | 256 | 0.018 |
+------------+---------+-------------------------------------+
| 1024 | 256 | 0.153 |
+------------+---------+-------------------------------------+
| 1518 | 256 | -0.028 |
+------------+---------+-------------------------------------+
Ubuntu 18.04
Kernel: 4.15.0-generic
Compiler: gcc 7.4
NIC: Mellanox ConnectX-4 Lx 25000 Mbps
Target: x86_64-native-linuxapp-gcc
Fail/Total: 0/6
Detail performance results:
+------------+---------+-------------------------------------+
| frame_size | txd/rxd | throughput difference from expected |
+============+=========+=====================================+
| 64 | 256 | 0.061 |
+------------+---------+-------------------------------------+
| 128 | 256 | -0.547 |
+------------+---------+-------------------------------------+
| 256 | 256 | 0.041 |
+------------+---------+-------------------------------------+
| 512 | 256 | -0.002 |
+------------+---------+-------------------------------------+
| 1024 | 256 | -0.001 |
+------------+---------+-------------------------------------+
| 1518 | 256 | -0.014 |
+------------+---------+-------------------------------------+
Ubuntu 18.04
Kernel: 4.15.0-generic
Compiler: gcc 7.4
NIC: Mellanox ConnectX-4 Lx 40000 Mbps
Target: x86_64-native-linuxapp-gcc
Fail/Total: 0/6
Detail performance results:
+------------+---------+-------------------------------------+
| frame_size | txd/rxd | throughput difference from expected |
+============+=========+=====================================+
| 64 | 256 | -0.014 |
+------------+---------+-------------------------------------+
| 128 | 256 | -0.282 |
+------------+---------+-------------------------------------+
| 256 | 256 | 0.225 |
+------------+---------+-------------------------------------+
| 512 | 256 | -0.012 |
+------------+---------+-------------------------------------+
| 1024 | 256 | 0 |
+------------+---------+-------------------------------------+
| 1518 | 256 | -0.001 |
+------------+---------+-------------------------------------+
To view detailed results, visit:
https://lab.dpdk.org/results/dashboard/tarballs/10951/
UNH-IOL DPDK Community Lab
To manage your email subscriptions, visit:
https://lab.dpdk.org/results/dashboard/preferences/subscriptions/
^ permalink raw reply [flat|nested] 6+ messages in thread
* [dpdk-test-report] |SUCCESS| [GIT MASTER] cd6f1d7a5fde76c4f1e771de9f7aafdf59d691e4
@ 2020-08-09 15:18 dpdklab
0 siblings, 0 replies; 6+ messages in thread
From: dpdklab @ 2020-08-09 15:18 UTC (permalink / raw)
To: Ali Alnubani, Test Report; +Cc: dpdk-test-reports
[-- Attachment #1: Type: text/plain, Size: 3750 bytes --]
_Performance Testing PASS_
Branch: dpdk-next-net-mlx
cd6f1d7a5fde76c4f1e771de9f7aafdf59d691e4 --> performance testing pass
Test environment and result as below:
Ubuntu 18.04
Kernel: 4.15.0-generic
Compiler: gcc 7.4
NIC: Mellanox ConnectX-5 100000 Mbps
Target: x86_64-native-linuxapp-gcc
Fail/Total: 0/6
Detail performance results:
+------------+---------+-------------------------------------+
| frame_size | txd/rxd | throughput difference from expected |
+============+=========+=====================================+
| 64 | 256 | -0.149 |
+------------+---------+-------------------------------------+
| 128 | 256 | -0.020 |
+------------+---------+-------------------------------------+
| 256 | 256 | 0.144 |
+------------+---------+-------------------------------------+
| 512 | 256 | -0.061 |
+------------+---------+-------------------------------------+
| 1024 | 256 | 0.193 |
+------------+---------+-------------------------------------+
| 1518 | 256 | -0.018 |
+------------+---------+-------------------------------------+
Ubuntu 18.04
Kernel: 4.15.0-generic
Compiler: gcc 7.4
NIC: Mellanox ConnectX-4 Lx 25000 Mbps
Target: x86_64-native-linuxapp-gcc
Fail/Total: 0/6
Detail performance results:
+------------+---------+-------------------------------------+
| frame_size | txd/rxd | throughput difference from expected |
+============+=========+=====================================+
| 64 | 256 | -0.084 |
+------------+---------+-------------------------------------+
| 128 | 256 | -0.338 |
+------------+---------+-------------------------------------+
| 256 | 256 | -0.170 |
+------------+---------+-------------------------------------+
| 512 | 256 | -0.036 |
+------------+---------+-------------------------------------+
| 1024 | 256 | -0.002 |
+------------+---------+-------------------------------------+
| 1518 | 256 | -0.013 |
+------------+---------+-------------------------------------+
Ubuntu 18.04
Kernel: 4.15.0-generic
Compiler: gcc 7.4
NIC: Mellanox ConnectX-4 Lx 40000 Mbps
Target: x86_64-native-linuxapp-gcc
Fail/Total: 0/6
Detail performance results:
+------------+---------+-------------------------------------+
| frame_size | txd/rxd | throughput difference from expected |
+============+=========+=====================================+
| 64 | 256 | -0.071 |
+------------+---------+-------------------------------------+
| 128 | 256 | -0.061 |
+------------+---------+-------------------------------------+
| 256 | 256 | 0.234 |
+------------+---------+-------------------------------------+
| 512 | 256 | -0.027 |
+------------+---------+-------------------------------------+
| 1024 | 256 | -0.001 |
+------------+---------+-------------------------------------+
| 1518 | 256 | 0 |
+------------+---------+-------------------------------------+
To view detailed results, visit:
https://lab.dpdk.org/results/dashboard/tarballs/10950/
UNH-IOL DPDK Community Lab
To manage your email subscriptions, visit:
https://lab.dpdk.org/results/dashboard/preferences/subscriptions/
^ permalink raw reply [flat|nested] 6+ messages in thread
end of thread, other threads:[~2020-08-11 1:58 UTC | newest]
Thread overview: 6+ messages (download: mbox.gz / follow: Atom feed)
-- links below jump to the message on this page --
2020-08-11 1:13 [dpdk-test-report] |SUCCESS| [GIT MASTER] cd6f1d7a5fde76c4f1e771de9f7aafdf59d691e4 dpdklab
-- strict thread matches above, loose matches on Subject: below --
2020-08-11 1:58 dpdklab
2020-08-11 0:03 dpdklab
2020-08-10 23:35 dpdklab
2020-08-09 22:39 dpdklab
2020-08-09 15:18 dpdklab
This is a public inbox, see mirroring instructions
for how to clone and mirror all data and code used for this inbox;
as well as URLs for NNTP newsgroup(s).