* [dpdk-test-report] |SUCCESS| pw75599 [PATCH v3] eal/arm64: update CPU flags
[not found] <20200818024355.23364-1-huwei013@chinasoftinc.com>
@ 2020-08-18 2:45 ` checkpatch
0 siblings, 0 replies; 4+ messages in thread
From: checkpatch @ 2020-08-18 2:45 UTC (permalink / raw)
To: test-report
Test-Label: checkpatch
Test-Status: SUCCESS
http://dpdk.org/patch/75599
_coding style OK_
^ permalink raw reply [flat|nested] 4+ messages in thread
* [dpdk-test-report] |SUCCESS| pw75599 [PATCH] [v3] eal/arm64: update CPU flags
@ 2020-08-18 7:08 dpdklab
0 siblings, 0 replies; 4+ messages in thread
From: dpdklab @ 2020-08-18 7:08 UTC (permalink / raw)
To: Ali Alnubani, Test Report; +Cc: dpdk-test-reports
[-- Attachment #1: Type: text/plain, Size: 3970 bytes --]
Test-Label: iol-mellanox-Performance
Test-Status: SUCCESS
http://dpdk.org/patch/75599
_Performance Testing PASS_
Submitter: Wei Hu (Xavier) <huwei013@chinasoftinc.com>
Date: Tuesday, August 18 2020 02:43:55
DPDK git baseline: Repo:dpdk
Branch: master
CommitID:cd6f1d7a5fde76c4f1e771de9f7aafdf59d691e4
75599 --> performance testing pass
Test environment and result as below:
Ubuntu 18.04
Kernel: 4.15.0-generic
Compiler: gcc 7.4
NIC: Mellanox ConnectX-5 100000 Mbps
Target: x86_64-native-linuxapp-gcc
Fail/Total: 0/6
Detail performance results:
+------------+---------+-------------------------------------+
| frame_size | txd/rxd | throughput difference from expected |
+============+=========+=====================================+
| 64 | 256 | 0.026 |
+------------+---------+-------------------------------------+
| 128 | 256 | 0.140 |
+------------+---------+-------------------------------------+
| 256 | 256 | -0.010 |
+------------+---------+-------------------------------------+
| 512 | 256 | 0.052 |
+------------+---------+-------------------------------------+
| 1024 | 256 | 0.033 |
+------------+---------+-------------------------------------+
| 1518 | 256 | 0.017 |
+------------+---------+-------------------------------------+
Ubuntu 18.04
Kernel: 4.15.0-generic
Compiler: gcc 7.4
NIC: Mellanox ConnectX-4 Lx 25000 Mbps
Target: x86_64-native-linuxapp-gcc
Fail/Total: 0/6
Detail performance results:
+------------+---------+-------------------------------------+
| frame_size | txd/rxd | throughput difference from expected |
+============+=========+=====================================+
| 64 | 256 | 0.064 |
+------------+---------+-------------------------------------+
| 128 | 256 | -0.052 |
+------------+---------+-------------------------------------+
| 256 | 256 | -0.144 |
+------------+---------+-------------------------------------+
| 512 | 256 | -0.034 |
+------------+---------+-------------------------------------+
| 1024 | 256 | 0.007 |
+------------+---------+-------------------------------------+
| 1518 | 256 | 0.004 |
+------------+---------+-------------------------------------+
Ubuntu 18.04
Kernel: 4.15.0-generic
Compiler: gcc 7.4
NIC: Mellanox ConnectX-4 Lx 40000 Mbps
Target: x86_64-native-linuxapp-gcc
Fail/Total: 0/6
Detail performance results:
+------------+---------+-------------------------------------+
| frame_size | txd/rxd | throughput difference from expected |
+============+=========+=====================================+
| 64 | 256 | 0.173 |
+------------+---------+-------------------------------------+
| 128 | 256 | 0.142 |
+------------+---------+-------------------------------------+
| 256 | 256 | 0.160 |
+------------+---------+-------------------------------------+
| 512 | 256 | 0.043 |
+------------+---------+-------------------------------------+
| 1024 | 256 | 0.027 |
+------------+---------+-------------------------------------+
| 1518 | 256 | 0.005 |
+------------+---------+-------------------------------------+
To view detailed results, visit:
https://lab.dpdk.org/results/dashboard/patchsets/12623/
UNH-IOL DPDK Community Lab
To manage your email subscriptions, visit:
https://lab.dpdk.org/results/dashboard/preferences/subscriptions/
^ permalink raw reply [flat|nested] 4+ messages in thread
* [dpdk-test-report] |SUCCESS| pw75599 [PATCH] [v3] eal/arm64: update CPU flags
@ 2020-08-18 6:41 dpdklab
0 siblings, 0 replies; 4+ messages in thread
From: dpdklab @ 2020-08-18 6:41 UTC (permalink / raw)
To: Test Report; +Cc: dpdk-test-reports
[-- Attachment #1: Type: text/plain, Size: 2915 bytes --]
Test-Label: iol-testing
Test-Status: SUCCESS
http://dpdk.org/patch/75599
_Testing PASS_
Submitter: Wei Hu (Xavier) <huwei013@chinasoftinc.com>
Date: Tuesday, August 18 2020 02:43:55
DPDK git baseline: Repo:dpdk
Branch: master
CommitID:cd6f1d7a5fde76c4f1e771de9f7aafdf59d691e4
75599 --> testing pass
Test environment and result as below:
+---------------------+--------------------+------------------+-------------------+----------------+--------------+
| Environment | dpdk_meson_compile | dpdk_compile_ovs | dpdk_compile_spdk | dpdk_unit_test | dpdk_compile |
+=====================+====================+==================+===================+================+==============+
| Windows Server 2019 | PASS | SKIPPED | SKIPPED | SKIPPED | SKIPPED |
+---------------------+--------------------+------------------+-------------------+----------------+--------------+
| FreeBSD 11.2 | PASS | SKIPPED | PASS | SKIPPED | PASS |
+---------------------+--------------------+------------------+-------------------+----------------+--------------+
| Ubuntu 18.04 | PASS | PASS | PASS | PASS | PASS |
+---------------------+--------------------+------------------+-------------------+----------------+--------------+
| CentOS 8 | PASS | PASS | PASS | SKIPPED | PASS |
+---------------------+--------------------+------------------+-------------------+----------------+--------------+
| Arch Linux | PASS | PASS | SKIPPED | SKIPPED | PASS |
+---------------------+--------------------+------------------+-------------------+----------------+--------------+
| openSUSE Leap 15 | PASS | PASS | PASS | SKIPPED | PASS |
+---------------------+--------------------+------------------+-------------------+----------------+--------------+
| Fedora 31 | PASS | PASS | PASS | SKIPPED | PASS |
+---------------------+--------------------+------------------+-------------------+----------------+--------------+
Windows Server 2019
Kernel: 10.0
Compiler: clang 9.0
FreeBSD 11.2
Kernel: 11.2
Compiler: gcc 8.3
Ubuntu 18.04
Kernel: 4.15.0-generic
Compiler: gcc 7.4
CentOS 8
Kernel: 4.18.0.el8_0
Compiler: gcc 8.3.1
Arch Linux
Kernel: latest
Compiler: gcc latest
openSUSE Leap 15
Kernel: 4.12.14
Compiler: gcc 7.4.1
Fedora 31
Kernel: 5.3.16
Compiler: gcc 9.2.1
To view detailed results, visit:
https://lab.dpdk.org/results/dashboard/patchsets/12623/
UNH-IOL DPDK Community Lab
To manage your email subscriptions, visit:
https://lab.dpdk.org/results/dashboard/preferences/subscriptions/
^ permalink raw reply [flat|nested] 4+ messages in thread
* [dpdk-test-report] |SUCCESS| pw75599 [PATCH] [v3] eal/arm64: update CPU flags
@ 2020-08-18 5:51 dpdklab
0 siblings, 0 replies; 4+ messages in thread
From: dpdklab @ 2020-08-18 5:51 UTC (permalink / raw)
To: Test Report; +Cc: dpdk-test-reports
[-- Attachment #1: Type: text/plain, Size: 1920 bytes --]
Test-Label: iol-intel-Performance
Test-Status: SUCCESS
http://dpdk.org/patch/75599
_Performance Testing PASS_
Submitter: Wei Hu (Xavier) <huwei013@chinasoftinc.com>
Date: Tuesday, August 18 2020 02:43:55
DPDK git baseline: Repo:dpdk
Branch: master
CommitID:cd6f1d7a5fde76c4f1e771de9f7aafdf59d691e4
75599 --> performance testing pass
Test environment and result as below:
Ubuntu 18.04
Kernel: 4.15.0-generic
Compiler: gcc 7.4
NIC: Intel Corporation Ethernet Converged Network Adapter XL710-QDA2 40000 Mbps
Target: x86_64-native-linuxapp-gcc
Fail/Total: 0/2
Detail performance results:
+------------+---------+-------------------------------------+
| frame_size | txd/rxd | throughput difference from expected |
+============+=========+=====================================+
| 64 | 512 | 4.273 |
+------------+---------+-------------------------------------+
| 64 | 2048 | 2.720 |
+------------+---------+-------------------------------------+
Ubuntu 18.04
Kernel: 4.15.0-generic
Compiler: gcc 7.4
NIC: Intel Corporation Ethernet Converged Network Adapter 82599ES 10000 Mbps
Target: x86_64-native-linuxapp-gcc
Fail/Total: 0/2
Detail performance results:
+------------+---------+-------------------------------------+
| frame_size | txd/rxd | throughput difference from expected |
+============+=========+=====================================+
| 64 | 512 | 2.782 |
+------------+---------+-------------------------------------+
| 64 | 2048 | 0.931 |
+------------+---------+-------------------------------------+
To view detailed results, visit:
https://lab.dpdk.org/results/dashboard/patchsets/12623/
UNH-IOL DPDK Community Lab
To manage your email subscriptions, visit:
https://lab.dpdk.org/results/dashboard/preferences/subscriptions/
^ permalink raw reply [flat|nested] 4+ messages in thread
end of thread, other threads:[~2020-08-18 7:08 UTC | newest]
Thread overview: 4+ messages (download: mbox.gz / follow: Atom feed)
-- links below jump to the message on this page --
[not found] <20200818024355.23364-1-huwei013@chinasoftinc.com>
2020-08-18 2:45 ` [dpdk-test-report] |SUCCESS| pw75599 [PATCH v3] eal/arm64: update CPU flags checkpatch
2020-08-18 5:51 [dpdk-test-report] |SUCCESS| pw75599 [PATCH] [v3] " dpdklab
2020-08-18 6:41 dpdklab
2020-08-18 7:08 dpdklab
This is a public inbox, see mirroring instructions
for how to clone and mirror all data and code used for this inbox;
as well as URLs for NNTP newsgroup(s).