[-- Attachment #1: Type: text/plain, Size: 1275 bytes --] Test-Label: iol-broadcom-Performance Test-Status: SUCCESS http://dpdk.org/patch/76985 _Performance Testing PASS_ Submitter: Min Hu (Connor) <humin29@huawei.com> Date: Wednesday, September 09 2020 02:43:01 DPDK git baseline: Repo:dpdk Branch: master CommitID:cd6f1d7a5fde76c4f1e771de9f7aafdf59d691e4 76986-76985 --> performance testing pass Test environment and result as below: Ubuntu 18.04 Kernel: 4.15.0-65-generic Compiler: gcc gcc (Ubuntu 7.4.0-1ubuntu1~18.04.1) 7.4.0 NIC: Broadcom Inc. brcm_57414 25000 Mbps Target: x86_64-native-linuxapp-gcc Fail/Total: 0/2 Detail performance results: +------------+---------+-------------------------------------+ | frame_size | txd/rxd | throughput difference from expected | +============+=========+=====================================+ | 64 | 512 | 0.064 | +------------+---------+-------------------------------------+ | 64 | 2048 | -0.018 | +------------+---------+-------------------------------------+ To view detailed results, visit: https://lab.dpdk.org/results/dashboard/patchsets/12912/ UNH-IOL DPDK Community Lab To manage your email subscriptions, visit: https://lab.dpdk.org/results/dashboard/preferences/subscriptions/
[-- Attachment #1: Type: text/plain, Size: 802 bytes --] Test-Label: iol-broadcom-Functional Test-Status: SUCCESS http://dpdk.org/patch/76985 _Functional Testing PASS_ Submitter: Min Hu (Connor) <humin29@huawei.com> Date: Wednesday, September 09 2020 02:43:01 DPDK git baseline: Repo:dpdk Branch: master CommitID:cd6f1d7a5fde76c4f1e771de9f7aafdf59d691e4 76986-76985 --> functional testing pass Test environment and result as below: Ubuntu 18.04 Kernel: 4.15.0-65-generic Compiler: gcc gcc (Ubuntu 7.4.0-1ubuntu1~18.04.1) 7.4.0 NIC: Broadcom Inc. brcm_57414 25000 Mbps Target: x86_64-native-linuxapp-gcc Fail/Total: 0/5 To view detailed results, visit: https://lab.dpdk.org/results/dashboard/patchsets/12912/ UNH-IOL DPDK Community Lab To manage your email subscriptions, visit: https://lab.dpdk.org/results/dashboard/preferences/subscriptions/
[-- Attachment #1: Type: text/plain, Size: 797 bytes --] Test-Label: iol-intel-Functional Test-Status: SUCCESS http://dpdk.org/patch/76985 _Functional Testing PASS_ Submitter: Min Hu (Connor) <humin29@huawei.com> Date: Wednesday, September 09 2020 02:43:01 DPDK git baseline: Repo:dpdk Branch: master CommitID:cd6f1d7a5fde76c4f1e771de9f7aafdf59d691e4 76986-76985 --> functional testing pass Test environment and result as below: Ubuntu 18.04 Kernel: 4.15.0-generic Compiler: gcc 7.4 NIC: Intel Corporation Ethernet Converged Network Adapter XL710-QDA2 40000 Mbps Target: x86_64-native-linuxapp-gcc Fail/Total: 0/8 To view detailed results, visit: https://lab.dpdk.org/results/dashboard/patchsets/12912/ UNH-IOL DPDK Community Lab To manage your email subscriptions, visit: https://lab.dpdk.org/results/dashboard/preferences/subscriptions/
[-- Attachment #1: Type: text/plain, Size: 1270 bytes --] Test-Label: iol-intel-Performance Test-Status: SUCCESS http://dpdk.org/patch/76985 _Performance Testing PASS_ Submitter: Min Hu (Connor) <humin29@huawei.com> Date: Wednesday, September 09 2020 02:43:01 DPDK git baseline: Repo:dpdk Branch: master CommitID:cd6f1d7a5fde76c4f1e771de9f7aafdf59d691e4 76986-76985 --> performance testing pass Test environment and result as below: Ubuntu 18.04 Kernel: 4.15.0-generic Compiler: gcc 7.4 NIC: Intel Corporation Ethernet Converged Network Adapter XL710-QDA2 40000 Mbps Target: x86_64-native-linuxapp-gcc Fail/Total: 0/2 Detail performance results: +------------+---------+-------------------------------------+ | frame_size | txd/rxd | throughput difference from expected | +============+=========+=====================================+ | 64 | 512 | 4.488 | +------------+---------+-------------------------------------+ | 64 | 2048 | 2.840 | +------------+---------+-------------------------------------+ To view detailed results, visit: https://lab.dpdk.org/results/dashboard/patchsets/12912/ UNH-IOL DPDK Community Lab To manage your email subscriptions, visit: https://lab.dpdk.org/results/dashboard/preferences/subscriptions/
[-- Attachment #1: Type: text/plain, Size: 2664 bytes --] Test-Label: iol-testing Test-Status: SUCCESS http://dpdk.org/patch/76985 _Testing PASS_ Submitter: Min Hu (Connor) <humin29@huawei.com> Date: Wednesday, September 09 2020 02:43:01 DPDK git baseline: Repo:dpdk Branch: master CommitID:cd6f1d7a5fde76c4f1e771de9f7aafdf59d691e4 76986-76985 --> testing pass Test environment and result as below: +---------------------+--------------------+-------------------+------------------+----------------+ | Environment | dpdk_meson_compile | dpdk_compile_spdk | dpdk_compile_ovs | dpdk_unit_test | +=====================+====================+===================+==================+================+ | Windows Server 2019 | PASS | SKIPPED | SKIPPED | SKIPPED | +---------------------+--------------------+-------------------+------------------+----------------+ | FreeBSD 11.2 | PASS | PASS | SKIPPED | SKIPPED | +---------------------+--------------------+-------------------+------------------+----------------+ | Ubuntu 18.04 | PASS | PASS | PASS | PASS | +---------------------+--------------------+-------------------+------------------+----------------+ | Fedora 31 | PASS | PASS | PASS | SKIPPED | +---------------------+--------------------+-------------------+------------------+----------------+ | CentOS 8 | PASS | PASS | PASS | SKIPPED | +---------------------+--------------------+-------------------+------------------+----------------+ | openSUSE Leap 15 | PASS | PASS | PASS | SKIPPED | +---------------------+--------------------+-------------------+------------------+----------------+ | Arch Linux | PASS | SKIPPED | PASS | SKIPPED | +---------------------+--------------------+-------------------+------------------+----------------+ Windows Server 2019 Kernel: 10.0 Compiler: clang 9.0 FreeBSD 11.2 Kernel: 11.2 Compiler: gcc 8.3 Ubuntu 18.04 Kernel: 4.15.0-generic Compiler: gcc 7.4 Fedora 31 Kernel: 5.3.16 Compiler: gcc 9.2.1 CentOS 8 Kernel: 4.18.0.el8_0 Compiler: gcc 8.3.1 openSUSE Leap 15 Kernel: 4.12.14 Compiler: gcc 7.4.1 Arch Linux Kernel: latest Compiler: gcc latest To view detailed results, visit: https://lab.dpdk.org/results/dashboard/patchsets/12912/ UNH-IOL DPDK Community Lab To manage your email subscriptions, visit: https://lab.dpdk.org/results/dashboard/preferences/subscriptions/
[-- Attachment #1: Type: text/plain, Size: 3974 bytes --] Test-Label: iol-mellanox-Performance Test-Status: SUCCESS http://dpdk.org/patch/76985 _Performance Testing PASS_ Submitter: Min Hu (Connor) <humin29@huawei.com> Date: Wednesday, September 09 2020 02:43:01 DPDK git baseline: Repo:dpdk Branch: master CommitID:cd6f1d7a5fde76c4f1e771de9f7aafdf59d691e4 76986-76985 --> performance testing pass Test environment and result as below: Ubuntu 18.04 Kernel: 4.15.0-generic Compiler: gcc 7.4 NIC: Mellanox ConnectX-5 100000 Mbps Target: x86_64-native-linuxapp-gcc Fail/Total: 0/6 Detail performance results: +------------+---------+-------------------------------------+ | frame_size | txd/rxd | throughput difference from expected | +============+=========+=====================================+ | 64 | 256 | -0.192 | +------------+---------+-------------------------------------+ | 128 | 256 | -0.001 | +------------+---------+-------------------------------------+ | 256 | 256 | 0.117 | +------------+---------+-------------------------------------+ | 512 | 256 | 0.023 | +------------+---------+-------------------------------------+ | 1024 | 256 | -0.022 | +------------+---------+-------------------------------------+ | 1518 | 256 | 0.024 | +------------+---------+-------------------------------------+ Ubuntu 18.04 Kernel: 4.15.0-generic Compiler: gcc 7.4 NIC: Mellanox ConnectX-4 Lx 25000 Mbps Target: x86_64-native-linuxapp-gcc Fail/Total: 0/6 Detail performance results: +------------+---------+-------------------------------------+ | frame_size | txd/rxd | throughput difference from expected | +============+=========+=====================================+ | 64 | 256 | 0.121 | +------------+---------+-------------------------------------+ | 128 | 256 | 0.162 | +------------+---------+-------------------------------------+ | 256 | 256 | -0.057 | +------------+---------+-------------------------------------+ | 512 | 256 | -0.074 | +------------+---------+-------------------------------------+ | 1024 | 256 | 0.007 | +------------+---------+-------------------------------------+ | 1518 | 256 | 0.011 | +------------+---------+-------------------------------------+ Ubuntu 18.04 Kernel: 4.15.0-generic Compiler: gcc 7.4 NIC: Mellanox ConnectX-4 Lx 40000 Mbps Target: x86_64-native-linuxapp-gcc Fail/Total: 0/6 Detail performance results: +------------+---------+-------------------------------------+ | frame_size | txd/rxd | throughput difference from expected | +============+=========+=====================================+ | 64 | 256 | 0.116 | +------------+---------+-------------------------------------+ | 128 | 256 | 0.357 | +------------+---------+-------------------------------------+ | 256 | 256 | -0.341 | +------------+---------+-------------------------------------+ | 512 | 256 | 0.006 | +------------+---------+-------------------------------------+ | 1024 | 256 | 0.001 | +------------+---------+-------------------------------------+ | 1518 | 256 | 0.007 | +------------+---------+-------------------------------------+ To view detailed results, visit: https://lab.dpdk.org/results/dashboard/patchsets/12912/ UNH-IOL DPDK Community Lab To manage your email subscriptions, visit: https://lab.dpdk.org/results/dashboard/preferences/subscriptions/