* [dpdk-test-report] |SUCCESS| pw78516 [PATCH] vhost: fix external backends readiness
@ 2020-09-23 10:44 dpdklab
0 siblings, 0 replies; 7+ messages in thread
From: dpdklab @ 2020-09-23 10:44 UTC (permalink / raw)
To: Test Report; +Cc: dpdk-test-reports
[-- Attachment #1: Type: text/plain, Size: 1272 bytes --]
Test-Label: iol-intel-Performance
Test-Status: SUCCESS
http://dpdk.org/patch/78516
_Performance Testing PASS_
Submitter: Maxime Coquelin <maxime.coquelin@redhat.com>
Date: Wednesday, September 23 2020 09:49:02
DPDK git baseline: Repo:dpdk
Branch: master
CommitID:0c762e81da9b3eec4c29c9fb9c7fa94b3028c180
78516 --> performance testing pass
Test environment and result as below:
Ubuntu 18.04
Kernel: 4.15.0-generic
Compiler: gcc 7.4
NIC: Intel Corporation Ethernet Converged Network Adapter XL710-QDA2 40000 Mbps
Target: x86_64-native-linuxapp-gcc
Fail/Total: 0/2
Detail performance results:
+------------+---------+-------------------------------------+
| frame_size | txd/rxd | throughput difference from expected |
+============+=========+=====================================+
| 64 | 512 | 3.469 |
+------------+---------+-------------------------------------+
| 64 | 2048 | 1.696 |
+------------+---------+-------------------------------------+
To view detailed results, visit:
https://lab.dpdk.org/results/dashboard/patchsets/13232/
UNH-IOL DPDK Community Lab
To manage your email subscriptions, visit:
https://lab.dpdk.org/results/dashboard/preferences/subscriptions/
^ permalink raw reply [flat|nested] 7+ messages in thread
* [dpdk-test-report] |SUCCESS| pw78516 [PATCH] vhost: fix external backends readiness
@ 2020-09-23 12:09 dpdklab
0 siblings, 0 replies; 7+ messages in thread
From: dpdklab @ 2020-09-23 12:09 UTC (permalink / raw)
To: Ali Alnubani, Test Report; +Cc: dpdk-test-reports
[-- Attachment #1: Type: text/plain, Size: 3976 bytes --]
Test-Label: iol-mellanox-Performance
Test-Status: SUCCESS
http://dpdk.org/patch/78516
_Performance Testing PASS_
Submitter: Maxime Coquelin <maxime.coquelin@redhat.com>
Date: Wednesday, September 23 2020 09:49:02
DPDK git baseline: Repo:dpdk
Branch: master
CommitID:0c762e81da9b3eec4c29c9fb9c7fa94b3028c180
78516 --> performance testing pass
Test environment and result as below:
Ubuntu 18.04
Kernel: 4.15.0-generic
Compiler: gcc 7.4
NIC: Mellanox ConnectX-5 100000 Mbps
Target: x86_64-native-linuxapp-gcc
Fail/Total: 0/6
Detail performance results:
+------------+---------+-------------------------------------+
| frame_size | txd/rxd | throughput difference from expected |
+============+=========+=====================================+
| 64 | 256 | 0.076 |
+------------+---------+-------------------------------------+
| 128 | 256 | 0.066 |
+------------+---------+-------------------------------------+
| 256 | 256 | 0.142 |
+------------+---------+-------------------------------------+
| 512 | 256 | 0.116 |
+------------+---------+-------------------------------------+
| 1024 | 256 | 0.019 |
+------------+---------+-------------------------------------+
| 1518 | 256 | -0.004 |
+------------+---------+-------------------------------------+
Ubuntu 18.04
Kernel: 4.15.0-generic
Compiler: gcc 7.4
NIC: Mellanox ConnectX-4 Lx 25000 Mbps
Target: x86_64-native-linuxapp-gcc
Fail/Total: 0/6
Detail performance results:
+------------+---------+-------------------------------------+
| frame_size | txd/rxd | throughput difference from expected |
+============+=========+=====================================+
| 64 | 256 | -0.141 |
+------------+---------+-------------------------------------+
| 128 | 256 | -0.005 |
+------------+---------+-------------------------------------+
| 256 | 256 | -0.062 |
+------------+---------+-------------------------------------+
| 512 | 256 | 0.024 |
+------------+---------+-------------------------------------+
| 1024 | 256 | -0.007 |
+------------+---------+-------------------------------------+
| 1518 | 256 | 0.007 |
+------------+---------+-------------------------------------+
Ubuntu 18.04
Kernel: 4.15.0-generic
Compiler: gcc 7.4
NIC: Mellanox ConnectX-4 Lx 40000 Mbps
Target: x86_64-native-linuxapp-gcc
Fail/Total: 0/6
Detail performance results:
+------------+---------+-------------------------------------+
| frame_size | txd/rxd | throughput difference from expected |
+============+=========+=====================================+
| 64 | 256 | 0.239 |
+------------+---------+-------------------------------------+
| 128 | 256 | 0.129 |
+------------+---------+-------------------------------------+
| 256 | 256 | 0.287 |
+------------+---------+-------------------------------------+
| 512 | 256 | -0.010 |
+------------+---------+-------------------------------------+
| 1024 | 256 | 0.015 |
+------------+---------+-------------------------------------+
| 1518 | 256 | 0.007 |
+------------+---------+-------------------------------------+
To view detailed results, visit:
https://lab.dpdk.org/results/dashboard/patchsets/13232/
UNH-IOL DPDK Community Lab
To manage your email subscriptions, visit:
https://lab.dpdk.org/results/dashboard/preferences/subscriptions/
^ permalink raw reply [flat|nested] 7+ messages in thread
* [dpdk-test-report] |SUCCESS| pw78516 [PATCH] vhost: fix external backends readiness
@ 2020-09-23 10:31 dpdklab
0 siblings, 0 replies; 7+ messages in thread
From: dpdklab @ 2020-09-23 10:31 UTC (permalink / raw)
To: Test Report; +Cc: dpdk-test-reports
[-- Attachment #1: Type: text/plain, Size: 2003 bytes --]
Test-Label: iol-testing
Test-Status: SUCCESS
http://dpdk.org/patch/78516
_Testing PASS_
Submitter: Maxime Coquelin <maxime.coquelin@redhat.com>
Date: Wednesday, September 23 2020 09:49:02
DPDK git baseline: Repo:dpdk
Branch: master
CommitID:0c762e81da9b3eec4c29c9fb9c7fa94b3028c180
78516 --> testing pass
Test environment and result as below:
+---------------------+--------------------+----------------+
| Environment | dpdk_meson_compile | dpdk_unit_test |
+=====================+====================+================+
| Windows Server 2019 | PASS | SKIPPED |
+---------------------+--------------------+----------------+
| CentOS 8 | PASS | SKIPPED |
+---------------------+--------------------+----------------+
| Ubuntu 18.04 | PASS | PASS |
+---------------------+--------------------+----------------+
| FreeBSD 11.2 | PASS | SKIPPED |
+---------------------+--------------------+----------------+
| Fedora 31 | PASS | SKIPPED |
+---------------------+--------------------+----------------+
| openSUSE Leap 15 | PASS | SKIPPED |
+---------------------+--------------------+----------------+
| Arch Linux | PASS | SKIPPED |
+---------------------+--------------------+----------------+
Windows Server 2019
Kernel: 10.0
Compiler: clang 9.0
CentOS 8
Kernel: 4.18.0.el8_0
Compiler: gcc 8.3.1
Ubuntu 18.04
Kernel: 4.15.0-generic
Compiler: gcc 7.4
FreeBSD 11.2
Kernel: 11.2
Compiler: gcc 8.3
Fedora 31
Kernel: 5.3.16
Compiler: gcc 9.2.1
openSUSE Leap 15
Kernel: 4.12.14
Compiler: gcc 7.4.1
Arch Linux
Kernel: latest
Compiler: gcc latest
To view detailed results, visit:
https://lab.dpdk.org/results/dashboard/patchsets/13232/
UNH-IOL DPDK Community Lab
To manage your email subscriptions, visit:
https://lab.dpdk.org/results/dashboard/preferences/subscriptions/
^ permalink raw reply [flat|nested] 7+ messages in thread
* [dpdk-test-report] |SUCCESS| pw78516 [PATCH] vhost: fix external backends readiness
@ 2020-09-23 10:30 dpdklab
0 siblings, 0 replies; 7+ messages in thread
From: dpdklab @ 2020-09-23 10:30 UTC (permalink / raw)
To: Ajit Khaparde, Test Report; +Cc: dpdk-test-reports
[-- Attachment #1: Type: text/plain, Size: 804 bytes --]
Test-Label: iol-broadcom-Functional
Test-Status: SUCCESS
http://dpdk.org/patch/78516
_Functional Testing PASS_
Submitter: Maxime Coquelin <maxime.coquelin@redhat.com>
Date: Wednesday, September 23 2020 09:49:02
DPDK git baseline: Repo:dpdk
Branch: master
CommitID:0c762e81da9b3eec4c29c9fb9c7fa94b3028c180
78516 --> functional testing pass
Test environment and result as below:
Ubuntu 18.04
Kernel: 4.15.0-65-generic
Compiler: gcc gcc (Ubuntu 7.4.0-1ubuntu1~18.04.1) 7.4.0
NIC: Broadcom Inc. brcm_57414 25000 Mbps
Target: x86_64-native-linuxapp-gcc
Fail/Total: 0/3
To view detailed results, visit:
https://lab.dpdk.org/results/dashboard/patchsets/13232/
UNH-IOL DPDK Community Lab
To manage your email subscriptions, visit:
https://lab.dpdk.org/results/dashboard/preferences/subscriptions/
^ permalink raw reply [flat|nested] 7+ messages in thread
* [dpdk-test-report] |SUCCESS| pw78516 [PATCH] vhost: fix external backends readiness
@ 2020-09-23 10:30 dpdklab
0 siblings, 0 replies; 7+ messages in thread
From: dpdklab @ 2020-09-23 10:30 UTC (permalink / raw)
To: Test Report; +Cc: dpdk-test-reports
[-- Attachment #1: Type: text/plain, Size: 799 bytes --]
Test-Label: iol-intel-Functional
Test-Status: SUCCESS
http://dpdk.org/patch/78516
_Functional Testing PASS_
Submitter: Maxime Coquelin <maxime.coquelin@redhat.com>
Date: Wednesday, September 23 2020 09:49:02
DPDK git baseline: Repo:dpdk
Branch: master
CommitID:0c762e81da9b3eec4c29c9fb9c7fa94b3028c180
78516 --> functional testing pass
Test environment and result as below:
Ubuntu 18.04
Kernel: 4.15.0-generic
Compiler: gcc 7.4
NIC: Intel Corporation Ethernet Converged Network Adapter XL710-QDA2 40000 Mbps
Target: x86_64-native-linuxapp-gcc
Fail/Total: 0/4
To view detailed results, visit:
https://lab.dpdk.org/results/dashboard/patchsets/13232/
UNH-IOL DPDK Community Lab
To manage your email subscriptions, visit:
https://lab.dpdk.org/results/dashboard/preferences/subscriptions/
^ permalink raw reply [flat|nested] 7+ messages in thread
* [dpdk-test-report] |SUCCESS| pw78516 [PATCH] vhost: fix external backends readiness
@ 2020-09-23 10:22 dpdklab
0 siblings, 0 replies; 7+ messages in thread
From: dpdklab @ 2020-09-23 10:22 UTC (permalink / raw)
To: Ajit Khaparde, Test Report; +Cc: dpdk-test-reports
[-- Attachment #1: Type: text/plain, Size: 1277 bytes --]
Test-Label: iol-broadcom-Performance
Test-Status: SUCCESS
http://dpdk.org/patch/78516
_Performance Testing PASS_
Submitter: Maxime Coquelin <maxime.coquelin@redhat.com>
Date: Wednesday, September 23 2020 09:49:02
DPDK git baseline: Repo:dpdk
Branch: master
CommitID:0c762e81da9b3eec4c29c9fb9c7fa94b3028c180
78516 --> performance testing pass
Test environment and result as below:
Ubuntu 18.04
Kernel: 4.15.0-65-generic
Compiler: gcc gcc (Ubuntu 7.4.0-1ubuntu1~18.04.1) 7.4.0
NIC: Broadcom Inc. brcm_57414 25000 Mbps
Target: x86_64-native-linuxapp-gcc
Fail/Total: 0/2
Detail performance results:
+------------+---------+-------------------------------------+
| frame_size | txd/rxd | throughput difference from expected |
+============+=========+=====================================+
| 64 | 512 | 0.080 |
+------------+---------+-------------------------------------+
| 64 | 2048 | -0.013 |
+------------+---------+-------------------------------------+
To view detailed results, visit:
https://lab.dpdk.org/results/dashboard/patchsets/13232/
UNH-IOL DPDK Community Lab
To manage your email subscriptions, visit:
https://lab.dpdk.org/results/dashboard/preferences/subscriptions/
^ permalink raw reply [flat|nested] 7+ messages in thread
* [dpdk-test-report] |SUCCESS| pw78516 [PATCH] vhost: fix external backends readiness
[not found] <20200923094902.216856-1-maxime.coquelin@redhat.com>
@ 2020-09-23 9:50 ` checkpatch
0 siblings, 0 replies; 7+ messages in thread
From: checkpatch @ 2020-09-23 9:50 UTC (permalink / raw)
To: test-report
Test-Label: checkpatch
Test-Status: SUCCESS
http://dpdk.org/patch/78516
_coding style OK_
^ permalink raw reply [flat|nested] 7+ messages in thread
end of thread, other threads:[~2020-09-23 12:09 UTC | newest]
Thread overview: 7+ messages (download: mbox.gz / follow: Atom feed)
-- links below jump to the message on this page --
2020-09-23 10:44 [dpdk-test-report] |SUCCESS| pw78516 [PATCH] vhost: fix external backends readiness dpdklab
-- strict thread matches above, loose matches on Subject: below --
2020-09-23 12:09 dpdklab
2020-09-23 10:31 dpdklab
2020-09-23 10:30 dpdklab
2020-09-23 10:30 dpdklab
2020-09-23 10:22 dpdklab
[not found] <20200923094902.216856-1-maxime.coquelin@redhat.com>
2020-09-23 9:50 ` checkpatch
This is a public inbox, see mirroring instructions
for how to clone and mirror all data and code used for this inbox;
as well as URLs for NNTP newsgroup(s).