* [dpdk-test-report] |SUCCESS| pw78765 [PATCH] eal/windows: use bundled getopt with MinGW
@ 2020-09-25 0:28 dpdklab
0 siblings, 0 replies; 7+ messages in thread
From: dpdklab @ 2020-09-25 0:28 UTC (permalink / raw)
To: Test Report; +Cc: dpdk-test-reports
[-- Attachment #1: Type: text/plain, Size: 1922 bytes --]
Test-Label: iol-intel-Performance
Test-Status: SUCCESS
http://dpdk.org/patch/78765
_Performance Testing PASS_
Submitter: Dmitry Kozlyuk <dmitry.kozliuk@gmail.com>
Date: Thursday, September 24 2020 23:17:07
DPDK git baseline: Repo:dpdk
Branch: master
CommitID:05e1af3052830df26b9543a3a1cec8a7c12076d7
78765 --> performance testing pass
Test environment and result as below:
Ubuntu 18.04
Kernel: 4.15.0-generic
Compiler: gcc 7.4
NIC: Intel Corporation Ethernet Converged Network Adapter XL710-QDA2 40000 Mbps
Target: x86_64-native-linuxapp-gcc
Fail/Total: 0/2
Detail performance results:
+------------+---------+-------------------------------------+
| frame_size | txd/rxd | throughput difference from expected |
+============+=========+=====================================+
| 64 | 512 | 2.722 |
+------------+---------+-------------------------------------+
| 64 | 2048 | 1.745 |
+------------+---------+-------------------------------------+
Ubuntu 18.04
Kernel: 4.15.0-generic
Compiler: gcc 7.4
NIC: Intel Corporation Ethernet Converged Network Adapter 82599ES 10000 Mbps
Target: x86_64-native-linuxapp-gcc
Fail/Total: 0/2
Detail performance results:
+------------+---------+-------------------------------------+
| frame_size | txd/rxd | throughput difference from expected |
+============+=========+=====================================+
| 64 | 512 | 2.039 |
+------------+---------+-------------------------------------+
| 64 | 2048 | 0.768 |
+------------+---------+-------------------------------------+
To view detailed results, visit:
https://lab.dpdk.org/results/dashboard/patchsets/13271/
UNH-IOL DPDK Community Lab
To manage your email subscriptions, visit:
https://lab.dpdk.org/results/dashboard/preferences/subscriptions/
^ permalink raw reply [flat|nested] 7+ messages in thread
* [dpdk-test-report] |SUCCESS| pw78765 [PATCH] eal/windows: use bundled getopt with MinGW
@ 2020-09-25 5:18 dpdklab
0 siblings, 0 replies; 7+ messages in thread
From: dpdklab @ 2020-09-25 5:18 UTC (permalink / raw)
To: Ali Alnubani, Test Report; +Cc: dpdk-test-reports
[-- Attachment #1: Type: text/plain, Size: 3972 bytes --]
Test-Label: iol-mellanox-Performance
Test-Status: SUCCESS
http://dpdk.org/patch/78765
_Performance Testing PASS_
Submitter: Dmitry Kozlyuk <dmitry.kozliuk@gmail.com>
Date: Thursday, September 24 2020 23:17:07
DPDK git baseline: Repo:dpdk
Branch: master
CommitID:05e1af3052830df26b9543a3a1cec8a7c12076d7
78765 --> performance testing pass
Test environment and result as below:
Ubuntu 18.04
Kernel: 4.15.0-generic
Compiler: gcc 7.4
NIC: Mellanox ConnectX-5 100000 Mbps
Target: x86_64-native-linuxapp-gcc
Fail/Total: 0/6
Detail performance results:
+------------+---------+-------------------------------------+
| frame_size | txd/rxd | throughput difference from expected |
+============+=========+=====================================+
| 64 | 256 | -0.290 |
+------------+---------+-------------------------------------+
| 128 | 256 | 0.026 |
+------------+---------+-------------------------------------+
| 256 | 256 | 0.235 |
+------------+---------+-------------------------------------+
| 512 | 256 | 0.043 |
+------------+---------+-------------------------------------+
| 1024 | 256 | 0.134 |
+------------+---------+-------------------------------------+
| 1518 | 256 | 0.010 |
+------------+---------+-------------------------------------+
Ubuntu 18.04
Kernel: 4.15.0-generic
Compiler: gcc 7.4
NIC: Mellanox ConnectX-4 Lx 25000 Mbps
Target: x86_64-native-linuxapp-gcc
Fail/Total: 0/6
Detail performance results:
+------------+---------+-------------------------------------+
| frame_size | txd/rxd | throughput difference from expected |
+============+=========+=====================================+
| 64 | 256 | -0.022 |
+------------+---------+-------------------------------------+
| 128 | 256 | -0.128 |
+------------+---------+-------------------------------------+
| 256 | 256 | 0.129 |
+------------+---------+-------------------------------------+
| 512 | 256 | -0.021 |
+------------+---------+-------------------------------------+
| 1024 | 256 | -0.009 |
+------------+---------+-------------------------------------+
| 1518 | 256 | 0.003 |
+------------+---------+-------------------------------------+
Ubuntu 18.04
Kernel: 4.15.0-generic
Compiler: gcc 7.4
NIC: Mellanox ConnectX-4 Lx 40000 Mbps
Target: x86_64-native-linuxapp-gcc
Fail/Total: 0/6
Detail performance results:
+------------+---------+-------------------------------------+
| frame_size | txd/rxd | throughput difference from expected |
+============+=========+=====================================+
| 64 | 256 | -0.171 |
+------------+---------+-------------------------------------+
| 128 | 256 | -0.321 |
+------------+---------+-------------------------------------+
| 256 | 256 | -0.149 |
+------------+---------+-------------------------------------+
| 512 | 256 | -0.034 |
+------------+---------+-------------------------------------+
| 1024 | 256 | 0.003 |
+------------+---------+-------------------------------------+
| 1518 | 256 | -0.009 |
+------------+---------+-------------------------------------+
To view detailed results, visit:
https://lab.dpdk.org/results/dashboard/patchsets/13271/
UNH-IOL DPDK Community Lab
To manage your email subscriptions, visit:
https://lab.dpdk.org/results/dashboard/preferences/subscriptions/
^ permalink raw reply [flat|nested] 7+ messages in thread
* [dpdk-test-report] |SUCCESS| pw78765 [PATCH] eal/windows: use bundled getopt with MinGW
@ 2020-09-25 0:14 dpdklab
0 siblings, 0 replies; 7+ messages in thread
From: dpdklab @ 2020-09-25 0:14 UTC (permalink / raw)
To: Test Report; +Cc: dpdk-test-reports
[-- Attachment #1: Type: text/plain, Size: 1999 bytes --]
Test-Label: iol-testing
Test-Status: SUCCESS
http://dpdk.org/patch/78765
_Testing PASS_
Submitter: Dmitry Kozlyuk <dmitry.kozliuk@gmail.com>
Date: Thursday, September 24 2020 23:17:07
DPDK git baseline: Repo:dpdk
Branch: master
CommitID:05e1af3052830df26b9543a3a1cec8a7c12076d7
78765 --> testing pass
Test environment and result as below:
+---------------------+--------------------+----------------+
| Environment | dpdk_meson_compile | dpdk_unit_test |
+=====================+====================+================+
| Windows Server 2019 | PASS | SKIPPED |
+---------------------+--------------------+----------------+
| FreeBSD 11.2 | PASS | SKIPPED |
+---------------------+--------------------+----------------+
| Ubuntu 18.04 | PASS | PASS |
+---------------------+--------------------+----------------+
| CentOS 8 | PASS | SKIPPED |
+---------------------+--------------------+----------------+
| Fedora 31 | PASS | SKIPPED |
+---------------------+--------------------+----------------+
| openSUSE Leap 15 | PASS | SKIPPED |
+---------------------+--------------------+----------------+
| Arch Linux | PASS | SKIPPED |
+---------------------+--------------------+----------------+
Windows Server 2019
Kernel: 10.0
Compiler: clang 9.0
FreeBSD 11.2
Kernel: 11.2
Compiler: gcc 8.3
Ubuntu 18.04
Kernel: 4.15.0-generic
Compiler: gcc 7.4
CentOS 8
Kernel: 4.18.0.el8_0
Compiler: gcc 8.3.1
Fedora 31
Kernel: 5.3.16
Compiler: gcc 9.2.1
openSUSE Leap 15
Kernel: 4.12.14
Compiler: gcc 7.4.1
Arch Linux
Kernel: latest
Compiler: gcc latest
To view detailed results, visit:
https://lab.dpdk.org/results/dashboard/patchsets/13271/
UNH-IOL DPDK Community Lab
To manage your email subscriptions, visit:
https://lab.dpdk.org/results/dashboard/preferences/subscriptions/
^ permalink raw reply [flat|nested] 7+ messages in thread
* [dpdk-test-report] |SUCCESS| pw78765 [PATCH] eal/windows: use bundled getopt with MinGW
@ 2020-09-25 0:08 dpdklab
0 siblings, 0 replies; 7+ messages in thread
From: dpdklab @ 2020-09-25 0:08 UTC (permalink / raw)
To: Test Report; +Cc: dpdk-test-reports
[-- Attachment #1: Type: text/plain, Size: 795 bytes --]
Test-Label: iol-intel-Functional
Test-Status: SUCCESS
http://dpdk.org/patch/78765
_Functional Testing PASS_
Submitter: Dmitry Kozlyuk <dmitry.kozliuk@gmail.com>
Date: Thursday, September 24 2020 23:17:07
DPDK git baseline: Repo:dpdk
Branch: master
CommitID:05e1af3052830df26b9543a3a1cec8a7c12076d7
78765 --> functional testing pass
Test environment and result as below:
Ubuntu 18.04
Kernel: 4.15.0-generic
Compiler: gcc 7.4
NIC: Intel Corporation Ethernet Converged Network Adapter XL710-QDA2 40000 Mbps
Target: x86_64-native-linuxapp-gcc
Fail/Total: 0/4
To view detailed results, visit:
https://lab.dpdk.org/results/dashboard/patchsets/13271/
UNH-IOL DPDK Community Lab
To manage your email subscriptions, visit:
https://lab.dpdk.org/results/dashboard/preferences/subscriptions/
^ permalink raw reply [flat|nested] 7+ messages in thread
* [dpdk-test-report] |SUCCESS| pw78765 [PATCH] eal/windows: use bundled getopt with MinGW
@ 2020-09-25 0:07 dpdklab
0 siblings, 0 replies; 7+ messages in thread
From: dpdklab @ 2020-09-25 0:07 UTC (permalink / raw)
To: Ajit Khaparde, Test Report; +Cc: dpdk-test-reports
[-- Attachment #1: Type: text/plain, Size: 800 bytes --]
Test-Label: iol-broadcom-Functional
Test-Status: SUCCESS
http://dpdk.org/patch/78765
_Functional Testing PASS_
Submitter: Dmitry Kozlyuk <dmitry.kozliuk@gmail.com>
Date: Thursday, September 24 2020 23:17:07
DPDK git baseline: Repo:dpdk
Branch: master
CommitID:05e1af3052830df26b9543a3a1cec8a7c12076d7
78765 --> functional testing pass
Test environment and result as below:
Ubuntu 18.04
Kernel: 4.15.0-65-generic
Compiler: gcc gcc (Ubuntu 7.4.0-1ubuntu1~18.04.1) 7.4.0
NIC: Broadcom Inc. brcm_57414 25000 Mbps
Target: x86_64-native-linuxapp-gcc
Fail/Total: 0/3
To view detailed results, visit:
https://lab.dpdk.org/results/dashboard/patchsets/13271/
UNH-IOL DPDK Community Lab
To manage your email subscriptions, visit:
https://lab.dpdk.org/results/dashboard/preferences/subscriptions/
^ permalink raw reply [flat|nested] 7+ messages in thread
* [dpdk-test-report] |SUCCESS| pw78765 [PATCH] eal/windows: use bundled getopt with MinGW
@ 2020-09-24 23:59 dpdklab
0 siblings, 0 replies; 7+ messages in thread
From: dpdklab @ 2020-09-24 23:59 UTC (permalink / raw)
To: Ajit Khaparde, Test Report; +Cc: dpdk-test-reports
[-- Attachment #1: Type: text/plain, Size: 1273 bytes --]
Test-Label: iol-broadcom-Performance
Test-Status: SUCCESS
http://dpdk.org/patch/78765
_Performance Testing PASS_
Submitter: Dmitry Kozlyuk <dmitry.kozliuk@gmail.com>
Date: Thursday, September 24 2020 23:17:07
DPDK git baseline: Repo:dpdk
Branch: master
CommitID:05e1af3052830df26b9543a3a1cec8a7c12076d7
78765 --> performance testing pass
Test environment and result as below:
Ubuntu 18.04
Kernel: 4.15.0-65-generic
Compiler: gcc gcc (Ubuntu 7.4.0-1ubuntu1~18.04.1) 7.4.0
NIC: Broadcom Inc. brcm_57414 25000 Mbps
Target: x86_64-native-linuxapp-gcc
Fail/Total: 0/2
Detail performance results:
+------------+---------+-------------------------------------+
| frame_size | txd/rxd | throughput difference from expected |
+============+=========+=====================================+
| 64 | 512 | 0.070 |
+------------+---------+-------------------------------------+
| 64 | 2048 | -0.015 |
+------------+---------+-------------------------------------+
To view detailed results, visit:
https://lab.dpdk.org/results/dashboard/patchsets/13271/
UNH-IOL DPDK Community Lab
To manage your email subscriptions, visit:
https://lab.dpdk.org/results/dashboard/preferences/subscriptions/
^ permalink raw reply [flat|nested] 7+ messages in thread
* [dpdk-test-report] |SUCCESS| pw78765 [PATCH] eal/windows: use bundled getopt with MinGW
[not found] <20200924231707.23554-1-dmitry.kozliuk@gmail.com>
@ 2020-09-24 23:18 ` checkpatch
0 siblings, 0 replies; 7+ messages in thread
From: checkpatch @ 2020-09-24 23:18 UTC (permalink / raw)
To: test-report
Test-Label: checkpatch
Test-Status: SUCCESS
http://dpdk.org/patch/78765
_coding style OK_
^ permalink raw reply [flat|nested] 7+ messages in thread
end of thread, other threads:[~2020-09-25 5:19 UTC | newest]
Thread overview: 7+ messages (download: mbox.gz / follow: Atom feed)
-- links below jump to the message on this page --
2020-09-25 0:28 [dpdk-test-report] |SUCCESS| pw78765 [PATCH] eal/windows: use bundled getopt with MinGW dpdklab
-- strict thread matches above, loose matches on Subject: below --
2020-09-25 5:18 dpdklab
2020-09-25 0:14 dpdklab
2020-09-25 0:08 dpdklab
2020-09-25 0:07 dpdklab
2020-09-24 23:59 dpdklab
[not found] <20200924231707.23554-1-dmitry.kozliuk@gmail.com>
2020-09-24 23:18 ` checkpatch
This is a public inbox, see mirroring instructions
for how to clone and mirror all data and code used for this inbox;
as well as URLs for NNTP newsgroup(s).