* [dpdk-test-report] |SUCCESS| pw78993 [PATCH] [v2] testpmd: add speed capability in device info
@ 2020-09-28 11:19 dpdklab
0 siblings, 0 replies; 7+ messages in thread
From: dpdklab @ 2020-09-28 11:19 UTC (permalink / raw)
To: Test Report; +Cc: dpdk-test-reports
[-- Attachment #1: Type: text/plain, Size: 1992 bytes --]
Test-Label: iol-testing
Test-Status: SUCCESS
http://dpdk.org/patch/78993
_Testing PASS_
Submitter: Sarosh Arif <sarosh.arif@emumba.com>
Date: Monday, September 28 2020 10:01:21
DPDK git baseline: Repo:dpdk
Branch: master
CommitID:f5d6738c2ec10170b0e03eb9ff95544be0559641
78993 --> testing pass
Test environment and result as below:
+---------------------+--------------------+----------------+
| Environment | dpdk_meson_compile | dpdk_unit_test |
+=====================+====================+================+
| Windows Server 2019 | PASS | SKIPPED |
+---------------------+--------------------+----------------+
| FreeBSD 11.2 | PASS | SKIPPED |
+---------------------+--------------------+----------------+
| Ubuntu 18.04 | PASS | PASS |
+---------------------+--------------------+----------------+
| CentOS 8 | PASS | SKIPPED |
+---------------------+--------------------+----------------+
| Fedora 31 | PASS | SKIPPED |
+---------------------+--------------------+----------------+
| openSUSE Leap 15 | PASS | SKIPPED |
+---------------------+--------------------+----------------+
| Arch Linux | PASS | SKIPPED |
+---------------------+--------------------+----------------+
Windows Server 2019
Kernel: 10.0
Compiler: clang 9.0
FreeBSD 11.2
Kernel: 11.2
Compiler: gcc 8.3
Ubuntu 18.04
Kernel: 4.15.0-generic
Compiler: gcc 7.4
CentOS 8
Kernel: 4.18.0.el8_0
Compiler: gcc 8.3.1
Fedora 31
Kernel: 5.3.16
Compiler: gcc 9.2.1
openSUSE Leap 15
Kernel: 4.12.14
Compiler: gcc 7.4.1
Arch Linux
Kernel: latest
Compiler: gcc latest
To view detailed results, visit:
https://lab.dpdk.org/results/dashboard/patchsets/13325/
UNH-IOL DPDK Community Lab
To manage your email subscriptions, visit:
https://lab.dpdk.org/results/dashboard/preferences/subscriptions/
^ permalink raw reply [flat|nested] 7+ messages in thread
* [dpdk-test-report] |SUCCESS| pw78993 [PATCH] [v2] testpmd: add speed capability in device info
@ 2020-09-28 16:14 dpdklab
0 siblings, 0 replies; 7+ messages in thread
From: dpdklab @ 2020-09-28 16:14 UTC (permalink / raw)
To: Ali Alnubani, Test Report; +Cc: dpdk-test-reports
[-- Attachment #1: Type: text/plain, Size: 3965 bytes --]
Test-Label: iol-mellanox-Performance
Test-Status: SUCCESS
http://dpdk.org/patch/78993
_Performance Testing PASS_
Submitter: Sarosh Arif <sarosh.arif@emumba.com>
Date: Monday, September 28 2020 10:01:21
DPDK git baseline: Repo:dpdk
Branch: master
CommitID:f5d6738c2ec10170b0e03eb9ff95544be0559641
78993 --> performance testing pass
Test environment and result as below:
Ubuntu 18.04
Kernel: 4.15.0-generic
Compiler: gcc 7.4
NIC: Mellanox ConnectX-5 100000 Mbps
Target: x86_64-native-linuxapp-gcc
Fail/Total: 0/6
Detail performance results:
+------------+---------+-------------------------------------+
| frame_size | txd/rxd | throughput difference from expected |
+============+=========+=====================================+
| 64 | 256 | -0.359 |
+------------+---------+-------------------------------------+
| 128 | 256 | 0.010 |
+------------+---------+-------------------------------------+
| 256 | 256 | 0.129 |
+------------+---------+-------------------------------------+
| 512 | 256 | 0.017 |
+------------+---------+-------------------------------------+
| 1024 | 256 | -0.012 |
+------------+---------+-------------------------------------+
| 1518 | 256 | 0.020 |
+------------+---------+-------------------------------------+
Ubuntu 18.04
Kernel: 4.15.0-generic
Compiler: gcc 7.4
NIC: Mellanox ConnectX-4 Lx 25000 Mbps
Target: x86_64-native-linuxapp-gcc
Fail/Total: 0/6
Detail performance results:
+------------+---------+-------------------------------------+
| frame_size | txd/rxd | throughput difference from expected |
+============+=========+=====================================+
| 64 | 256 | -0.267 |
+------------+---------+-------------------------------------+
| 128 | 256 | -0.158 |
+------------+---------+-------------------------------------+
| 256 | 256 | -0.055 |
+------------+---------+-------------------------------------+
| 512 | 256 | 0.022 |
+------------+---------+-------------------------------------+
| 1024 | 256 | 0.003 |
+------------+---------+-------------------------------------+
| 1518 | 256 | 0.007 |
+------------+---------+-------------------------------------+
Ubuntu 18.04
Kernel: 4.15.0-generic
Compiler: gcc 7.4
NIC: Mellanox ConnectX-4 Lx 40000 Mbps
Target: x86_64-native-linuxapp-gcc
Fail/Total: 0/6
Detail performance results:
+------------+---------+-------------------------------------+
| frame_size | txd/rxd | throughput difference from expected |
+============+=========+=====================================+
| 64 | 256 | 0.045 |
+------------+---------+-------------------------------------+
| 128 | 256 | -0.278 |
+------------+---------+-------------------------------------+
| 256 | 256 | 0.728 |
+------------+---------+-------------------------------------+
| 512 | 256 | 0.009 |
+------------+---------+-------------------------------------+
| 1024 | 256 | -0.006 |
+------------+---------+-------------------------------------+
| 1518 | 256 | 0.004 |
+------------+---------+-------------------------------------+
To view detailed results, visit:
https://lab.dpdk.org/results/dashboard/patchsets/13325/
UNH-IOL DPDK Community Lab
To manage your email subscriptions, visit:
https://lab.dpdk.org/results/dashboard/preferences/subscriptions/
^ permalink raw reply [flat|nested] 7+ messages in thread
* [dpdk-test-report] |SUCCESS| pw78993 [PATCH] [v2] testpmd: add speed capability in device info
@ 2020-09-28 11:32 dpdklab
0 siblings, 0 replies; 7+ messages in thread
From: dpdklab @ 2020-09-28 11:32 UTC (permalink / raw)
To: Test Report; +Cc: dpdk-test-reports
[-- Attachment #1: Type: text/plain, Size: 1915 bytes --]
Test-Label: iol-intel-Performance
Test-Status: SUCCESS
http://dpdk.org/patch/78993
_Performance Testing PASS_
Submitter: Sarosh Arif <sarosh.arif@emumba.com>
Date: Monday, September 28 2020 10:01:21
DPDK git baseline: Repo:dpdk
Branch: master
CommitID:f5d6738c2ec10170b0e03eb9ff95544be0559641
78993 --> performance testing pass
Test environment and result as below:
Ubuntu 18.04
Kernel: 4.15.0-generic
Compiler: gcc 7.4
NIC: Intel Corporation Ethernet Converged Network Adapter XL710-QDA2 40000 Mbps
Target: x86_64-native-linuxapp-gcc
Fail/Total: 0/2
Detail performance results:
+------------+---------+-------------------------------------+
| frame_size | txd/rxd | throughput difference from expected |
+============+=========+=====================================+
| 64 | 512 | 2.816 |
+------------+---------+-------------------------------------+
| 64 | 2048 | 1.554 |
+------------+---------+-------------------------------------+
Ubuntu 18.04
Kernel: 4.15.0-generic
Compiler: gcc 7.4
NIC: Intel Corporation Ethernet Converged Network Adapter 82599ES 10000 Mbps
Target: x86_64-native-linuxapp-gcc
Fail/Total: 0/2
Detail performance results:
+------------+---------+-------------------------------------+
| frame_size | txd/rxd | throughput difference from expected |
+============+=========+=====================================+
| 64 | 512 | 2.296 |
+------------+---------+-------------------------------------+
| 64 | 2048 | 0.852 |
+------------+---------+-------------------------------------+
To view detailed results, visit:
https://lab.dpdk.org/results/dashboard/patchsets/13325/
UNH-IOL DPDK Community Lab
To manage your email subscriptions, visit:
https://lab.dpdk.org/results/dashboard/preferences/subscriptions/
^ permalink raw reply [flat|nested] 7+ messages in thread
* [dpdk-test-report] |SUCCESS| pw78993 [PATCH] [v2] testpmd: add speed capability in device info
@ 2020-09-28 11:12 dpdklab
0 siblings, 0 replies; 7+ messages in thread
From: dpdklab @ 2020-09-28 11:12 UTC (permalink / raw)
To: Test Report; +Cc: dpdk-test-reports
[-- Attachment #1: Type: text/plain, Size: 788 bytes --]
Test-Label: iol-intel-Functional
Test-Status: SUCCESS
http://dpdk.org/patch/78993
_Functional Testing PASS_
Submitter: Sarosh Arif <sarosh.arif@emumba.com>
Date: Monday, September 28 2020 10:01:21
DPDK git baseline: Repo:dpdk
Branch: master
CommitID:f5d6738c2ec10170b0e03eb9ff95544be0559641
78993 --> functional testing pass
Test environment and result as below:
Ubuntu 18.04
Kernel: 4.15.0-generic
Compiler: gcc 7.4
NIC: Intel Corporation Ethernet Converged Network Adapter XL710-QDA2 40000 Mbps
Target: x86_64-native-linuxapp-gcc
Fail/Total: 0/4
To view detailed results, visit:
https://lab.dpdk.org/results/dashboard/patchsets/13325/
UNH-IOL DPDK Community Lab
To manage your email subscriptions, visit:
https://lab.dpdk.org/results/dashboard/preferences/subscriptions/
^ permalink raw reply [flat|nested] 7+ messages in thread
* [dpdk-test-report] |SUCCESS| pw78993 [PATCH] [v2] testpmd: add speed capability in device info
@ 2020-09-28 10:52 dpdklab
0 siblings, 0 replies; 7+ messages in thread
From: dpdklab @ 2020-09-28 10:52 UTC (permalink / raw)
To: Ajit Khaparde, Test Report; +Cc: dpdk-test-reports
[-- Attachment #1: Type: text/plain, Size: 1266 bytes --]
Test-Label: iol-broadcom-Performance
Test-Status: SUCCESS
http://dpdk.org/patch/78993
_Performance Testing PASS_
Submitter: Sarosh Arif <sarosh.arif@emumba.com>
Date: Monday, September 28 2020 10:01:21
DPDK git baseline: Repo:dpdk
Branch: master
CommitID:f5d6738c2ec10170b0e03eb9ff95544be0559641
78993 --> performance testing pass
Test environment and result as below:
Ubuntu 18.04
Kernel: 4.15.0-65-generic
Compiler: gcc gcc (Ubuntu 7.4.0-1ubuntu1~18.04.1) 7.4.0
NIC: Broadcom Inc. brcm_57414 25000 Mbps
Target: x86_64-native-linuxapp-gcc
Fail/Total: 0/2
Detail performance results:
+------------+---------+-------------------------------------+
| frame_size | txd/rxd | throughput difference from expected |
+============+=========+=====================================+
| 64 | 512 | 0.083 |
+------------+---------+-------------------------------------+
| 64 | 2048 | -0.012 |
+------------+---------+-------------------------------------+
To view detailed results, visit:
https://lab.dpdk.org/results/dashboard/patchsets/13325/
UNH-IOL DPDK Community Lab
To manage your email subscriptions, visit:
https://lab.dpdk.org/results/dashboard/preferences/subscriptions/
^ permalink raw reply [flat|nested] 7+ messages in thread
* [dpdk-test-report] |SUCCESS| pw78993 [PATCH] [v2] testpmd: add speed capability in device info
@ 2020-09-28 10:46 dpdklab
0 siblings, 0 replies; 7+ messages in thread
From: dpdklab @ 2020-09-28 10:46 UTC (permalink / raw)
To: Ajit Khaparde, Test Report; +Cc: dpdk-test-reports
[-- Attachment #1: Type: text/plain, Size: 793 bytes --]
Test-Label: iol-broadcom-Functional
Test-Status: SUCCESS
http://dpdk.org/patch/78993
_Functional Testing PASS_
Submitter: Sarosh Arif <sarosh.arif@emumba.com>
Date: Monday, September 28 2020 10:01:21
DPDK git baseline: Repo:dpdk
Branch: master
CommitID:f5d6738c2ec10170b0e03eb9ff95544be0559641
78993 --> functional testing pass
Test environment and result as below:
Ubuntu 18.04
Kernel: 4.15.0-65-generic
Compiler: gcc gcc (Ubuntu 7.4.0-1ubuntu1~18.04.1) 7.4.0
NIC: Broadcom Inc. brcm_57414 25000 Mbps
Target: x86_64-native-linuxapp-gcc
Fail/Total: 0/3
To view detailed results, visit:
https://lab.dpdk.org/results/dashboard/patchsets/13325/
UNH-IOL DPDK Community Lab
To manage your email subscriptions, visit:
https://lab.dpdk.org/results/dashboard/preferences/subscriptions/
^ permalink raw reply [flat|nested] 7+ messages in thread
* [dpdk-test-report] |SUCCESS| pw78993 [PATCH v2] testpmd: add speed capability in device info
[not found] <20200928100121.3332768-1-sarosh.arif@emumba.com>
@ 2020-09-28 10:04 ` checkpatch
0 siblings, 0 replies; 7+ messages in thread
From: checkpatch @ 2020-09-28 10:04 UTC (permalink / raw)
To: test-report
Test-Label: checkpatch
Test-Status: SUCCESS
http://dpdk.org/patch/78993
_coding style OK_
^ permalink raw reply [flat|nested] 7+ messages in thread
end of thread, other threads:[~2020-09-28 16:15 UTC | newest]
Thread overview: 7+ messages (download: mbox.gz / follow: Atom feed)
-- links below jump to the message on this page --
2020-09-28 11:19 [dpdk-test-report] |SUCCESS| pw78993 [PATCH] [v2] testpmd: add speed capability in device info dpdklab
-- strict thread matches above, loose matches on Subject: below --
2020-09-28 16:14 dpdklab
2020-09-28 11:32 dpdklab
2020-09-28 11:12 dpdklab
2020-09-28 10:52 dpdklab
2020-09-28 10:46 dpdklab
[not found] <20200928100121.3332768-1-sarosh.arif@emumba.com>
2020-09-28 10:04 ` [dpdk-test-report] |SUCCESS| pw78993 [PATCH v2] " checkpatch
This is a public inbox, see mirroring instructions
for how to clone and mirror all data and code used for this inbox;
as well as URLs for NNTP newsgroup(s).