* [dpdk-test-report] |SUCCESS| pw79228 [PATCH] drivers/net/mlx: do not enforce RSS hash offload
@ 2020-09-29 19:41 dpdklab
0 siblings, 0 replies; 7+ messages in thread
From: dpdklab @ 2020-09-29 19:41 UTC (permalink / raw)
To: Ajit Khaparde, Test Report; +Cc: dpdk-test-reports
[-- Attachment #1: Type: text/plain, Size: 797 bytes --]
Test-Label: iol-broadcom-Functional
Test-Status: SUCCESS
http://dpdk.org/patch/79228
_Functional Testing PASS_
Submitter: Alexander Kozyrev <akozyrev@nvidia.com>
Date: Tuesday, September 29 2020 18:39:21
DPDK git baseline: Repo:dpdk
Branch: master
CommitID:2d962bb73652149cf3d839212180c69b7c52faf2
79228 --> functional testing pass
Test environment and result as below:
Ubuntu 18.04
Kernel: 4.15.0-65-generic
Compiler: gcc gcc (Ubuntu 7.4.0-1ubuntu1~18.04.1) 7.4.0
NIC: Broadcom Inc. brcm_57414 25000 Mbps
Target: x86_64-native-linuxapp-gcc
Fail/Total: 0/3
To view detailed results, visit:
https://lab.dpdk.org/results/dashboard/patchsets/13363/
UNH-IOL DPDK Community Lab
To manage your email subscriptions, visit:
https://lab.dpdk.org/results/dashboard/preferences/subscriptions/
^ permalink raw reply [flat|nested] 7+ messages in thread
* [dpdk-test-report] |SUCCESS| pw79228 [PATCH] drivers/net/mlx: do not enforce RSS hash offload
@ 2020-09-29 20:24 dpdklab
0 siblings, 0 replies; 7+ messages in thread
From: dpdklab @ 2020-09-29 20:24 UTC (permalink / raw)
To: Test Report; +Cc: dpdk-test-reports
[-- Attachment #1: Type: text/plain, Size: 1996 bytes --]
Test-Label: iol-testing
Test-Status: SUCCESS
http://dpdk.org/patch/79228
_Testing PASS_
Submitter: Alexander Kozyrev <akozyrev@nvidia.com>
Date: Tuesday, September 29 2020 18:39:21
DPDK git baseline: Repo:dpdk
Branch: master
CommitID:2d962bb73652149cf3d839212180c69b7c52faf2
79228 --> testing pass
Test environment and result as below:
+---------------------+--------------------+----------------+
| Environment | dpdk_meson_compile | dpdk_unit_test |
+=====================+====================+================+
| Windows Server 2019 | PASS | SKIPPED |
+---------------------+--------------------+----------------+
| FreeBSD 11.2 | PASS | SKIPPED |
+---------------------+--------------------+----------------+
| CentOS 8 | PASS | SKIPPED |
+---------------------+--------------------+----------------+
| Fedora 31 | PASS | SKIPPED |
+---------------------+--------------------+----------------+
| openSUSE Leap 15 | PASS | SKIPPED |
+---------------------+--------------------+----------------+
| Ubuntu 18.04 | PASS | PASS |
+---------------------+--------------------+----------------+
| Arch Linux | PASS | SKIPPED |
+---------------------+--------------------+----------------+
Windows Server 2019
Kernel: 10.0
Compiler: clang 9.0
FreeBSD 11.2
Kernel: 11.2
Compiler: gcc 8.3
CentOS 8
Kernel: 4.18.0.el8_0
Compiler: gcc 8.3.1
Fedora 31
Kernel: 5.3.16
Compiler: gcc 9.2.1
openSUSE Leap 15
Kernel: 4.12.14
Compiler: gcc 7.4.1
Ubuntu 18.04
Kernel: 4.15.0-generic
Compiler: gcc 7.4
Arch Linux
Kernel: latest
Compiler: gcc latest
To view detailed results, visit:
https://lab.dpdk.org/results/dashboard/patchsets/13363/
UNH-IOL DPDK Community Lab
To manage your email subscriptions, visit:
https://lab.dpdk.org/results/dashboard/preferences/subscriptions/
^ permalink raw reply [flat|nested] 7+ messages in thread
* [dpdk-test-report] |SUCCESS| pw79228 [PATCH] drivers/net/mlx: do not enforce RSS hash offload
@ 2020-09-29 20:10 dpdklab
0 siblings, 0 replies; 7+ messages in thread
From: dpdklab @ 2020-09-29 20:10 UTC (permalink / raw)
To: Test Report; +Cc: dpdk-test-reports
[-- Attachment #1: Type: text/plain, Size: 1996 bytes --]
Test-Label: iol-testing
Test-Status: SUCCESS
http://dpdk.org/patch/79228
_Testing PASS_
Submitter: Alexander Kozyrev <akozyrev@nvidia.com>
Date: Tuesday, September 29 2020 18:39:21
DPDK git baseline: Repo:dpdk
Branch: master
CommitID:2d962bb73652149cf3d839212180c69b7c52faf2
79228 --> testing pass
Test environment and result as below:
+---------------------+--------------------+----------------+
| Environment | dpdk_meson_compile | dpdk_unit_test |
+=====================+====================+================+
| Windows Server 2019 | PASS | SKIPPED |
+---------------------+--------------------+----------------+
| FreeBSD 11.2 | PASS | SKIPPED |
+---------------------+--------------------+----------------+
| CentOS 8 | PASS | SKIPPED |
+---------------------+--------------------+----------------+
| Fedora 31 | PASS | SKIPPED |
+---------------------+--------------------+----------------+
| openSUSE Leap 15 | PASS | SKIPPED |
+---------------------+--------------------+----------------+
| Arch Linux | PASS | SKIPPED |
+---------------------+--------------------+----------------+
| Ubuntu 18.04 | PASS | PASS |
+---------------------+--------------------+----------------+
Windows Server 2019
Kernel: 10.0
Compiler: clang 9.0
FreeBSD 11.2
Kernel: 11.2
Compiler: gcc 8.3
CentOS 8
Kernel: 4.18.0.el8_0
Compiler: gcc 8.3.1
Fedora 31
Kernel: 5.3.16
Compiler: gcc 9.2.1
openSUSE Leap 15
Kernel: 4.12.14
Compiler: gcc 7.4.1
Arch Linux
Kernel: latest
Compiler: gcc latest
Ubuntu 18.04
Kernel: 4.15.0-generic
Compiler: gcc 7.4
To view detailed results, visit:
https://lab.dpdk.org/results/dashboard/patchsets/13363/
UNH-IOL DPDK Community Lab
To manage your email subscriptions, visit:
https://lab.dpdk.org/results/dashboard/preferences/subscriptions/
^ permalink raw reply [flat|nested] 7+ messages in thread
* [dpdk-test-report] |SUCCESS| pw79228 [PATCH] drivers/net/mlx: do not enforce RSS hash offload
@ 2020-09-29 20:04 dpdklab
0 siblings, 0 replies; 7+ messages in thread
From: dpdklab @ 2020-09-29 20:04 UTC (permalink / raw)
To: Test Report; +Cc: dpdk-test-reports
[-- Attachment #1: Type: text/plain, Size: 792 bytes --]
Test-Label: iol-intel-Functional
Test-Status: SUCCESS
http://dpdk.org/patch/79228
_Functional Testing PASS_
Submitter: Alexander Kozyrev <akozyrev@nvidia.com>
Date: Tuesday, September 29 2020 18:39:21
DPDK git baseline: Repo:dpdk
Branch: master
CommitID:2d962bb73652149cf3d839212180c69b7c52faf2
79228 --> functional testing pass
Test environment and result as below:
Ubuntu 18.04
Kernel: 4.15.0-generic
Compiler: gcc 7.4
NIC: Intel Corporation Ethernet Converged Network Adapter XL710-QDA2 40000 Mbps
Target: x86_64-native-linuxapp-gcc
Fail/Total: 0/4
To view detailed results, visit:
https://lab.dpdk.org/results/dashboard/patchsets/13363/
UNH-IOL DPDK Community Lab
To manage your email subscriptions, visit:
https://lab.dpdk.org/results/dashboard/preferences/subscriptions/
^ permalink raw reply [flat|nested] 7+ messages in thread
* [dpdk-test-report] |SUCCESS| pw79228 [PATCH] drivers/net/mlx: do not enforce RSS hash offload
@ 2020-09-29 19:51 dpdklab
0 siblings, 0 replies; 7+ messages in thread
From: dpdklab @ 2020-09-29 19:51 UTC (permalink / raw)
To: Ajit Khaparde, Test Report; +Cc: dpdk-test-reports
[-- Attachment #1: Type: text/plain, Size: 797 bytes --]
Test-Label: iol-broadcom-Functional
Test-Status: SUCCESS
http://dpdk.org/patch/79228
_Functional Testing PASS_
Submitter: Alexander Kozyrev <akozyrev@nvidia.com>
Date: Tuesday, September 29 2020 18:39:21
DPDK git baseline: Repo:dpdk
Branch: master
CommitID:2d962bb73652149cf3d839212180c69b7c52faf2
79228 --> functional testing pass
Test environment and result as below:
Ubuntu 18.04
Kernel: 4.15.0-65-generic
Compiler: gcc gcc (Ubuntu 7.4.0-1ubuntu1~18.04.1) 7.4.0
NIC: Broadcom Inc. brcm_57414 25000 Mbps
Target: x86_64-native-linuxapp-gcc
Fail/Total: 0/3
To view detailed results, visit:
https://lab.dpdk.org/results/dashboard/patchsets/13363/
UNH-IOL DPDK Community Lab
To manage your email subscriptions, visit:
https://lab.dpdk.org/results/dashboard/preferences/subscriptions/
^ permalink raw reply [flat|nested] 7+ messages in thread
* [dpdk-test-report] |SUCCESS| pw79228 [PATCH] drivers/net/mlx: do not enforce RSS hash offload
@ 2020-09-29 19:47 dpdklab
0 siblings, 0 replies; 7+ messages in thread
From: dpdklab @ 2020-09-29 19:47 UTC (permalink / raw)
To: Test Report; +Cc: dpdk-test-reports
[-- Attachment #1: Type: text/plain, Size: 792 bytes --]
Test-Label: iol-intel-Functional
Test-Status: SUCCESS
http://dpdk.org/patch/79228
_Functional Testing PASS_
Submitter: Alexander Kozyrev <akozyrev@nvidia.com>
Date: Tuesday, September 29 2020 18:39:21
DPDK git baseline: Repo:dpdk
Branch: master
CommitID:2d962bb73652149cf3d839212180c69b7c52faf2
79228 --> functional testing pass
Test environment and result as below:
Ubuntu 18.04
Kernel: 4.15.0-generic
Compiler: gcc 7.4
NIC: Intel Corporation Ethernet Converged Network Adapter XL710-QDA2 40000 Mbps
Target: x86_64-native-linuxapp-gcc
Fail/Total: 0/4
To view detailed results, visit:
https://lab.dpdk.org/results/dashboard/patchsets/13363/
UNH-IOL DPDK Community Lab
To manage your email subscriptions, visit:
https://lab.dpdk.org/results/dashboard/preferences/subscriptions/
^ permalink raw reply [flat|nested] 7+ messages in thread
* [dpdk-test-report] |SUCCESS| pw79228 [PATCH] drivers/net/mlx: do not enforce RSS hash offload
[not found] <20200929183921.23445-1-akozyrev@nvidia.com>
@ 2020-09-29 18:40 ` checkpatch
0 siblings, 0 replies; 7+ messages in thread
From: checkpatch @ 2020-09-29 18:40 UTC (permalink / raw)
To: test-report
Test-Label: checkpatch
Test-Status: SUCCESS
http://dpdk.org/patch/79228
_coding style OK_
^ permalink raw reply [flat|nested] 7+ messages in thread
end of thread, other threads:[~2020-09-29 20:24 UTC | newest]
Thread overview: 7+ messages (download: mbox.gz / follow: Atom feed)
-- links below jump to the message on this page --
2020-09-29 19:41 [dpdk-test-report] |SUCCESS| pw79228 [PATCH] drivers/net/mlx: do not enforce RSS hash offload dpdklab
-- strict thread matches above, loose matches on Subject: below --
2020-09-29 20:24 dpdklab
2020-09-29 20:10 dpdklab
2020-09-29 20:04 dpdklab
2020-09-29 19:51 dpdklab
2020-09-29 19:47 dpdklab
[not found] <20200929183921.23445-1-akozyrev@nvidia.com>
2020-09-29 18:40 ` checkpatch
This is a public inbox, see mirroring instructions
for how to clone and mirror all data and code used for this inbox;
as well as URLs for NNTP newsgroup(s).