[-- Attachment #1: Type: text/plain, Size: 790 bytes --] Test-Label: iol-broadcom-Functional Test-Status: SUCCESS http://dpdk.org/patch/80293 _Functional Testing PASS_ Submitter: Akhil Goyal <akhil.goyal@nxp.com> Date: Saturday, October 10 2020 22:11:24 DPDK git baseline: Repo:dpdk Branch: master CommitID:0e995cbcfc81e1d86d92dfb871ebe14ee5b8d9e4 80293 --> functional testing pass Test environment and result as below: Ubuntu 18.04 Kernel: 4.15.0-65-generic Compiler: gcc gcc (Ubuntu 7.4.0-1ubuntu1~18.04.1) 7.4.0 NIC: Broadcom Inc. brcm_57414 25000 Mbps Target: x86_64-native-linuxapp-gcc Fail/Total: 0/3 To view detailed results, visit: https://lab.dpdk.org/results/dashboard/patchsets/13612/ UNH-IOL DPDK Community Lab To manage your email subscriptions, visit: https://lab.dpdk.org/results/dashboard/preferences/subscriptions/
[-- Attachment #1: Type: text/plain, Size: 1263 bytes --] Test-Label: iol-broadcom-Performance Test-Status: SUCCESS http://dpdk.org/patch/80293 _Performance Testing PASS_ Submitter: Akhil Goyal <akhil.goyal@nxp.com> Date: Saturday, October 10 2020 22:11:24 DPDK git baseline: Repo:dpdk Branch: master CommitID:0e995cbcfc81e1d86d92dfb871ebe14ee5b8d9e4 80293 --> performance testing pass Test environment and result as below: Ubuntu 18.04 Kernel: 4.15.0-65-generic Compiler: gcc gcc (Ubuntu 7.4.0-1ubuntu1~18.04.1) 7.4.0 NIC: Broadcom Inc. brcm_57414 25000 Mbps Target: x86_64-native-linuxapp-gcc Fail/Total: 0/2 Detail performance results: +------------+---------+-------------------------------------+ | frame_size | txd/rxd | throughput difference from expected | +============+=========+=====================================+ | 64 | 512 | 0.094 | +------------+---------+-------------------------------------+ | 64 | 2048 | 0.003 | +------------+---------+-------------------------------------+ To view detailed results, visit: https://lab.dpdk.org/results/dashboard/patchsets/13612/ UNH-IOL DPDK Community Lab To manage your email subscriptions, visit: https://lab.dpdk.org/results/dashboard/preferences/subscriptions/
[-- Attachment #1: Type: text/plain, Size: 1989 bytes --] Test-Label: iol-testing Test-Status: SUCCESS http://dpdk.org/patch/80293 _Testing PASS_ Submitter: Akhil Goyal <akhil.goyal@nxp.com> Date: Saturday, October 10 2020 22:11:24 DPDK git baseline: Repo:dpdk Branch: master CommitID:0e995cbcfc81e1d86d92dfb871ebe14ee5b8d9e4 80293 --> testing pass Test environment and result as below: +---------------------+--------------------+----------------+ | Environment | dpdk_meson_compile | dpdk_unit_test | +=====================+====================+================+ | Windows Server 2019 | PASS | SKIPPED | +---------------------+--------------------+----------------+ | FreeBSD 11.2 | PASS | SKIPPED | +---------------------+--------------------+----------------+ | Fedora 31 | PASS | SKIPPED | +---------------------+--------------------+----------------+ | Ubuntu 18.04 | PASS | PASS | +---------------------+--------------------+----------------+ | CentOS 8 | PASS | SKIPPED | +---------------------+--------------------+----------------+ | openSUSE Leap 15 | PASS | SKIPPED | +---------------------+--------------------+----------------+ | Arch Linux | PASS | SKIPPED | +---------------------+--------------------+----------------+ Windows Server 2019 Kernel: 10.0 Compiler: clang 9.0 FreeBSD 11.2 Kernel: 11.2 Compiler: gcc 8.3 Fedora 31 Kernel: 5.3.16 Compiler: gcc 9.2.1 Ubuntu 18.04 Kernel: 4.15.0-generic Compiler: gcc 7.4 CentOS 8 Kernel: 4.18.0.el8_0 Compiler: gcc 8.3.1 openSUSE Leap 15 Kernel: 4.12.14 Compiler: gcc 7.4.1 Arch Linux Kernel: latest Compiler: gcc latest To view detailed results, visit: https://lab.dpdk.org/results/dashboard/patchsets/13612/ UNH-IOL DPDK Community Lab To manage your email subscriptions, visit: https://lab.dpdk.org/results/dashboard/preferences/subscriptions/
[-- Attachment #1: Type: text/plain, Size: 1912 bytes --] Test-Label: iol-intel-Performance Test-Status: SUCCESS http://dpdk.org/patch/80293 _Performance Testing PASS_ Submitter: Akhil Goyal <akhil.goyal@nxp.com> Date: Saturday, October 10 2020 22:11:24 DPDK git baseline: Repo:dpdk Branch: master CommitID:0e995cbcfc81e1d86d92dfb871ebe14ee5b8d9e4 80293 --> performance testing pass Test environment and result as below: Ubuntu 18.04 Kernel: 4.15.0-generic Compiler: gcc 7.4 NIC: Intel Corporation Ethernet Converged Network Adapter XL710-QDA2 40000 Mbps Target: x86_64-native-linuxapp-gcc Fail/Total: 0/2 Detail performance results: +------------+---------+-------------------------------------+ | frame_size | txd/rxd | throughput difference from expected | +============+=========+=====================================+ | 64 | 512 | 2.961 | +------------+---------+-------------------------------------+ | 64 | 2048 | 1.900 | +------------+---------+-------------------------------------+ Ubuntu 18.04 Kernel: 4.15.0-generic Compiler: gcc 7.4 NIC: Intel Corporation Ethernet Converged Network Adapter 82599ES 10000 Mbps Target: x86_64-native-linuxapp-gcc Fail/Total: 0/2 Detail performance results: +------------+---------+-------------------------------------+ | frame_size | txd/rxd | throughput difference from expected | +============+=========+=====================================+ | 64 | 512 | 2.184 | +------------+---------+-------------------------------------+ | 64 | 2048 | 0.937 | +------------+---------+-------------------------------------+ To view detailed results, visit: https://lab.dpdk.org/results/dashboard/patchsets/13612/ UNH-IOL DPDK Community Lab To manage your email subscriptions, visit: https://lab.dpdk.org/results/dashboard/preferences/subscriptions/
[-- Attachment #1: Type: text/plain, Size: 3962 bytes --] Test-Label: iol-mellanox-Performance Test-Status: SUCCESS http://dpdk.org/patch/80293 _Performance Testing PASS_ Submitter: Akhil Goyal <akhil.goyal@nxp.com> Date: Saturday, October 10 2020 22:11:24 DPDK git baseline: Repo:dpdk Branch: master CommitID:0e995cbcfc81e1d86d92dfb871ebe14ee5b8d9e4 80293 --> performance testing pass Test environment and result as below: Ubuntu 18.04 Kernel: 4.15.0-generic Compiler: gcc 7.4 NIC: Mellanox ConnectX-5 100000 Mbps Target: x86_64-native-linuxapp-gcc Fail/Total: 0/6 Detail performance results: +------------+---------+-------------------------------------+ | frame_size | txd/rxd | throughput difference from expected | +============+=========+=====================================+ | 64 | 256 | 0.030 | +------------+---------+-------------------------------------+ | 128 | 256 | 0.094 | +------------+---------+-------------------------------------+ | 256 | 256 | 0.040 | +------------+---------+-------------------------------------+ | 512 | 256 | 0.143 | +------------+---------+-------------------------------------+ | 1024 | 256 | -0.069 | +------------+---------+-------------------------------------+ | 1518 | 256 | -0.047 | +------------+---------+-------------------------------------+ Ubuntu 18.04 Kernel: 4.15.0-generic Compiler: gcc 7.4 NIC: Mellanox ConnectX-4 Lx 25000 Mbps Target: x86_64-native-linuxapp-gcc Fail/Total: 0/6 Detail performance results: +------------+---------+-------------------------------------+ | frame_size | txd/rxd | throughput difference from expected | +============+=========+=====================================+ | 64 | 256 | 0.112 | +------------+---------+-------------------------------------+ | 128 | 256 | -0.123 | +------------+---------+-------------------------------------+ | 256 | 256 | -0.195 | +------------+---------+-------------------------------------+ | 512 | 256 | 0.072 | +------------+---------+-------------------------------------+ | 1024 | 256 | 0.006 | +------------+---------+-------------------------------------+ | 1518 | 256 | 0.005 | +------------+---------+-------------------------------------+ Ubuntu 18.04 Kernel: 4.15.0-generic Compiler: gcc 7.4 NIC: Mellanox ConnectX-4 Lx 40000 Mbps Target: x86_64-native-linuxapp-gcc Fail/Total: 0/6 Detail performance results: +------------+---------+-------------------------------------+ | frame_size | txd/rxd | throughput difference from expected | +============+=========+=====================================+ | 64 | 256 | 0.039 | +------------+---------+-------------------------------------+ | 128 | 256 | 0.048 | +------------+---------+-------------------------------------+ | 256 | 256 | -0.143 | +------------+---------+-------------------------------------+ | 512 | 256 | 0.028 | +------------+---------+-------------------------------------+ | 1024 | 256 | 0.035 | +------------+---------+-------------------------------------+ | 1518 | 256 | -0.003 | +------------+---------+-------------------------------------+ To view detailed results, visit: https://lab.dpdk.org/results/dashboard/patchsets/13612/ UNH-IOL DPDK Community Lab To manage your email subscriptions, visit: https://lab.dpdk.org/results/dashboard/preferences/subscriptions/