Test-Label: checkpatch Test-Status: SUCCESS http://dpdk.org/patch/80305 _coding style OK_
[-- Attachment #1: Type: text/plain, Size: 1272 bytes --] Test-Label: iol-broadcom-Performance Test-Status: SUCCESS http://dpdk.org/patch/80305 _Performance Testing PASS_ Submitter: Ajit Khaparde <ajit.khaparde@broadcom.com> Date: Saturday, October 10 2020 04:05:11 DPDK git baseline: Repo:dpdk Branch: master CommitID:f4eb44f81d8c47d157523f893fbab9baeb38f9c1 80305 --> performance testing pass Test environment and result as below: Ubuntu 18.04 Kernel: 4.15.0-65-generic Compiler: gcc gcc (Ubuntu 7.4.0-1ubuntu1~18.04.1) 7.4.0 NIC: Broadcom Inc. brcm_57414 25000 Mbps Target: x86_64-native-linuxapp-gcc Fail/Total: 0/2 Detail performance results: +------------+---------+-------------------------------------+ | frame_size | txd/rxd | throughput difference from expected | +============+=========+=====================================+ | 64 | 512 | -0.006 | +------------+---------+-------------------------------------+ | 64 | 2048 | -0.008 | +------------+---------+-------------------------------------+ To view detailed results, visit: https://lab.dpdk.org/results/dashboard/patchsets/13616/ UNH-IOL DPDK Community Lab To manage your email subscriptions, visit: https://lab.dpdk.org/results/dashboard/preferences/subscriptions/
[-- Attachment #1: Type: text/plain, Size: 799 bytes --] Test-Label: iol-broadcom-Functional Test-Status: SUCCESS http://dpdk.org/patch/80305 _Functional Testing PASS_ Submitter: Ajit Khaparde <ajit.khaparde@broadcom.com> Date: Saturday, October 10 2020 04:05:11 DPDK git baseline: Repo:dpdk Branch: master CommitID:f4eb44f81d8c47d157523f893fbab9baeb38f9c1 80305 --> functional testing pass Test environment and result as below: Ubuntu 18.04 Kernel: 4.15.0-65-generic Compiler: gcc gcc (Ubuntu 7.4.0-1ubuntu1~18.04.1) 7.4.0 NIC: Broadcom Inc. brcm_57414 25000 Mbps Target: x86_64-native-linuxapp-gcc Fail/Total: 0/3 To view detailed results, visit: https://lab.dpdk.org/results/dashboard/patchsets/13616/ UNH-IOL DPDK Community Lab To manage your email subscriptions, visit: https://lab.dpdk.org/results/dashboard/preferences/subscriptions/
[-- Attachment #1: Type: text/plain, Size: 1998 bytes --] Test-Label: iol-testing Test-Status: SUCCESS http://dpdk.org/patch/80305 _Testing PASS_ Submitter: Ajit Khaparde <ajit.khaparde@broadcom.com> Date: Saturday, October 10 2020 04:05:11 DPDK git baseline: Repo:dpdk Branch: master CommitID:f4eb44f81d8c47d157523f893fbab9baeb38f9c1 80305 --> testing pass Test environment and result as below: +---------------------+--------------------+----------------+ | Environment | dpdk_meson_compile | dpdk_unit_test | +=====================+====================+================+ | Windows Server 2019 | PASS | SKIPPED | +---------------------+--------------------+----------------+ | FreeBSD 11.2 | PASS | SKIPPED | +---------------------+--------------------+----------------+ | Fedora 31 | PASS | SKIPPED | +---------------------+--------------------+----------------+ | CentOS 8 | PASS | SKIPPED | +---------------------+--------------------+----------------+ | Ubuntu 18.04 | PASS | PASS | +---------------------+--------------------+----------------+ | openSUSE Leap 15 | PASS | SKIPPED | +---------------------+--------------------+----------------+ | Arch Linux | PASS | SKIPPED | +---------------------+--------------------+----------------+ Windows Server 2019 Kernel: 10.0 Compiler: clang 9.0 FreeBSD 11.2 Kernel: 11.2 Compiler: gcc 8.3 Fedora 31 Kernel: 5.3.16 Compiler: gcc 9.2.1 CentOS 8 Kernel: 4.18.0.el8_0 Compiler: gcc 8.3.1 Ubuntu 18.04 Kernel: 4.15.0-generic Compiler: gcc 7.4 openSUSE Leap 15 Kernel: 4.12.14 Compiler: gcc 7.4.1 Arch Linux Kernel: latest Compiler: gcc latest To view detailed results, visit: https://lab.dpdk.org/results/dashboard/patchsets/13616/ UNH-IOL DPDK Community Lab To manage your email subscriptions, visit: https://lab.dpdk.org/results/dashboard/preferences/subscriptions/
[-- Attachment #1: Type: text/plain, Size: 1921 bytes --] Test-Label: iol-intel-Performance Test-Status: SUCCESS http://dpdk.org/patch/80305 _Performance Testing PASS_ Submitter: Ajit Khaparde <ajit.khaparde@broadcom.com> Date: Saturday, October 10 2020 04:05:11 DPDK git baseline: Repo:dpdk Branch: master CommitID:f4eb44f81d8c47d157523f893fbab9baeb38f9c1 80305 --> performance testing pass Test environment and result as below: Ubuntu 18.04 Kernel: 4.15.0-generic Compiler: gcc 7.4 NIC: Intel Corporation Ethernet Converged Network Adapter XL710-QDA2 40000 Mbps Target: x86_64-native-linuxapp-gcc Fail/Total: 0/2 Detail performance results: +------------+---------+-------------------------------------+ | frame_size | txd/rxd | throughput difference from expected | +============+=========+=====================================+ | 64 | 512 | 2.817 | +------------+---------+-------------------------------------+ | 64 | 2048 | 1.662 | +------------+---------+-------------------------------------+ Ubuntu 18.04 Kernel: 4.15.0-generic Compiler: gcc 7.4 NIC: Intel Corporation Ethernet Converged Network Adapter 82599ES 10000 Mbps Target: x86_64-native-linuxapp-gcc Fail/Total: 0/2 Detail performance results: +------------+---------+-------------------------------------+ | frame_size | txd/rxd | throughput difference from expected | +============+=========+=====================================+ | 64 | 512 | 2.366 | +------------+---------+-------------------------------------+ | 64 | 2048 | 0.827 | +------------+---------+-------------------------------------+ To view detailed results, visit: https://lab.dpdk.org/results/dashboard/patchsets/13616/ UNH-IOL DPDK Community Lab To manage your email subscriptions, visit: https://lab.dpdk.org/results/dashboard/preferences/subscriptions/
[-- Attachment #1: Type: text/plain, Size: 3971 bytes --] Test-Label: iol-mellanox-Performance Test-Status: SUCCESS http://dpdk.org/patch/80305 _Performance Testing PASS_ Submitter: Ajit Khaparde <ajit.khaparde@broadcom.com> Date: Saturday, October 10 2020 04:05:11 DPDK git baseline: Repo:dpdk Branch: master CommitID:f4eb44f81d8c47d157523f893fbab9baeb38f9c1 80305 --> performance testing pass Test environment and result as below: Ubuntu 18.04 Kernel: 4.15.0-generic Compiler: gcc 7.4 NIC: Mellanox ConnectX-5 100000 Mbps Target: x86_64-native-linuxapp-gcc Fail/Total: 0/6 Detail performance results: +------------+---------+-------------------------------------+ | frame_size | txd/rxd | throughput difference from expected | +============+=========+=====================================+ | 64 | 256 | -0.179 | +------------+---------+-------------------------------------+ | 128 | 256 | -0.076 | +------------+---------+-------------------------------------+ | 256 | 256 | -0.072 | +------------+---------+-------------------------------------+ | 512 | 256 | 0.083 | +------------+---------+-------------------------------------+ | 1024 | 256 | -0.086 | +------------+---------+-------------------------------------+ | 1518 | 256 | -0.021 | +------------+---------+-------------------------------------+ Ubuntu 18.04 Kernel: 4.15.0-generic Compiler: gcc 7.4 NIC: Mellanox ConnectX-4 Lx 25000 Mbps Target: x86_64-native-linuxapp-gcc Fail/Total: 0/6 Detail performance results: +------------+---------+-------------------------------------+ | frame_size | txd/rxd | throughput difference from expected | +============+=========+=====================================+ | 64 | 256 | -0.068 | +------------+---------+-------------------------------------+ | 128 | 256 | -0.269 | +------------+---------+-------------------------------------+ | 256 | 256 | 0.200 | +------------+---------+-------------------------------------+ | 512 | 256 | 0.079 | +------------+---------+-------------------------------------+ | 1024 | 256 | -0.007 | +------------+---------+-------------------------------------+ | 1518 | 256 | 0.001 | +------------+---------+-------------------------------------+ Ubuntu 18.04 Kernel: 4.15.0-generic Compiler: gcc 7.4 NIC: Mellanox ConnectX-4 Lx 40000 Mbps Target: x86_64-native-linuxapp-gcc Fail/Total: 0/6 Detail performance results: +------------+---------+-------------------------------------+ | frame_size | txd/rxd | throughput difference from expected | +============+=========+=====================================+ | 64 | 256 | -0.243 | +------------+---------+-------------------------------------+ | 128 | 256 | -0.151 | +------------+---------+-------------------------------------+ | 256 | 256 | 0.081 | +------------+---------+-------------------------------------+ | 512 | 256 | 0.003 | +------------+---------+-------------------------------------+ | 1024 | 256 | -0.011 | +------------+---------+-------------------------------------+ | 1518 | 256 | 0.009 | +------------+---------+-------------------------------------+ To view detailed results, visit: https://lab.dpdk.org/results/dashboard/patchsets/13616/ UNH-IOL DPDK Community Lab To manage your email subscriptions, visit: https://lab.dpdk.org/results/dashboard/preferences/subscriptions/