[-- Attachment #1: Type: text/plain, Size: 575 bytes --] _Functional Testing PASS_ Branch: dpdk-next-net 0c514da29d6f7a1b0183ebba869253042ce3237a --> functional testing pass Test environment and result as below: Ubuntu 18.04 Kernel: 4.15.0-65-generic Compiler: gcc gcc (Ubuntu 7.4.0-1ubuntu1~18.04.1) 7.4.0 NIC: Broadcom Inc. brcm_57414 25000 Mbps Target: x86_64-native-linuxapp-gcc Fail/Total: 0/3 To view detailed results, visit: https://lab.dpdk.org/results/dashboard/tarballs/11874/ UNH-IOL DPDK Community Lab To manage your email subscriptions, visit: https://lab.dpdk.org/results/dashboard/preferences/subscriptions/
[-- Attachment #1: Type: text/plain, Size: 1047 bytes --] _Performance Testing PASS_ Branch: dpdk-next-net 0c514da29d6f7a1b0183ebba869253042ce3237a --> performance testing pass Test environment and result as below: Ubuntu 18.04 Kernel: 4.15.0-65-generic Compiler: gcc gcc (Ubuntu 7.4.0-1ubuntu1~18.04.1) 7.4.0 NIC: Broadcom Inc. brcm_57414 25000 Mbps Target: x86_64-native-linuxapp-gcc Fail/Total: 0/2 Detail performance results: +------------+---------+-------------------------------------+ | frame_size | txd/rxd | throughput difference from expected | +============+=========+=====================================+ | 64 | 512 | 0.006 | +------------+---------+-------------------------------------+ | 64 | 2048 | 0.007 | +------------+---------+-------------------------------------+ To view detailed results, visit: https://lab.dpdk.org/results/dashboard/tarballs/11874/ UNH-IOL DPDK Community Lab To manage your email subscriptions, visit: https://lab.dpdk.org/results/dashboard/preferences/subscriptions/
[-- Attachment #1: Type: text/plain, Size: 1786 bytes --] _Testing PASS_ Branch: dpdk-next-net 0c514da29d6f7a1b0183ebba869253042ce3237a --> testing pass Test environment and result as below: +---------------------+--------------------+----------------+ | Environment | dpdk_meson_compile | dpdk_unit_test | +=====================+====================+================+ | Windows Server 2019 | PASS | SKIPPED | +---------------------+--------------------+----------------+ | FreeBSD 11.2 | PASS | SKIPPED | +---------------------+--------------------+----------------+ | Fedora 31 | PASS | SKIPPED | +---------------------+--------------------+----------------+ | CentOS 8 | PASS | SKIPPED | +---------------------+--------------------+----------------+ | Ubuntu 18.04 | PASS | PASS | +---------------------+--------------------+----------------+ | openSUSE Leap 15 | PASS | SKIPPED | +---------------------+--------------------+----------------+ | Arch Linux | PASS | SKIPPED | +---------------------+--------------------+----------------+ Windows Server 2019 Kernel: 10.0 Compiler: clang 9.0 FreeBSD 11.2 Kernel: 11.2 Compiler: gcc 8.3 Fedora 31 Kernel: 5.3.16 Compiler: gcc 9.2.1 CentOS 8 Kernel: 4.18.0.el8_0 Compiler: gcc 8.3.1 Ubuntu 18.04 Kernel: 4.15.0-generic Compiler: gcc 7.4 openSUSE Leap 15 Kernel: 4.12.14 Compiler: gcc 7.4.1 Arch Linux Kernel: latest Compiler: gcc latest To view detailed results, visit: https://lab.dpdk.org/results/dashboard/tarballs/11874/ UNH-IOL DPDK Community Lab To manage your email subscriptions, visit: https://lab.dpdk.org/results/dashboard/preferences/subscriptions/
[-- Attachment #1: Type: text/plain, Size: 1699 bytes --] _Performance Testing PASS_ Branch: dpdk-next-net 0c514da29d6f7a1b0183ebba869253042ce3237a --> performance testing pass Test environment and result as below: Ubuntu 18.04 Kernel: 4.15.0-generic Compiler: gcc 7.4 NIC: Intel Corporation Ethernet Converged Network Adapter XL710-QDA2 40000 Mbps Target: x86_64-native-linuxapp-gcc Fail/Total: 0/2 Detail performance results: +------------+---------+-------------------------------------+ | frame_size | txd/rxd | throughput difference from expected | +============+=========+=====================================+ | 64 | 512 | 2.896 | +------------+---------+-------------------------------------+ | 64 | 2048 | 1.577 | +------------+---------+-------------------------------------+ Ubuntu 18.04 Kernel: 4.15.0-generic Compiler: gcc 7.4 NIC: Intel Corporation Ethernet Converged Network Adapter 82599ES 10000 Mbps Target: x86_64-native-linuxapp-gcc Fail/Total: 0/2 Detail performance results: +------------+---------+-------------------------------------+ | frame_size | txd/rxd | throughput difference from expected | +============+=========+=====================================+ | 64 | 512 | 2.243 | +------------+---------+-------------------------------------+ | 64 | 2048 | 0.770 | +------------+---------+-------------------------------------+ To view detailed results, visit: https://lab.dpdk.org/results/dashboard/tarballs/11874/ UNH-IOL DPDK Community Lab To manage your email subscriptions, visit: https://lab.dpdk.org/results/dashboard/preferences/subscriptions/
[-- Attachment #1: Type: text/plain, Size: 3746 bytes --] _Performance Testing PASS_ Branch: dpdk-next-net 0c514da29d6f7a1b0183ebba869253042ce3237a --> performance testing pass Test environment and result as below: Ubuntu 18.04 Kernel: 4.15.0-generic Compiler: gcc 7.4 NIC: Mellanox ConnectX-5 100000 Mbps Target: x86_64-native-linuxapp-gcc Fail/Total: 0/6 Detail performance results: +------------+---------+-------------------------------------+ | frame_size | txd/rxd | throughput difference from expected | +============+=========+=====================================+ | 64 | 256 | -0.191 | +------------+---------+-------------------------------------+ | 128 | 256 | -0.167 | +------------+---------+-------------------------------------+ | 256 | 256 | 0.034 | +------------+---------+-------------------------------------+ | 512 | 256 | 0.179 | +------------+---------+-------------------------------------+ | 1024 | 256 | -0.188 | +------------+---------+-------------------------------------+ | 1518 | 256 | 0.009 | +------------+---------+-------------------------------------+ Ubuntu 18.04 Kernel: 4.15.0-generic Compiler: gcc 7.4 NIC: Mellanox ConnectX-4 Lx 25000 Mbps Target: x86_64-native-linuxapp-gcc Fail/Total: 0/6 Detail performance results: +------------+---------+-------------------------------------+ | frame_size | txd/rxd | throughput difference from expected | +============+=========+=====================================+ | 64 | 256 | -0.051 | +------------+---------+-------------------------------------+ | 128 | 256 | -0.195 | +------------+---------+-------------------------------------+ | 256 | 256 | -0.033 | +------------+---------+-------------------------------------+ | 512 | 256 | 0.012 | +------------+---------+-------------------------------------+ | 1024 | 256 | 0.003 | +------------+---------+-------------------------------------+ | 1518 | 256 | 0.006 | +------------+---------+-------------------------------------+ Ubuntu 18.04 Kernel: 4.15.0-generic Compiler: gcc 7.4 NIC: Mellanox ConnectX-4 Lx 40000 Mbps Target: x86_64-native-linuxapp-gcc Fail/Total: 0/6 Detail performance results: +------------+---------+-------------------------------------+ | frame_size | txd/rxd | throughput difference from expected | +============+=========+=====================================+ | 64 | 256 | 0.241 | +------------+---------+-------------------------------------+ | 128 | 256 | -0.138 | +------------+---------+-------------------------------------+ | 256 | 256 | -0.159 | +------------+---------+-------------------------------------+ | 512 | 256 | 0.026 | +------------+---------+-------------------------------------+ | 1024 | 256 | -0.008 | +------------+---------+-------------------------------------+ | 1518 | 256 | -0.002 | +------------+---------+-------------------------------------+ To view detailed results, visit: https://lab.dpdk.org/results/dashboard/tarballs/11874/ UNH-IOL DPDK Community Lab To manage your email subscriptions, visit: https://lab.dpdk.org/results/dashboard/preferences/subscriptions/