* [dpdk-test-report] |SUCCESS| pw80927-80932 [PATCH] [v2, 5/5] net/mlx5: enforce limitation on IPv6 next proto
@ 2020-10-15 15:20 dpdklab
0 siblings, 0 replies; 6+ messages in thread
From: dpdklab @ 2020-10-15 15:20 UTC (permalink / raw)
To: Ajit Khaparde, Test Report; +Cc: dpdk-test-reports
[-- Attachment #1: Type: text/plain, Size: 807 bytes --]
Test-Label: iol-broadcom-Functional
Test-Status: SUCCESS
http://dpdk.org/patch/80932
_Functional Testing PASS_
Submitter: Dekel Peled <dekelp@nvidia.com>
Date: Thursday, October 15 2020 14:05:57
DPDK git baseline: Repo:dpdk-next-net-mlx
Branch: master
CommitID:eb1b13d04341bf5bfbb5853c0b16b439b207da69
80927-80932 --> functional testing pass
Test environment and result as below:
Ubuntu 18.04
Kernel: 4.15.0-65-generic
Compiler: gcc gcc (Ubuntu 7.4.0-1ubuntu1~18.04.1) 7.4.0
NIC: Broadcom Inc. brcm_57414 25000 Mbps
Target: x86_64-native-linuxapp-gcc
Fail/Total: 0/3
To view detailed results, visit:
https://lab.dpdk.org/results/dashboard/patchsets/13754/
UNH-IOL DPDK Community Lab
To manage your email subscriptions, visit:
https://lab.dpdk.org/results/dashboard/preferences/subscriptions/
^ permalink raw reply [flat|nested] 6+ messages in thread
* [dpdk-test-report] |SUCCESS| pw80927-80932 [PATCH] [v2, 5/5] net/mlx5: enforce limitation on IPv6 next proto
@ 2020-10-16 16:54 dpdklab
0 siblings, 0 replies; 6+ messages in thread
From: dpdklab @ 2020-10-16 16:54 UTC (permalink / raw)
To: Test Report; +Cc: dpdk-test-reports
[-- Attachment #1: Type: text/plain, Size: 2006 bytes --]
Test-Label: iol-testing
Test-Status: SUCCESS
http://dpdk.org/patch/80932
_Testing PASS_
Submitter: Dekel Peled <dekelp@nvidia.com>
Date: Thursday, October 15 2020 14:05:57
DPDK git baseline: Repo:dpdk-next-net-mlx
Branch: master
CommitID:eb1b13d04341bf5bfbb5853c0b16b439b207da69
80927-80932 --> testing pass
Test environment and result as below:
+---------------------+--------------------+----------------+
| Environment | dpdk_meson_compile | dpdk_unit_test |
+=====================+====================+================+
| Windows Server 2019 | PASS | SKIPPED |
+---------------------+--------------------+----------------+
| Fedora 31 | PASS | SKIPPED |
+---------------------+--------------------+----------------+
| FreeBSD 11.2 | PASS | SKIPPED |
+---------------------+--------------------+----------------+
| CentOS 8 | PASS | SKIPPED |
+---------------------+--------------------+----------------+
| openSUSE Leap 15 | PASS | SKIPPED |
+---------------------+--------------------+----------------+
| Arch Linux | PASS | SKIPPED |
+---------------------+--------------------+----------------+
| Ubuntu 18.04 | PASS | PASS |
+---------------------+--------------------+----------------+
Windows Server 2019
Kernel: 10.0
Compiler: clang 9.0
Fedora 31
Kernel: 5.3.16
Compiler: gcc 9.2.1
FreeBSD 11.2
Kernel: 11.2
Compiler: gcc 8.3
CentOS 8
Kernel: 4.18.0.el8_0
Compiler: gcc 8.3.1
openSUSE Leap 15
Kernel: 4.12.14
Compiler: gcc 7.4.1
Arch Linux
Kernel: latest
Compiler: gcc latest
Ubuntu 18.04
Kernel: 4.15.0-generic
Compiler: gcc 7.4
To view detailed results, visit:
https://lab.dpdk.org/results/dashboard/patchsets/13754/
UNH-IOL DPDK Community Lab
To manage your email subscriptions, visit:
https://lab.dpdk.org/results/dashboard/preferences/subscriptions/
^ permalink raw reply [flat|nested] 6+ messages in thread
* [dpdk-test-report] |SUCCESS| pw80927-80932 [PATCH] [v2, 5/5] net/mlx5: enforce limitation on IPv6 next proto
@ 2020-10-16 16:40 dpdklab
0 siblings, 0 replies; 6+ messages in thread
From: dpdklab @ 2020-10-16 16:40 UTC (permalink / raw)
To: Ali Alnubani, Test Report; +Cc: dpdk-test-reports
[-- Attachment #1: Type: text/plain, Size: 3979 bytes --]
Test-Label: iol-mellanox-Performance
Test-Status: SUCCESS
http://dpdk.org/patch/80932
_Performance Testing PASS_
Submitter: Dekel Peled <dekelp@nvidia.com>
Date: Thursday, October 15 2020 14:05:57
DPDK git baseline: Repo:dpdk-next-net-mlx
Branch: master
CommitID:eb1b13d04341bf5bfbb5853c0b16b439b207da69
80927-80932 --> performance testing pass
Test environment and result as below:
Ubuntu 18.04
Kernel: 4.15.0-generic
Compiler: gcc 7.4
NIC: Mellanox ConnectX-5 100000 Mbps
Target: x86_64-native-linuxapp-gcc
Fail/Total: 0/6
Detail performance results:
+------------+---------+-------------------------------------+
| frame_size | txd/rxd | throughput difference from expected |
+============+=========+=====================================+
| 64 | 256 | 0.537 |
+------------+---------+-------------------------------------+
| 128 | 256 | 0.130 |
+------------+---------+-------------------------------------+
| 256 | 256 | -0.054 |
+------------+---------+-------------------------------------+
| 512 | 256 | -0.083 |
+------------+---------+-------------------------------------+
| 1024 | 256 | 0.071 |
+------------+---------+-------------------------------------+
| 1518 | 256 | -0.021 |
+------------+---------+-------------------------------------+
Ubuntu 18.04
Kernel: 4.15.0-generic
Compiler: gcc 7.4
NIC: Mellanox ConnectX-4 Lx 25000 Mbps
Target: x86_64-native-linuxapp-gcc
Fail/Total: 0/6
Detail performance results:
+------------+---------+-------------------------------------+
| frame_size | txd/rxd | throughput difference from expected |
+============+=========+=====================================+
| 64 | 256 | -0.380 |
+------------+---------+-------------------------------------+
| 128 | 256 | -0.298 |
+------------+---------+-------------------------------------+
| 256 | 256 | -0.059 |
+------------+---------+-------------------------------------+
| 512 | 256 | 0.003 |
+------------+---------+-------------------------------------+
| 1024 | 256 | 0.005 |
+------------+---------+-------------------------------------+
| 1518 | 256 | 0.003 |
+------------+---------+-------------------------------------+
Ubuntu 18.04
Kernel: 4.15.0-generic
Compiler: gcc 7.4
NIC: Mellanox ConnectX-4 Lx 40000 Mbps
Target: x86_64-native-linuxapp-gcc
Fail/Total: 0/6
Detail performance results:
+------------+---------+-------------------------------------+
| frame_size | txd/rxd | throughput difference from expected |
+============+=========+=====================================+
| 64 | 256 | -0.598 |
+------------+---------+-------------------------------------+
| 128 | 256 | -0.513 |
+------------+---------+-------------------------------------+
| 256 | 256 | 0.571 |
+------------+---------+-------------------------------------+
| 512 | 256 | 0.012 |
+------------+---------+-------------------------------------+
| 1024 | 256 | 0.017 |
+------------+---------+-------------------------------------+
| 1518 | 256 | 0.014 |
+------------+---------+-------------------------------------+
To view detailed results, visit:
https://lab.dpdk.org/results/dashboard/patchsets/13754/
UNH-IOL DPDK Community Lab
To manage your email subscriptions, visit:
https://lab.dpdk.org/results/dashboard/preferences/subscriptions/
^ permalink raw reply [flat|nested] 6+ messages in thread
* [dpdk-test-report] |SUCCESS| pw80927-80932 [PATCH] [v2, 5/5] net/mlx5: enforce limitation on IPv6 next proto
@ 2020-10-15 19:23 dpdklab
0 siblings, 0 replies; 6+ messages in thread
From: dpdklab @ 2020-10-15 19:23 UTC (permalink / raw)
To: Test Report; +Cc: dpdk-test-reports
[-- Attachment #1: Type: text/plain, Size: 1929 bytes --]
Test-Label: iol-intel-Performance
Test-Status: SUCCESS
http://dpdk.org/patch/80932
_Performance Testing PASS_
Submitter: Dekel Peled <dekelp@nvidia.com>
Date: Thursday, October 15 2020 14:05:57
DPDK git baseline: Repo:dpdk-next-net-mlx
Branch: master
CommitID:eb1b13d04341bf5bfbb5853c0b16b439b207da69
80927-80932 --> performance testing pass
Test environment and result as below:
Ubuntu 18.04
Kernel: 4.15.0-generic
Compiler: gcc 7.4
NIC: Intel Corporation Ethernet Converged Network Adapter XL710-QDA2 40000 Mbps
Target: x86_64-native-linuxapp-gcc
Fail/Total: 0/2
Detail performance results:
+------------+---------+-------------------------------------+
| frame_size | txd/rxd | throughput difference from expected |
+============+=========+=====================================+
| 64 | 512 | 2.842 |
+------------+---------+-------------------------------------+
| 64 | 2048 | 1.630 |
+------------+---------+-------------------------------------+
Ubuntu 18.04
Kernel: 4.15.0-generic
Compiler: gcc 7.4
NIC: Intel Corporation Ethernet Converged Network Adapter 82599ES 10000 Mbps
Target: x86_64-native-linuxapp-gcc
Fail/Total: 0/2
Detail performance results:
+------------+---------+-------------------------------------+
| frame_size | txd/rxd | throughput difference from expected |
+============+=========+=====================================+
| 64 | 512 | 1.391 |
+------------+---------+-------------------------------------+
| 64 | 2048 | 0.782 |
+------------+---------+-------------------------------------+
To view detailed results, visit:
https://lab.dpdk.org/results/dashboard/patchsets/13754/
UNH-IOL DPDK Community Lab
To manage your email subscriptions, visit:
https://lab.dpdk.org/results/dashboard/preferences/subscriptions/
^ permalink raw reply [flat|nested] 6+ messages in thread
* [dpdk-test-report] |SUCCESS| pw80927-80932 [PATCH] [v2, 5/5] net/mlx5: enforce limitation on IPv6 next proto
@ 2020-10-15 18:01 dpdklab
0 siblings, 0 replies; 6+ messages in thread
From: dpdklab @ 2020-10-15 18:01 UTC (permalink / raw)
To: Test Report; +Cc: dpdk-test-reports
[-- Attachment #1: Type: text/plain, Size: 802 bytes --]
Test-Label: iol-intel-Functional
Test-Status: SUCCESS
http://dpdk.org/patch/80932
_Functional Testing PASS_
Submitter: Dekel Peled <dekelp@nvidia.com>
Date: Thursday, October 15 2020 14:05:57
DPDK git baseline: Repo:dpdk-next-net-mlx
Branch: master
CommitID:eb1b13d04341bf5bfbb5853c0b16b439b207da69
80927-80932 --> functional testing pass
Test environment and result as below:
Ubuntu 18.04
Kernel: 4.15.0-generic
Compiler: gcc 7.4
NIC: Intel Corporation Ethernet Converged Network Adapter XL710-QDA2 40000 Mbps
Target: x86_64-native-linuxapp-gcc
Fail/Total: 0/4
To view detailed results, visit:
https://lab.dpdk.org/results/dashboard/patchsets/13754/
UNH-IOL DPDK Community Lab
To manage your email subscriptions, visit:
https://lab.dpdk.org/results/dashboard/preferences/subscriptions/
^ permalink raw reply [flat|nested] 6+ messages in thread
* [dpdk-test-report] |SUCCESS| pw80927-80932 [PATCH] [v2, 5/5] net/mlx5: enforce limitation on IPv6 next proto
@ 2020-10-15 15:25 dpdklab
0 siblings, 0 replies; 6+ messages in thread
From: dpdklab @ 2020-10-15 15:25 UTC (permalink / raw)
To: Ajit Khaparde, Test Report; +Cc: dpdk-test-reports
[-- Attachment #1: Type: text/plain, Size: 1280 bytes --]
Test-Label: iol-broadcom-Performance
Test-Status: SUCCESS
http://dpdk.org/patch/80932
_Performance Testing PASS_
Submitter: Dekel Peled <dekelp@nvidia.com>
Date: Thursday, October 15 2020 14:05:57
DPDK git baseline: Repo:dpdk-next-net-mlx
Branch: master
CommitID:eb1b13d04341bf5bfbb5853c0b16b439b207da69
80927-80932 --> performance testing pass
Test environment and result as below:
Ubuntu 18.04
Kernel: 4.15.0-65-generic
Compiler: gcc gcc (Ubuntu 7.4.0-1ubuntu1~18.04.1) 7.4.0
NIC: Broadcom Inc. brcm_57414 25000 Mbps
Target: x86_64-native-linuxapp-gcc
Fail/Total: 0/2
Detail performance results:
+------------+---------+-------------------------------------+
| frame_size | txd/rxd | throughput difference from expected |
+============+=========+=====================================+
| 64 | 512 | -0.042 |
+------------+---------+-------------------------------------+
| 64 | 2048 | -0.084 |
+------------+---------+-------------------------------------+
To view detailed results, visit:
https://lab.dpdk.org/results/dashboard/patchsets/13754/
UNH-IOL DPDK Community Lab
To manage your email subscriptions, visit:
https://lab.dpdk.org/results/dashboard/preferences/subscriptions/
^ permalink raw reply [flat|nested] 6+ messages in thread
end of thread, other threads:[~2020-10-16 16:54 UTC | newest]
Thread overview: 6+ messages (download: mbox.gz / follow: Atom feed)
-- links below jump to the message on this page --
2020-10-15 15:20 [dpdk-test-report] |SUCCESS| pw80927-80932 [PATCH] [v2, 5/5] net/mlx5: enforce limitation on IPv6 next proto dpdklab
2020-10-15 15:25 dpdklab
2020-10-15 18:01 dpdklab
2020-10-15 19:23 dpdklab
2020-10-16 16:40 dpdklab
2020-10-16 16:54 dpdklab
This is a public inbox, see mirroring instructions
for how to clone and mirror all data and code used for this inbox;
as well as URLs for NNTP newsgroup(s).