* [dpdk-test-report] |SUCCESS| pw80968 [PATCH] [v4, 1/1] vfio: modify spapr iommu support to use static window sizing
@ 2020-10-15 19:09 dpdklab
0 siblings, 0 replies; 7+ messages in thread
From: dpdklab @ 2020-10-15 19:09 UTC (permalink / raw)
To: Ajit Khaparde, Test Report; +Cc: dpdk-test-reports
[-- Attachment #1: Type: text/plain, Size: 1272 bytes --]
Test-Label: iol-broadcom-Performance
Test-Status: SUCCESS
http://dpdk.org/patch/80968
_Performance Testing PASS_
Submitter: David Christensen <drc@linux.vnet.ibm.com>
Date: Thursday, October 15 2020 17:23:05
DPDK git baseline: Repo:dpdk
Branch: master
CommitID:f4cbdbc7fbd2cf352d50f5ce7018a63dc5392b1b
80968 --> performance testing pass
Test environment and result as below:
Ubuntu 18.04
Kernel: 4.15.0-65-generic
Compiler: gcc gcc (Ubuntu 7.4.0-1ubuntu1~18.04.1) 7.4.0
NIC: Broadcom Inc. brcm_57414 25000 Mbps
Target: x86_64-native-linuxapp-gcc
Fail/Total: 0/2
Detail performance results:
+------------+---------+-------------------------------------+
| frame_size | txd/rxd | throughput difference from expected |
+============+=========+=====================================+
| 64 | 512 | 0.001 |
+------------+---------+-------------------------------------+
| 64 | 2048 | -0.010 |
+------------+---------+-------------------------------------+
To view detailed results, visit:
https://lab.dpdk.org/results/dashboard/patchsets/13761/
UNH-IOL DPDK Community Lab
To manage your email subscriptions, visit:
https://lab.dpdk.org/results/dashboard/preferences/subscriptions/
^ permalink raw reply [flat|nested] 7+ messages in thread
* [dpdk-test-report] |SUCCESS| pw80968 [PATCH] [v4, 1/1] vfio: modify spapr iommu support to use static window sizing
@ 2020-10-17 1:37 dpdklab
0 siblings, 0 replies; 7+ messages in thread
From: dpdklab @ 2020-10-17 1:37 UTC (permalink / raw)
To: Ali Alnubani, Test Report; +Cc: dpdk-test-reports
[-- Attachment #1: Type: text/plain, Size: 3971 bytes --]
Test-Label: iol-mellanox-Performance
Test-Status: SUCCESS
http://dpdk.org/patch/80968
_Performance Testing PASS_
Submitter: David Christensen <drc@linux.vnet.ibm.com>
Date: Thursday, October 15 2020 17:23:05
DPDK git baseline: Repo:dpdk
Branch: master
CommitID:f4cbdbc7fbd2cf352d50f5ce7018a63dc5392b1b
80968 --> performance testing pass
Test environment and result as below:
Ubuntu 18.04
Kernel: 4.15.0-generic
Compiler: gcc 7.4
NIC: Mellanox ConnectX-5 100000 Mbps
Target: x86_64-native-linuxapp-gcc
Fail/Total: 0/6
Detail performance results:
+------------+---------+-------------------------------------+
| frame_size | txd/rxd | throughput difference from expected |
+============+=========+=====================================+
| 64 | 256 | 0.137 |
+------------+---------+-------------------------------------+
| 128 | 256 | -0.014 |
+------------+---------+-------------------------------------+
| 256 | 256 | -0.181 |
+------------+---------+-------------------------------------+
| 512 | 256 | 0.356 |
+------------+---------+-------------------------------------+
| 1024 | 256 | 0.097 |
+------------+---------+-------------------------------------+
| 1518 | 256 | -0.036 |
+------------+---------+-------------------------------------+
Ubuntu 18.04
Kernel: 4.15.0-generic
Compiler: gcc 7.4
NIC: Mellanox ConnectX-4 Lx 25000 Mbps
Target: x86_64-native-linuxapp-gcc
Fail/Total: 0/6
Detail performance results:
+------------+---------+-------------------------------------+
| frame_size | txd/rxd | throughput difference from expected |
+============+=========+=====================================+
| 64 | 256 | 0.229 |
+------------+---------+-------------------------------------+
| 128 | 256 | 0.090 |
+------------+---------+-------------------------------------+
| 256 | 256 | 0.059 |
+------------+---------+-------------------------------------+
| 512 | 256 | -0.073 |
+------------+---------+-------------------------------------+
| 1024 | 256 | -0.001 |
+------------+---------+-------------------------------------+
| 1518 | 256 | 0.007 |
+------------+---------+-------------------------------------+
Ubuntu 18.04
Kernel: 4.15.0-generic
Compiler: gcc 7.4
NIC: Mellanox ConnectX-4 Lx 40000 Mbps
Target: x86_64-native-linuxapp-gcc
Fail/Total: 0/6
Detail performance results:
+------------+---------+-------------------------------------+
| frame_size | txd/rxd | throughput difference from expected |
+============+=========+=====================================+
| 64 | 256 | 0.057 |
+------------+---------+-------------------------------------+
| 128 | 256 | 0.016 |
+------------+---------+-------------------------------------+
| 256 | 256 | 0.031 |
+------------+---------+-------------------------------------+
| 512 | 256 | -0.046 |
+------------+---------+-------------------------------------+
| 1024 | 256 | 0 |
+------------+---------+-------------------------------------+
| 1518 | 256 | -0.002 |
+------------+---------+-------------------------------------+
To view detailed results, visit:
https://lab.dpdk.org/results/dashboard/patchsets/13761/
UNH-IOL DPDK Community Lab
To manage your email subscriptions, visit:
https://lab.dpdk.org/results/dashboard/preferences/subscriptions/
^ permalink raw reply [flat|nested] 7+ messages in thread
* [dpdk-test-report] |SUCCESS| pw80968 [PATCH] [v4, 1/1] vfio: modify spapr iommu support to use static window sizing
@ 2020-10-16 17:14 dpdklab
0 siblings, 0 replies; 7+ messages in thread
From: dpdklab @ 2020-10-16 17:14 UTC (permalink / raw)
To: Test Report; +Cc: dpdk-test-reports
[-- Attachment #1: Type: text/plain, Size: 1998 bytes --]
Test-Label: iol-testing
Test-Status: SUCCESS
http://dpdk.org/patch/80968
_Testing PASS_
Submitter: David Christensen <drc@linux.vnet.ibm.com>
Date: Thursday, October 15 2020 17:23:05
DPDK git baseline: Repo:dpdk
Branch: master
CommitID:f4cbdbc7fbd2cf352d50f5ce7018a63dc5392b1b
80968 --> testing pass
Test environment and result as below:
+---------------------+--------------------+----------------+
| Environment | dpdk_meson_compile | dpdk_unit_test |
+=====================+====================+================+
| Windows Server 2019 | PASS | SKIPPED |
+---------------------+--------------------+----------------+
| Fedora 31 | PASS | SKIPPED |
+---------------------+--------------------+----------------+
| FreeBSD 11.2 | PASS | SKIPPED |
+---------------------+--------------------+----------------+
| CentOS 8 | PASS | SKIPPED |
+---------------------+--------------------+----------------+
| Ubuntu 18.04 | PASS | PASS |
+---------------------+--------------------+----------------+
| openSUSE Leap 15 | PASS | SKIPPED |
+---------------------+--------------------+----------------+
| Arch Linux | PASS | SKIPPED |
+---------------------+--------------------+----------------+
Windows Server 2019
Kernel: 10.0
Compiler: clang 9.0
Fedora 31
Kernel: 5.3.16
Compiler: gcc 9.2.1
FreeBSD 11.2
Kernel: 11.2
Compiler: gcc 8.3
CentOS 8
Kernel: 4.18.0.el8_0
Compiler: gcc 8.3.1
Ubuntu 18.04
Kernel: 4.15.0-generic
Compiler: gcc 7.4
openSUSE Leap 15
Kernel: 4.12.14
Compiler: gcc 7.4.1
Arch Linux
Kernel: latest
Compiler: gcc latest
To view detailed results, visit:
https://lab.dpdk.org/results/dashboard/patchsets/13761/
UNH-IOL DPDK Community Lab
To manage your email subscriptions, visit:
https://lab.dpdk.org/results/dashboard/preferences/subscriptions/
^ permalink raw reply [flat|nested] 7+ messages in thread
* [dpdk-test-report] |SUCCESS| pw80968 [PATCH] [v4, 1/1] vfio: modify spapr iommu support to use static window sizing
@ 2020-10-16 1:15 dpdklab
0 siblings, 0 replies; 7+ messages in thread
From: dpdklab @ 2020-10-16 1:15 UTC (permalink / raw)
To: Test Report; +Cc: dpdk-test-reports
[-- Attachment #1: Type: text/plain, Size: 1921 bytes --]
Test-Label: iol-intel-Performance
Test-Status: SUCCESS
http://dpdk.org/patch/80968
_Performance Testing PASS_
Submitter: David Christensen <drc@linux.vnet.ibm.com>
Date: Thursday, October 15 2020 17:23:05
DPDK git baseline: Repo:dpdk
Branch: master
CommitID:f4cbdbc7fbd2cf352d50f5ce7018a63dc5392b1b
80968 --> performance testing pass
Test environment and result as below:
Ubuntu 18.04
Kernel: 4.15.0-generic
Compiler: gcc 7.4
NIC: Intel Corporation Ethernet Converged Network Adapter XL710-QDA2 40000 Mbps
Target: x86_64-native-linuxapp-gcc
Fail/Total: 0/2
Detail performance results:
+------------+---------+-------------------------------------+
| frame_size | txd/rxd | throughput difference from expected |
+============+=========+=====================================+
| 64 | 512 | 2.628 |
+------------+---------+-------------------------------------+
| 64 | 2048 | 1.496 |
+------------+---------+-------------------------------------+
Ubuntu 18.04
Kernel: 4.15.0-generic
Compiler: gcc 7.4
NIC: Intel Corporation Ethernet Converged Network Adapter 82599ES 10000 Mbps
Target: x86_64-native-linuxapp-gcc
Fail/Total: 0/2
Detail performance results:
+------------+---------+-------------------------------------+
| frame_size | txd/rxd | throughput difference from expected |
+============+=========+=====================================+
| 64 | 512 | 1.962 |
+------------+---------+-------------------------------------+
| 64 | 2048 | 0.895 |
+------------+---------+-------------------------------------+
To view detailed results, visit:
https://lab.dpdk.org/results/dashboard/patchsets/13761/
UNH-IOL DPDK Community Lab
To manage your email subscriptions, visit:
https://lab.dpdk.org/results/dashboard/preferences/subscriptions/
^ permalink raw reply [flat|nested] 7+ messages in thread
* [dpdk-test-report] |SUCCESS| pw80968 [PATCH] [v4, 1/1] vfio: modify spapr iommu support to use static window sizing
@ 2020-10-15 23:24 dpdklab
0 siblings, 0 replies; 7+ messages in thread
From: dpdklab @ 2020-10-15 23:24 UTC (permalink / raw)
To: Test Report; +Cc: dpdk-test-reports
[-- Attachment #1: Type: text/plain, Size: 794 bytes --]
Test-Label: iol-intel-Functional
Test-Status: SUCCESS
http://dpdk.org/patch/80968
_Functional Testing PASS_
Submitter: David Christensen <drc@linux.vnet.ibm.com>
Date: Thursday, October 15 2020 17:23:05
DPDK git baseline: Repo:dpdk
Branch: master
CommitID:f4cbdbc7fbd2cf352d50f5ce7018a63dc5392b1b
80968 --> functional testing pass
Test environment and result as below:
Ubuntu 18.04
Kernel: 4.15.0-generic
Compiler: gcc 7.4
NIC: Intel Corporation Ethernet Converged Network Adapter XL710-QDA2 40000 Mbps
Target: x86_64-native-linuxapp-gcc
Fail/Total: 0/4
To view detailed results, visit:
https://lab.dpdk.org/results/dashboard/patchsets/13761/
UNH-IOL DPDK Community Lab
To manage your email subscriptions, visit:
https://lab.dpdk.org/results/dashboard/preferences/subscriptions/
^ permalink raw reply [flat|nested] 7+ messages in thread
* [dpdk-test-report] |SUCCESS| pw80968 [PATCH] [v4, 1/1] vfio: modify spapr iommu support to use static window sizing
@ 2020-10-15 19:17 dpdklab
0 siblings, 0 replies; 7+ messages in thread
From: dpdklab @ 2020-10-15 19:17 UTC (permalink / raw)
To: Ajit Khaparde, Test Report; +Cc: dpdk-test-reports
[-- Attachment #1: Type: text/plain, Size: 799 bytes --]
Test-Label: iol-broadcom-Functional
Test-Status: SUCCESS
http://dpdk.org/patch/80968
_Functional Testing PASS_
Submitter: David Christensen <drc@linux.vnet.ibm.com>
Date: Thursday, October 15 2020 17:23:05
DPDK git baseline: Repo:dpdk
Branch: master
CommitID:f4cbdbc7fbd2cf352d50f5ce7018a63dc5392b1b
80968 --> functional testing pass
Test environment and result as below:
Ubuntu 18.04
Kernel: 4.15.0-65-generic
Compiler: gcc gcc (Ubuntu 7.4.0-1ubuntu1~18.04.1) 7.4.0
NIC: Broadcom Inc. brcm_57414 25000 Mbps
Target: x86_64-native-linuxapp-gcc
Fail/Total: 0/3
To view detailed results, visit:
https://lab.dpdk.org/results/dashboard/patchsets/13761/
UNH-IOL DPDK Community Lab
To manage your email subscriptions, visit:
https://lab.dpdk.org/results/dashboard/preferences/subscriptions/
^ permalink raw reply [flat|nested] 7+ messages in thread
* [dpdk-test-report] |SUCCESS| pw80968 [PATCH v4 1/1] vfio: modify spapr iommu support to use static window sizing
[not found] <20201015172305.105717-2-drc@linux.vnet.ibm.com>
@ 2020-10-15 17:25 ` checkpatch
0 siblings, 0 replies; 7+ messages in thread
From: checkpatch @ 2020-10-15 17:25 UTC (permalink / raw)
To: test-report
Test-Label: checkpatch
Test-Status: SUCCESS
http://dpdk.org/patch/80968
_coding style OK_
^ permalink raw reply [flat|nested] 7+ messages in thread
end of thread, other threads:[~2020-10-17 1:37 UTC | newest]
Thread overview: 7+ messages (download: mbox.gz / follow: Atom feed)
-- links below jump to the message on this page --
2020-10-15 19:09 [dpdk-test-report] |SUCCESS| pw80968 [PATCH] [v4, 1/1] vfio: modify spapr iommu support to use static window sizing dpdklab
-- strict thread matches above, loose matches on Subject: below --
2020-10-17 1:37 dpdklab
2020-10-16 17:14 dpdklab
2020-10-16 1:15 dpdklab
2020-10-15 23:24 dpdklab
2020-10-15 19:17 dpdklab
[not found] <20201015172305.105717-2-drc@linux.vnet.ibm.com>
2020-10-15 17:25 ` [dpdk-test-report] |SUCCESS| pw80968 [PATCH v4 " checkpatch
This is a public inbox, see mirroring instructions
for how to clone and mirror all data and code used for this inbox;
as well as URLs for NNTP newsgroup(s).