* [dpdk-test-report] |SUCCESS| pw81508 [PATCH] net/ice: fix SCTP RSS configuration
[not found] <20201020085051.47073-1-junyux.jiang@intel.com>
@ 2020-10-20 9:14 ` checkpatch
2020-10-20 13:30 ` [dpdk-test-report] |SUCCESS| pw81508 " 0-day Robot
1 sibling, 0 replies; 3+ messages in thread
From: checkpatch @ 2020-10-20 9:14 UTC (permalink / raw)
To: test-report
Test-Label: checkpatch
Test-Status: SUCCESS
http://dpdk.org/patch/81508
_coding style OK_
^ permalink raw reply [flat|nested] 3+ messages in thread
* [dpdk-test-report] |SUCCESS| pw81508 net/ice: fix SCTP RSS configuration
[not found] <20201020085051.47073-1-junyux.jiang@intel.com>
2020-10-20 9:14 ` [dpdk-test-report] |SUCCESS| pw81508 [PATCH] net/ice: fix SCTP RSS configuration checkpatch
@ 2020-10-20 13:30 ` 0-day Robot
1 sibling, 0 replies; 3+ messages in thread
From: 0-day Robot @ 2020-10-20 13:30 UTC (permalink / raw)
To: test-report; +Cc: robot
From: robot@bytheb.org
Test-Label: travis-robot
Test-Status: SUCCESS
http://dpdk.org/patch/81508
_Travis build: passed_
Build URL: https://travis-ci.com/ovsrobot/dpdk/builds/191145783
^ permalink raw reply [flat|nested] 3+ messages in thread
* [dpdk-test-report] |SUCCESS| pw81508 [PATCH] net/ice: fix SCTP RSS configuration
@ 2020-10-20 9:47 dpdklab
0 siblings, 0 replies; 3+ messages in thread
From: dpdklab @ 2020-10-20 9:47 UTC (permalink / raw)
To: Test Report; +Cc: dpdk-test-reports
[-- Attachment #1: Type: text/plain, Size: 1991 bytes --]
Test-Label: iol-testing
Test-Status: SUCCESS
http://dpdk.org/patch/81508
_Testing PASS_
Submitter: Junyu Jiang <junyux.jiang@intel.com>
Date: Tuesday, October 20 2020 08:50:51
DPDK git baseline: Repo:dpdk
Branch: master
CommitID:a8d0d473a0a89b3c50813e3e144e9a5377429f24
81508 --> testing pass
Test environment and result as below:
+---------------------+--------------------+----------------+
| Environment | dpdk_meson_compile | dpdk_unit_test |
+=====================+====================+================+
| Windows Server 2019 | PASS | SKIPPED |
+---------------------+--------------------+----------------+
| FreeBSD 11.2 | PASS | SKIPPED |
+---------------------+--------------------+----------------+
| Ubuntu 18.04 | PASS | PASS |
+---------------------+--------------------+----------------+
| Fedora 31 | PASS | SKIPPED |
+---------------------+--------------------+----------------+
| CentOS 8 | PASS | SKIPPED |
+---------------------+--------------------+----------------+
| openSUSE Leap 15 | PASS | SKIPPED |
+---------------------+--------------------+----------------+
| Arch Linux | PASS | SKIPPED |
+---------------------+--------------------+----------------+
Windows Server 2019
Kernel: 10.0
Compiler: clang 9.0
FreeBSD 11.2
Kernel: 11.2
Compiler: gcc 8.3
Ubuntu 18.04
Kernel: 4.15.0-generic
Compiler: gcc 7.4
Fedora 31
Kernel: 5.3.16
Compiler: gcc 9.2.1
CentOS 8
Kernel: 4.18.0.el8_0
Compiler: gcc 8.3.1
openSUSE Leap 15
Kernel: 4.12.14
Compiler: gcc 7.4.1
Arch Linux
Kernel: latest
Compiler: gcc latest
To view detailed results, visit:
https://lab.dpdk.org/results/dashboard/patchsets/13856/
UNH-IOL DPDK Community Lab
To manage your email subscriptions, visit:
https://lab.dpdk.org/results/dashboard/preferences/subscriptions/
^ permalink raw reply [flat|nested] 3+ messages in thread
end of thread, other threads:[~2020-10-20 13:32 UTC | newest]
Thread overview: 3+ messages (download: mbox.gz / follow: Atom feed)
-- links below jump to the message on this page --
[not found] <20201020085051.47073-1-junyux.jiang@intel.com>
2020-10-20 9:14 ` [dpdk-test-report] |SUCCESS| pw81508 [PATCH] net/ice: fix SCTP RSS configuration checkpatch
2020-10-20 13:30 ` [dpdk-test-report] |SUCCESS| pw81508 " 0-day Robot
2020-10-20 9:47 [dpdk-test-report] |SUCCESS| pw81508 [PATCH] " dpdklab
This is a public inbox, see mirroring instructions
for how to clone and mirror all data and code used for this inbox;
as well as URLs for NNTP newsgroup(s).