Test-Label: checkpatch Test-Status: SUCCESS http://dpdk.org/patch/81573 _coding style OK_
[-- Attachment #1: Type: text/plain, Size: 1274 bytes --] Test-Label: iol-broadcom-Performance Test-Status: SUCCESS http://dpdk.org/patch/81573 _Performance Testing PASS_ Submitter: Bruce Richardson <bruce.richardson@intel.com> Date: Tuesday, October 20 2020 09:17:43 DPDK git baseline: Repo:dpdk Branch: master CommitID:a8d0d473a0a89b3c50813e3e144e9a5377429f24 81573 --> performance testing pass Test environment and result as below: Ubuntu 18.04 Kernel: 4.15.0-65-generic Compiler: gcc gcc (Ubuntu 7.4.0-1ubuntu1~18.04.1) 7.4.0 NIC: Broadcom Inc. brcm_57414 25000 Mbps Target: x86_64-native-linuxapp-gcc Fail/Total: 0/2 Detail performance results: +------------+---------+-------------------------------------+ | frame_size | txd/rxd | throughput difference from expected | +============+=========+=====================================+ | 64 | 512 | -0.072 | +------------+---------+-------------------------------------+ | 64 | 2048 | 0.002 | +------------+---------+-------------------------------------+ To view detailed results, visit: https://lab.dpdk.org/results/dashboard/patchsets/13859/ UNH-IOL DPDK Community Lab To manage your email subscriptions, visit: https://lab.dpdk.org/results/dashboard/preferences/subscriptions/
[-- Attachment #1: Type: text/plain, Size: 801 bytes --] Test-Label: iol-broadcom-Functional Test-Status: SUCCESS http://dpdk.org/patch/81573 _Functional Testing PASS_ Submitter: Bruce Richardson <bruce.richardson@intel.com> Date: Tuesday, October 20 2020 09:17:43 DPDK git baseline: Repo:dpdk Branch: master CommitID:a8d0d473a0a89b3c50813e3e144e9a5377429f24 81573 --> functional testing pass Test environment and result as below: Ubuntu 18.04 Kernel: 4.15.0-65-generic Compiler: gcc gcc (Ubuntu 7.4.0-1ubuntu1~18.04.1) 7.4.0 NIC: Broadcom Inc. brcm_57414 25000 Mbps Target: x86_64-native-linuxapp-gcc Fail/Total: 0/3 To view detailed results, visit: https://lab.dpdk.org/results/dashboard/patchsets/13859/ UNH-IOL DPDK Community Lab To manage your email subscriptions, visit: https://lab.dpdk.org/results/dashboard/preferences/subscriptions/
[-- Attachment #1: Type: text/plain, Size: 796 bytes --] Test-Label: iol-intel-Functional Test-Status: SUCCESS http://dpdk.org/patch/81573 _Functional Testing PASS_ Submitter: Bruce Richardson <bruce.richardson@intel.com> Date: Tuesday, October 20 2020 09:17:43 DPDK git baseline: Repo:dpdk Branch: master CommitID:a8d0d473a0a89b3c50813e3e144e9a5377429f24 81573 --> functional testing pass Test environment and result as below: Ubuntu 18.04 Kernel: 4.15.0-generic Compiler: gcc 7.4 NIC: Intel Corporation Ethernet Converged Network Adapter XL710-QDA2 40000 Mbps Target: x86_64-native-linuxapp-gcc Fail/Total: 0/4 To view detailed results, visit: https://lab.dpdk.org/results/dashboard/patchsets/13859/ UNH-IOL DPDK Community Lab To manage your email subscriptions, visit: https://lab.dpdk.org/results/dashboard/preferences/subscriptions/
[-- Attachment #1: Type: text/plain, Size: 2000 bytes --] Test-Label: iol-testing Test-Status: SUCCESS http://dpdk.org/patch/81573 _Testing PASS_ Submitter: Bruce Richardson <bruce.richardson@intel.com> Date: Tuesday, October 20 2020 09:17:43 DPDK git baseline: Repo:dpdk Branch: master CommitID:a8d0d473a0a89b3c50813e3e144e9a5377429f24 81573 --> testing pass Test environment and result as below: +---------------------+--------------------+----------------+ | Environment | dpdk_meson_compile | dpdk_unit_test | +=====================+====================+================+ | Windows Server 2019 | PASS | SKIPPED | +---------------------+--------------------+----------------+ | FreeBSD 11.2 | PASS | SKIPPED | +---------------------+--------------------+----------------+ | Ubuntu 18.04 | PASS | PASS | +---------------------+--------------------+----------------+ | CentOS 8 | PASS | SKIPPED | +---------------------+--------------------+----------------+ | Fedora 31 | PASS | SKIPPED | +---------------------+--------------------+----------------+ | openSUSE Leap 15 | PASS | SKIPPED | +---------------------+--------------------+----------------+ | Arch Linux | PASS | SKIPPED | +---------------------+--------------------+----------------+ Windows Server 2019 Kernel: 10.0 Compiler: clang 9.0 FreeBSD 11.2 Kernel: 11.2 Compiler: gcc 8.3 Ubuntu 18.04 Kernel: 4.15.0-generic Compiler: gcc 7.4 CentOS 8 Kernel: 4.18.0.el8_0 Compiler: gcc 8.3.1 Fedora 31 Kernel: 5.3.16 Compiler: gcc 9.2.1 openSUSE Leap 15 Kernel: 4.12.14 Compiler: gcc 7.4.1 Arch Linux Kernel: latest Compiler: gcc latest To view detailed results, visit: https://lab.dpdk.org/results/dashboard/patchsets/13859/ UNH-IOL DPDK Community Lab To manage your email subscriptions, visit: https://lab.dpdk.org/results/dashboard/preferences/subscriptions/
[-- Attachment #1: Type: text/plain, Size: 1923 bytes --] Test-Label: iol-intel-Performance Test-Status: SUCCESS http://dpdk.org/patch/81573 _Performance Testing PASS_ Submitter: Bruce Richardson <bruce.richardson@intel.com> Date: Tuesday, October 20 2020 09:17:43 DPDK git baseline: Repo:dpdk Branch: master CommitID:a8d0d473a0a89b3c50813e3e144e9a5377429f24 81573 --> performance testing pass Test environment and result as below: Ubuntu 18.04 Kernel: 4.15.0-generic Compiler: gcc 7.4 NIC: Intel Corporation Ethernet Converged Network Adapter XL710-QDA2 40000 Mbps Target: x86_64-native-linuxapp-gcc Fail/Total: 0/2 Detail performance results: +------------+---------+-------------------------------------+ | frame_size | txd/rxd | throughput difference from expected | +============+=========+=====================================+ | 64 | 512 | 2.783 | +------------+---------+-------------------------------------+ | 64 | 2048 | 1.578 | +------------+---------+-------------------------------------+ Ubuntu 18.04 Kernel: 4.15.0-generic Compiler: gcc 7.4 NIC: Intel Corporation Ethernet Converged Network Adapter 82599ES 10000 Mbps Target: x86_64-native-linuxapp-gcc Fail/Total: 0/2 Detail performance results: +------------+---------+-------------------------------------+ | frame_size | txd/rxd | throughput difference from expected | +============+=========+=====================================+ | 64 | 512 | 1.852 | +------------+---------+-------------------------------------+ | 64 | 2048 | 0.934 | +------------+---------+-------------------------------------+ To view detailed results, visit: https://lab.dpdk.org/results/dashboard/patchsets/13859/ UNH-IOL DPDK Community Lab To manage your email subscriptions, visit: https://lab.dpdk.org/results/dashboard/preferences/subscriptions/
[-- Attachment #1: Type: text/plain, Size: 3973 bytes --] Test-Label: iol-mellanox-Performance Test-Status: SUCCESS http://dpdk.org/patch/81573 _Performance Testing PASS_ Submitter: Bruce Richardson <bruce.richardson@intel.com> Date: Tuesday, October 20 2020 09:17:43 DPDK git baseline: Repo:dpdk Branch: master CommitID:a8d0d473a0a89b3c50813e3e144e9a5377429f24 81573 --> performance testing pass Test environment and result as below: Ubuntu 18.04 Kernel: 4.15.0-generic Compiler: gcc 7.4 NIC: Mellanox ConnectX-5 100000 Mbps Target: x86_64-native-linuxapp-gcc Fail/Total: 0/6 Detail performance results: +------------+---------+-------------------------------------+ | frame_size | txd/rxd | throughput difference from expected | +============+=========+=====================================+ | 64 | 256 | 0.195 | +------------+---------+-------------------------------------+ | 128 | 256 | -0.002 | +------------+---------+-------------------------------------+ | 256 | 256 | 0.026 | +------------+---------+-------------------------------------+ | 512 | 256 | -0.096 | +------------+---------+-------------------------------------+ | 1024 | 256 | -0.093 | +------------+---------+-------------------------------------+ | 1518 | 256 | 0 | +------------+---------+-------------------------------------+ Ubuntu 18.04 Kernel: 4.15.0-generic Compiler: gcc 7.4 NIC: Mellanox ConnectX-4 Lx 25000 Mbps Target: x86_64-native-linuxapp-gcc Fail/Total: 0/6 Detail performance results: +------------+---------+-------------------------------------+ | frame_size | txd/rxd | throughput difference from expected | +============+=========+=====================================+ | 64 | 256 | 0.081 | +------------+---------+-------------------------------------+ | 128 | 256 | -0.072 | +------------+---------+-------------------------------------+ | 256 | 256 | 0.238 | +------------+---------+-------------------------------------+ | 512 | 256 | 0.049 | +------------+---------+-------------------------------------+ | 1024 | 256 | 0.015 | +------------+---------+-------------------------------------+ | 1518 | 256 | -0.008 | +------------+---------+-------------------------------------+ Ubuntu 18.04 Kernel: 4.15.0-generic Compiler: gcc 7.4 NIC: Mellanox ConnectX-4 Lx 40000 Mbps Target: x86_64-native-linuxapp-gcc Fail/Total: 0/6 Detail performance results: +------------+---------+-------------------------------------+ | frame_size | txd/rxd | throughput difference from expected | +============+=========+=====================================+ | 64 | 256 | -0.228 | +------------+---------+-------------------------------------+ | 128 | 256 | 0.154 | +------------+---------+-------------------------------------+ | 256 | 256 | 0.204 | +------------+---------+-------------------------------------+ | 512 | 256 | 0.012 | +------------+---------+-------------------------------------+ | 1024 | 256 | -0.016 | +------------+---------+-------------------------------------+ | 1518 | 256 | -0.002 | +------------+---------+-------------------------------------+ To view detailed results, visit: https://lab.dpdk.org/results/dashboard/patchsets/13859/ UNH-IOL DPDK Community Lab To manage your email subscriptions, visit: https://lab.dpdk.org/results/dashboard/preferences/subscriptions/