* [dpdk-test-report] |SUCCESS| pw81595 [PATCH] net/mlx5: fix IPv6 next proto validation
@ 2020-10-20 12:59 dpdklab
0 siblings, 0 replies; 3+ messages in thread
From: dpdklab @ 2020-10-20 12:59 UTC (permalink / raw)
To: Test Report; +Cc: dpdk-test-reports
[-- Attachment #1: Type: text/plain, Size: 1999 bytes --]
Test-Label: iol-testing
Test-Status: SUCCESS
http://dpdk.org/patch/81595
_Testing PASS_
Submitter: Dekel Peled <dekelp@nvidia.com>
Date: Tuesday, October 20 2020 12:09:20
DPDK git baseline: Repo:dpdk-next-net-mlx
Branch: master
CommitID:c520564c730bd0bb7b92459743d2b33fef88ee89
81595 --> testing pass
Test environment and result as below:
+---------------------+--------------------+----------------+
| Environment | dpdk_meson_compile | dpdk_unit_test |
+=====================+====================+================+
| Windows Server 2019 | PASS | SKIPPED |
+---------------------+--------------------+----------------+
| FreeBSD 11.2 | PASS | SKIPPED |
+---------------------+--------------------+----------------+
| Ubuntu 18.04 | PASS | PASS |
+---------------------+--------------------+----------------+
| Fedora 31 | PASS | SKIPPED |
+---------------------+--------------------+----------------+
| CentOS 8 | PASS | SKIPPED |
+---------------------+--------------------+----------------+
| openSUSE Leap 15 | PASS | SKIPPED |
+---------------------+--------------------+----------------+
| Arch Linux | PASS | SKIPPED |
+---------------------+--------------------+----------------+
Windows Server 2019
Kernel: 10.0
Compiler: clang 9.0
FreeBSD 11.2
Kernel: 11.2
Compiler: gcc 8.3
Ubuntu 18.04
Kernel: 4.15.0-generic
Compiler: gcc 7.4
Fedora 31
Kernel: 5.3.16
Compiler: gcc 9.2.1
CentOS 8
Kernel: 4.18.0.el8_0
Compiler: gcc 8.3.1
openSUSE Leap 15
Kernel: 4.12.14
Compiler: gcc 7.4.1
Arch Linux
Kernel: latest
Compiler: gcc latest
To view detailed results, visit:
https://lab.dpdk.org/results/dashboard/patchsets/13866/
UNH-IOL DPDK Community Lab
To manage your email subscriptions, visit:
https://lab.dpdk.org/results/dashboard/preferences/subscriptions/
^ permalink raw reply [flat|nested] 3+ messages in thread
* [dpdk-test-report] |SUCCESS| pw81595 [PATCH] net/mlx5: fix IPv6 next proto validation
@ 2020-10-20 12:48 dpdklab
0 siblings, 0 replies; 3+ messages in thread
From: dpdklab @ 2020-10-20 12:48 UTC (permalink / raw)
To: Ajit Khaparde, Test Report; +Cc: dpdk-test-reports
[-- Attachment #1: Type: text/plain, Size: 1273 bytes --]
Test-Label: iol-broadcom-Performance
Test-Status: SUCCESS
http://dpdk.org/patch/81595
_Performance Testing PASS_
Submitter: Dekel Peled <dekelp@nvidia.com>
Date: Tuesday, October 20 2020 12:09:20
DPDK git baseline: Repo:dpdk-next-net-mlx
Branch: master
CommitID:c520564c730bd0bb7b92459743d2b33fef88ee89
81595 --> performance testing pass
Test environment and result as below:
Ubuntu 18.04
Kernel: 4.15.0-65-generic
Compiler: gcc gcc (Ubuntu 7.4.0-1ubuntu1~18.04.1) 7.4.0
NIC: Broadcom Inc. brcm_57414 25000 Mbps
Target: x86_64-native-linuxapp-gcc
Fail/Total: 0/2
Detail performance results:
+------------+---------+-------------------------------------+
| frame_size | txd/rxd | throughput difference from expected |
+============+=========+=====================================+
| 64 | 512 | -0.044 |
+------------+---------+-------------------------------------+
| 64 | 2048 | 0.011 |
+------------+---------+-------------------------------------+
To view detailed results, visit:
https://lab.dpdk.org/results/dashboard/patchsets/13866/
UNH-IOL DPDK Community Lab
To manage your email subscriptions, visit:
https://lab.dpdk.org/results/dashboard/preferences/subscriptions/
^ permalink raw reply [flat|nested] 3+ messages in thread
[parent not found: <fc7c2ef6fc37f4337ad7a0980e351d6ae92a7a19.1603195768.git.dekelp@nvidia.com>]
end of thread, other threads:[~2020-10-20 12:59 UTC | newest]
Thread overview: 3+ messages (download: mbox.gz / follow: Atom feed)
-- links below jump to the message on this page --
2020-10-20 12:59 [dpdk-test-report] |SUCCESS| pw81595 [PATCH] net/mlx5: fix IPv6 next proto validation dpdklab
-- strict thread matches above, loose matches on Subject: below --
2020-10-20 12:48 dpdklab
[not found] <fc7c2ef6fc37f4337ad7a0980e351d6ae92a7a19.1603195768.git.dekelp@nvidia.com>
2020-10-20 12:12 ` checkpatch
This is a public inbox, see mirroring instructions
for how to clone and mirror all data and code used for this inbox;
as well as URLs for NNTP newsgroup(s).