Test-Label: checkpatch Test-Status: SUCCESS http://dpdk.org/patch/81658 _coding style OK_
[-- Attachment #1: Type: text/plain, Size: 782 bytes --] Test-Label: iol-broadcom-Functional Test-Status: SUCCESS http://dpdk.org/patch/81658 _Functional Testing PASS_ Submitter: <psatheesh@marvell.com> Date: Wednesday, October 21 2020 03:31:31 DPDK git baseline: Repo:dpdk Branch: master CommitID:4669252e0421aaf06ff86d5339f970ebe72cbf22 81658 --> functional testing pass Test environment and result as below: Ubuntu 18.04 Kernel: 4.15.0-65-generic Compiler: gcc gcc (Ubuntu 7.4.0-1ubuntu1~18.04.1) 7.4.0 NIC: Broadcom Inc. brcm_57414 25000 Mbps Target: x86_64-native-linuxapp-gcc Fail/Total: 0/3 To view detailed results, visit: https://lab.dpdk.org/results/dashboard/patchsets/13879/ UNH-IOL DPDK Community Lab To manage your email subscriptions, visit: https://lab.dpdk.org/results/dashboard/preferences/subscriptions/
[-- Attachment #1: Type: text/plain, Size: 1255 bytes --] Test-Label: iol-broadcom-Performance Test-Status: SUCCESS http://dpdk.org/patch/81658 _Performance Testing PASS_ Submitter: <psatheesh@marvell.com> Date: Wednesday, October 21 2020 03:31:31 DPDK git baseline: Repo:dpdk Branch: master CommitID:4669252e0421aaf06ff86d5339f970ebe72cbf22 81658 --> performance testing pass Test environment and result as below: Ubuntu 18.04 Kernel: 4.15.0-65-generic Compiler: gcc gcc (Ubuntu 7.4.0-1ubuntu1~18.04.1) 7.4.0 NIC: Broadcom Inc. brcm_57414 25000 Mbps Target: x86_64-native-linuxapp-gcc Fail/Total: 0/2 Detail performance results: +------------+---------+-------------------------------------+ | frame_size | txd/rxd | throughput difference from expected | +============+=========+=====================================+ | 64 | 512 | 0.022 | +------------+---------+-------------------------------------+ | 64 | 2048 | -0.001 | +------------+---------+-------------------------------------+ To view detailed results, visit: https://lab.dpdk.org/results/dashboard/patchsets/13879/ UNH-IOL DPDK Community Lab To manage your email subscriptions, visit: https://lab.dpdk.org/results/dashboard/preferences/subscriptions/
[-- Attachment #1: Type: text/plain, Size: 777 bytes --] Test-Label: iol-intel-Functional Test-Status: SUCCESS http://dpdk.org/patch/81658 _Functional Testing PASS_ Submitter: <psatheesh@marvell.com> Date: Wednesday, October 21 2020 03:31:31 DPDK git baseline: Repo:dpdk Branch: master CommitID:4669252e0421aaf06ff86d5339f970ebe72cbf22 81658 --> functional testing pass Test environment and result as below: Ubuntu 18.04 Kernel: 4.15.0-generic Compiler: gcc 7.4 NIC: Intel Corporation Ethernet Converged Network Adapter XL710-QDA2 40000 Mbps Target: x86_64-native-linuxapp-gcc Fail/Total: 0/3 To view detailed results, visit: https://lab.dpdk.org/results/dashboard/patchsets/13879/ UNH-IOL DPDK Community Lab To manage your email subscriptions, visit: https://lab.dpdk.org/results/dashboard/preferences/subscriptions/
[-- Attachment #1: Type: text/plain, Size: 1981 bytes --] Test-Label: iol-testing Test-Status: SUCCESS http://dpdk.org/patch/81658 _Testing PASS_ Submitter: <psatheesh@marvell.com> Date: Wednesday, October 21 2020 03:31:31 DPDK git baseline: Repo:dpdk Branch: master CommitID:4669252e0421aaf06ff86d5339f970ebe72cbf22 81658 --> testing pass Test environment and result as below: +---------------------+--------------------+----------------+ | Environment | dpdk_meson_compile | dpdk_unit_test | +=====================+====================+================+ | Windows Server 2019 | PASS | SKIPPED | +---------------------+--------------------+----------------+ | FreeBSD 11.2 | PASS | SKIPPED | +---------------------+--------------------+----------------+ | Fedora 31 | PASS | SKIPPED | +---------------------+--------------------+----------------+ | Ubuntu 18.04 | PASS | PASS | +---------------------+--------------------+----------------+ | CentOS 8 | PASS | SKIPPED | +---------------------+--------------------+----------------+ | openSUSE Leap 15 | PASS | SKIPPED | +---------------------+--------------------+----------------+ | Arch Linux | PASS | SKIPPED | +---------------------+--------------------+----------------+ Windows Server 2019 Kernel: 10.0 Compiler: clang 9.0 FreeBSD 11.2 Kernel: 11.2 Compiler: gcc 8.3 Fedora 31 Kernel: 5.3.16 Compiler: gcc 9.2.1 Ubuntu 18.04 Kernel: 4.15.0-generic Compiler: gcc 7.4 CentOS 8 Kernel: 4.18.0.el8_0 Compiler: gcc 8.3.1 openSUSE Leap 15 Kernel: 4.12.14 Compiler: gcc 7.4.1 Arch Linux Kernel: latest Compiler: gcc latest To view detailed results, visit: https://lab.dpdk.org/results/dashboard/patchsets/13879/ UNH-IOL DPDK Community Lab To manage your email subscriptions, visit: https://lab.dpdk.org/results/dashboard/preferences/subscriptions/
[-- Attachment #1: Type: text/plain, Size: 1904 bytes --] Test-Label: iol-intel-Performance Test-Status: SUCCESS http://dpdk.org/patch/81658 _Performance Testing PASS_ Submitter: <psatheesh@marvell.com> Date: Wednesday, October 21 2020 03:31:31 DPDK git baseline: Repo:dpdk Branch: master CommitID:4669252e0421aaf06ff86d5339f970ebe72cbf22 81658 --> performance testing pass Test environment and result as below: Ubuntu 18.04 Kernel: 4.15.0-generic Compiler: gcc 7.4 NIC: Intel Corporation Ethernet Converged Network Adapter XL710-QDA2 40000 Mbps Target: x86_64-native-linuxapp-gcc Fail/Total: 0/2 Detail performance results: +------------+---------+-------------------------------------+ | frame_size | txd/rxd | throughput difference from expected | +============+=========+=====================================+ | 64 | 512 | 2.868 | +------------+---------+-------------------------------------+ | 64 | 2048 | 1.672 | +------------+---------+-------------------------------------+ Ubuntu 18.04 Kernel: 4.15.0-generic Compiler: gcc 7.4 NIC: Intel Corporation Ethernet Converged Network Adapter 82599ES 10000 Mbps Target: x86_64-native-linuxapp-gcc Fail/Total: 0/2 Detail performance results: +------------+---------+-------------------------------------+ | frame_size | txd/rxd | throughput difference from expected | +============+=========+=====================================+ | 64 | 512 | 1.905 | +------------+---------+-------------------------------------+ | 64 | 2048 | 1.099 | +------------+---------+-------------------------------------+ To view detailed results, visit: https://lab.dpdk.org/results/dashboard/patchsets/13879/ UNH-IOL DPDK Community Lab To manage your email subscriptions, visit: https://lab.dpdk.org/results/dashboard/preferences/subscriptions/
[-- Attachment #1: Type: text/plain, Size: 3954 bytes --] Test-Label: iol-mellanox-Performance Test-Status: SUCCESS http://dpdk.org/patch/81658 _Performance Testing PASS_ Submitter: <psatheesh@marvell.com> Date: Wednesday, October 21 2020 03:31:31 DPDK git baseline: Repo:dpdk Branch: master CommitID:4669252e0421aaf06ff86d5339f970ebe72cbf22 81658 --> performance testing pass Test environment and result as below: Ubuntu 18.04 Kernel: 4.15.0-generic Compiler: gcc 7.4 NIC: Mellanox ConnectX-5 100000 Mbps Target: x86_64-native-linuxapp-gcc Fail/Total: 0/6 Detail performance results: +------------+---------+-------------------------------------+ | frame_size | txd/rxd | throughput difference from expected | +============+=========+=====================================+ | 64 | 256 | 0.021 | +------------+---------+-------------------------------------+ | 128 | 256 | -0.030 | +------------+---------+-------------------------------------+ | 256 | 256 | 0.056 | +------------+---------+-------------------------------------+ | 512 | 256 | 0.108 | +------------+---------+-------------------------------------+ | 1024 | 256 | 0.040 | +------------+---------+-------------------------------------+ | 1518 | 256 | -0.003 | +------------+---------+-------------------------------------+ Ubuntu 18.04 Kernel: 4.15.0-generic Compiler: gcc 7.4 NIC: Mellanox ConnectX-4 Lx 25000 Mbps Target: x86_64-native-linuxapp-gcc Fail/Total: 0/6 Detail performance results: +------------+---------+-------------------------------------+ | frame_size | txd/rxd | throughput difference from expected | +============+=========+=====================================+ | 64 | 256 | 0.071 | +------------+---------+-------------------------------------+ | 128 | 256 | -0.013 | +------------+---------+-------------------------------------+ | 256 | 256 | 0.234 | +------------+---------+-------------------------------------+ | 512 | 256 | -0.035 | +------------+---------+-------------------------------------+ | 1024 | 256 | -0.012 | +------------+---------+-------------------------------------+ | 1518 | 256 | -0.009 | +------------+---------+-------------------------------------+ Ubuntu 18.04 Kernel: 4.15.0-generic Compiler: gcc 7.4 NIC: Mellanox ConnectX-4 Lx 40000 Mbps Target: x86_64-native-linuxapp-gcc Fail/Total: 0/6 Detail performance results: +------------+---------+-------------------------------------+ | frame_size | txd/rxd | throughput difference from expected | +============+=========+=====================================+ | 64 | 256 | -0.014 | +------------+---------+-------------------------------------+ | 128 | 256 | -0.099 | +------------+---------+-------------------------------------+ | 256 | 256 | 0.561 | +------------+---------+-------------------------------------+ | 512 | 256 | 0.007 | +------------+---------+-------------------------------------+ | 1024 | 256 | 0 | +------------+---------+-------------------------------------+ | 1518 | 256 | -0.001 | +------------+---------+-------------------------------------+ To view detailed results, visit: https://lab.dpdk.org/results/dashboard/patchsets/13879/ UNH-IOL DPDK Community Lab To manage your email subscriptions, visit: https://lab.dpdk.org/results/dashboard/preferences/subscriptions/