* [dpdk-test-report] |SUCCESS| pw82333-82341 [PATCH] [v10, 9/9] examples/l3fwd-power: enable PMD power mgmt
@ 2020-10-27 22:32 dpdklab
0 siblings, 0 replies; 4+ messages in thread
From: dpdklab @ 2020-10-27 22:32 UTC (permalink / raw)
To: Test Report; +Cc: dpdk-test-reports
[-- Attachment #1: Type: text/plain, Size: 1703 bytes --]
Test-Label: iol-testing
Test-Status: SUCCESS
http://dpdk.org/patch/82341
_Testing PASS_
Submitter: Liang Ma <liang.j.ma@intel.com>
Date: Tuesday, October 27 2020 14:59:09
DPDK git baseline: Repo:dpdk
Branch: master
CommitID:5d7366372888ba654d3ba02b2b06de469ec433b9
82333-82341 --> testing pass
Test environment and result as below:
+---------------------+--------------------+
| Environment | dpdk_meson_compile |
+=====================+====================+
| Windows Server 2019 | PASS |
+---------------------+--------------------+
| FreeBSD 11.2 | PASS |
+---------------------+--------------------+
| Ubuntu 18.04 | PASS |
+---------------------+--------------------+
| Fedora 31 | PASS |
+---------------------+--------------------+
| CentOS 8 | PASS |
+---------------------+--------------------+
| openSUSE Leap 15 | PASS |
+---------------------+--------------------+
| Arch Linux | PASS |
+---------------------+--------------------+
Windows Server 2019
Kernel: 10.0
Compiler: clang 9.0
FreeBSD 11.2
Kernel: 11.2
Compiler: gcc 8.3
Ubuntu 18.04
Kernel: 4.15.0-generic
Compiler: gcc 7.4
Fedora 31
Kernel: 5.3.16
Compiler: gcc 9.2.1
CentOS 8
Kernel: 4.18.0.el8_0
Compiler: gcc 8.3.1
openSUSE Leap 15
Kernel: 4.12.14
Compiler: gcc 7.4.1
Arch Linux
Kernel: latest
Compiler: gcc latest
To view detailed results, visit:
https://lab.dpdk.org/results/dashboard/patchsets/14068/
UNH-IOL DPDK Community Lab
To manage your email subscriptions, visit:
https://lab.dpdk.org/results/dashboard/preferences/subscriptions/
^ permalink raw reply [flat|nested] 4+ messages in thread
* [dpdk-test-report] |SUCCESS| pw82333-82341 [PATCH] [v10, 9/9] examples/l3fwd-power: enable PMD power mgmt
@ 2020-10-28 0:56 dpdklab
0 siblings, 0 replies; 4+ messages in thread
From: dpdklab @ 2020-10-28 0:56 UTC (permalink / raw)
To: Test Report; +Cc: dpdk-test-reports
[-- Attachment #1: Type: text/plain, Size: 788 bytes --]
Test-Label: iol-intel-Functional
Test-Status: SUCCESS
http://dpdk.org/patch/82341
_Functional Testing PASS_
Submitter: Liang Ma <liang.j.ma@intel.com>
Date: Tuesday, October 27 2020 14:59:09
DPDK git baseline: Repo:dpdk
Branch: master
CommitID:5d7366372888ba654d3ba02b2b06de469ec433b9
82333-82341 --> functional testing pass
Test environment and result as below:
Ubuntu 18.04
Kernel: 4.15.0-generic
Compiler: gcc 7.4
NIC: Intel Corporation Ethernet Converged Network Adapter XL710-QDA2 40000 Mbps
Target: x86_64-native-linuxapp-gcc
Fail/Total: 0/3
To view detailed results, visit:
https://lab.dpdk.org/results/dashboard/patchsets/14068/
UNH-IOL DPDK Community Lab
To manage your email subscriptions, visit:
https://lab.dpdk.org/results/dashboard/preferences/subscriptions/
^ permalink raw reply [flat|nested] 4+ messages in thread
* [dpdk-test-report] |SUCCESS| pw82333-82341 [PATCH] [v10, 9/9] examples/l3fwd-power: enable PMD power mgmt
@ 2020-10-28 2:27 dpdklab
0 siblings, 0 replies; 4+ messages in thread
From: dpdklab @ 2020-10-28 2:27 UTC (permalink / raw)
To: Test Report; +Cc: dpdk-test-reports
[-- Attachment #1: Type: text/plain, Size: 1915 bytes --]
Test-Label: iol-intel-Performance
Test-Status: SUCCESS
http://dpdk.org/patch/82341
_Performance Testing PASS_
Submitter: Liang Ma <liang.j.ma@intel.com>
Date: Tuesday, October 27 2020 14:59:09
DPDK git baseline: Repo:dpdk
Branch: master
CommitID:5d7366372888ba654d3ba02b2b06de469ec433b9
82333-82341 --> performance testing pass
Test environment and result as below:
Ubuntu 18.04
Kernel: 4.15.0-generic
Compiler: gcc 7.4
NIC: Intel Corporation Ethernet Converged Network Adapter XL710-QDA2 40000 Mbps
Target: x86_64-native-linuxapp-gcc
Fail/Total: 0/2
Detail performance results:
+------------+---------+-------------------------------------+
| frame_size | txd/rxd | throughput difference from expected |
+============+=========+=====================================+
| 64 | 512 | 2.866 |
+------------+---------+-------------------------------------+
| 64 | 2048 | 1.220 |
+------------+---------+-------------------------------------+
Ubuntu 18.04
Kernel: 4.15.0-generic
Compiler: gcc 7.4
NIC: Intel Corporation Ethernet Converged Network Adapter 82599ES 10000 Mbps
Target: x86_64-native-linuxapp-gcc
Fail/Total: 0/2
Detail performance results:
+------------+---------+-------------------------------------+
| frame_size | txd/rxd | throughput difference from expected |
+============+=========+=====================================+
| 64 | 512 | 1.792 |
+------------+---------+-------------------------------------+
| 64 | 2048 | 1.032 |
+------------+---------+-------------------------------------+
To view detailed results, visit:
https://lab.dpdk.org/results/dashboard/patchsets/14068/
UNH-IOL DPDK Community Lab
To manage your email subscriptions, visit:
https://lab.dpdk.org/results/dashboard/preferences/subscriptions/
^ permalink raw reply [flat|nested] 4+ messages in thread
* [dpdk-test-report] |SUCCESS| pw82333-82341 [PATCH] [v10, 9/9] examples/l3fwd-power: enable PMD power mgmt
@ 2020-10-28 20:00 dpdklab
0 siblings, 0 replies; 4+ messages in thread
From: dpdklab @ 2020-10-28 20:00 UTC (permalink / raw)
To: Ali Alnubani, Test Report; +Cc: dpdk-test-reports
[-- Attachment #1: Type: text/plain, Size: 3966 bytes --]
Test-Label: iol-mellanox-Performance
Test-Status: SUCCESS
http://dpdk.org/patch/82341
_Performance Testing PASS_
Submitter: Liang, Ma <liang.j.ma@intel.com>
Date: Tuesday, October 27 2020 14:59:09
DPDK git baseline: Repo:dpdk
Branch: master
CommitID:5d7366372888ba654d3ba02b2b06de469ec433b9
82333-82341 --> performance testing pass
Test environment and result as below:
Ubuntu 18.04
Kernel: 4.15.0-generic
Compiler: gcc 7.4
NIC: Mellanox ConnectX-5 100000 Mbps
Target: x86_64-native-linuxapp-gcc
Fail/Total: 0/6
Detail performance results:
+------------+---------+-------------------------------------+
| frame_size | txd/rxd | throughput difference from expected |
+============+=========+=====================================+
| 64 | 256 | 0.035 |
+------------+---------+-------------------------------------+
| 128 | 256 | 0.064 |
+------------+---------+-------------------------------------+
| 256 | 256 | 0.010 |
+------------+---------+-------------------------------------+
| 512 | 256 | -0.070 |
+------------+---------+-------------------------------------+
| 1024 | 256 | -0.017 |
+------------+---------+-------------------------------------+
| 1518 | 256 | -0.033 |
+------------+---------+-------------------------------------+
Ubuntu 18.04
Kernel: 4.15.0-generic
Compiler: gcc 7.4
NIC: Mellanox ConnectX-4 Lx 25000 Mbps
Target: x86_64-native-linuxapp-gcc
Fail/Total: 0/6
Detail performance results:
+------------+---------+-------------------------------------+
| frame_size | txd/rxd | throughput difference from expected |
+============+=========+=====================================+
| 64 | 256 | -0.050 |
+------------+---------+-------------------------------------+
| 128 | 256 | -0.097 |
+------------+---------+-------------------------------------+
| 256 | 256 | 0.095 |
+------------+---------+-------------------------------------+
| 512 | 256 | -0.030 |
+------------+---------+-------------------------------------+
| 1024 | 256 | 0.011 |
+------------+---------+-------------------------------------+
| 1518 | 256 | -0.008 |
+------------+---------+-------------------------------------+
Ubuntu 18.04
Kernel: 4.15.0-generic
Compiler: gcc 7.4
NIC: Mellanox ConnectX-4 Lx 40000 Mbps
Target: x86_64-native-linuxapp-gcc
Fail/Total: 0/6
Detail performance results:
+------------+---------+-------------------------------------+
| frame_size | txd/rxd | throughput difference from expected |
+============+=========+=====================================+
| 64 | 256 | 0.028 |
+------------+---------+-------------------------------------+
| 128 | 256 | 0.573 |
+------------+---------+-------------------------------------+
| 256 | 256 | 0.496 |
+------------+---------+-------------------------------------+
| 512 | 256 | -0.058 |
+------------+---------+-------------------------------------+
| 1024 | 256 | -0.038 |
+------------+---------+-------------------------------------+
| 1518 | 256 | -0.004 |
+------------+---------+-------------------------------------+
To view detailed results, visit:
https://lab.dpdk.org/results/dashboard/patchsets/14068/
UNH-IOL DPDK Community Lab
To manage your email subscriptions, visit:
https://lab.dpdk.org/results/dashboard/preferences/subscriptions/
^ permalink raw reply [flat|nested] 4+ messages in thread
end of thread, other threads:[~2020-10-28 20:00 UTC | newest]
Thread overview: 4+ messages (download: mbox.gz / follow: Atom feed)
-- links below jump to the message on this page --
2020-10-27 22:32 [dpdk-test-report] |SUCCESS| pw82333-82341 [PATCH] [v10, 9/9] examples/l3fwd-power: enable PMD power mgmt dpdklab
2020-10-28 0:56 dpdklab
2020-10-28 2:27 dpdklab
2020-10-28 20:00 dpdklab
This is a public inbox, see mirroring instructions
for how to clone and mirror all data and code used for this inbox;
as well as URLs for NNTP newsgroup(s).