* [dpdk-test-report] |SUCCESS| pw82629-82630 [PATCH] [v1, 2/2] vdpa/mlx5: specify lag port affinity
@ 2020-10-28 12:34 dpdklab
0 siblings, 0 replies; 8+ messages in thread
From: dpdklab @ 2020-10-28 12:34 UTC (permalink / raw)
To: Test Report; +Cc: dpdk-test-reports
[-- Attachment #1: Type: text/plain, Size: 1918 bytes --]
Test-Label: iol-intel-Performance
Test-Status: SUCCESS
http://dpdk.org/patch/82630
_Performance Testing PASS_
Submitter: Xueming Li <xuemingl@nvidia.com>
Date: Wednesday, October 28 2020 10:44:39
DPDK git baseline: Repo:dpdk
Branch: master
CommitID:c3afd1cba69bd7a900fd63c02cc87fba8d74430a
82629-82630 --> performance testing pass
Test environment and result as below:
Ubuntu 18.04
Kernel: 4.15.0-generic
Compiler: gcc 7.4
NIC: Intel Corporation Ethernet Converged Network Adapter XL710-QDA2 40000 Mbps
Target: x86_64-native-linuxapp-gcc
Fail/Total: 0/2
Detail performance results:
+------------+---------+-------------------------------------+
| frame_size | txd/rxd | throughput difference from expected |
+============+=========+=====================================+
| 64 | 512 | 2.547 |
+------------+---------+-------------------------------------+
| 64 | 2048 | 1.501 |
+------------+---------+-------------------------------------+
Ubuntu 18.04
Kernel: 4.15.0-generic
Compiler: gcc 7.4
NIC: Intel Corporation Ethernet Converged Network Adapter 82599ES 10000 Mbps
Target: x86_64-native-linuxapp-gcc
Fail/Total: 0/2
Detail performance results:
+------------+---------+-------------------------------------+
| frame_size | txd/rxd | throughput difference from expected |
+============+=========+=====================================+
| 64 | 512 | 2.037 |
+------------+---------+-------------------------------------+
| 64 | 2048 | 0.997 |
+------------+---------+-------------------------------------+
To view detailed results, visit:
https://lab.dpdk.org/results/dashboard/patchsets/14098/
UNH-IOL DPDK Community Lab
To manage your email subscriptions, visit:
https://lab.dpdk.org/results/dashboard/preferences/subscriptions/
^ permalink raw reply [flat|nested] 8+ messages in thread
* [dpdk-test-report] |SUCCESS| pw82629-82630 [PATCH] [v1, 2/2] vdpa/mlx5: specify lag port affinity
@ 2020-10-29 14:16 dpdklab
0 siblings, 0 replies; 8+ messages in thread
From: dpdklab @ 2020-10-29 14:16 UTC (permalink / raw)
To: Ali Alnubani, Test Report; +Cc: dpdk-test-reports
[-- Attachment #1: Type: text/plain, Size: 3968 bytes --]
Test-Label: iol-mellanox-Performance
Test-Status: SUCCESS
http://dpdk.org/patch/82630
_Performance Testing PASS_
Submitter: Xueming Li <xuemingl@nvidia.com>
Date: Wednesday, October 28 2020 10:44:39
DPDK git baseline: Repo:dpdk
Branch: master
CommitID:c3afd1cba69bd7a900fd63c02cc87fba8d74430a
82629-82630 --> performance testing pass
Test environment and result as below:
Ubuntu 18.04
Kernel: 4.15.0-generic
Compiler: gcc 7.4
NIC: Mellanox ConnectX-5 100000 Mbps
Target: x86_64-native-linuxapp-gcc
Fail/Total: 0/6
Detail performance results:
+------------+---------+-------------------------------------+
| frame_size | txd/rxd | throughput difference from expected |
+============+=========+=====================================+
| 64 | 256 | 0.551 |
+------------+---------+-------------------------------------+
| 128 | 256 | 0.058 |
+------------+---------+-------------------------------------+
| 256 | 256 | 0.012 |
+------------+---------+-------------------------------------+
| 512 | 256 | 0.094 |
+------------+---------+-------------------------------------+
| 1024 | 256 | -0.046 |
+------------+---------+-------------------------------------+
| 1518 | 256 | 0.016 |
+------------+---------+-------------------------------------+
Ubuntu 18.04
Kernel: 4.15.0-generic
Compiler: gcc 7.4
NIC: Mellanox ConnectX-4 Lx 25000 Mbps
Target: x86_64-native-linuxapp-gcc
Fail/Total: 0/6
Detail performance results:
+------------+---------+-------------------------------------+
| frame_size | txd/rxd | throughput difference from expected |
+============+=========+=====================================+
| 64 | 256 | 0.016 |
+------------+---------+-------------------------------------+
| 128 | 256 | -0.235 |
+------------+---------+-------------------------------------+
| 256 | 256 | 0.205 |
+------------+---------+-------------------------------------+
| 512 | 256 | -0.074 |
+------------+---------+-------------------------------------+
| 1024 | 256 | -0.005 |
+------------+---------+-------------------------------------+
| 1518 | 256 | -0.007 |
+------------+---------+-------------------------------------+
Ubuntu 18.04
Kernel: 4.15.0-generic
Compiler: gcc 7.4
NIC: Mellanox ConnectX-4 Lx 40000 Mbps
Target: x86_64-native-linuxapp-gcc
Fail/Total: 0/6
Detail performance results:
+------------+---------+-------------------------------------+
| frame_size | txd/rxd | throughput difference from expected |
+============+=========+=====================================+
| 64 | 256 | 0.426 |
+------------+---------+-------------------------------------+
| 128 | 256 | -0.001 |
+------------+---------+-------------------------------------+
| 256 | 256 | 0.659 |
+------------+---------+-------------------------------------+
| 512 | 256 | 0.006 |
+------------+---------+-------------------------------------+
| 1024 | 256 | 0.005 |
+------------+---------+-------------------------------------+
| 1518 | 256 | -0.002 |
+------------+---------+-------------------------------------+
To view detailed results, visit:
https://lab.dpdk.org/results/dashboard/patchsets/14098/
UNH-IOL DPDK Community Lab
To manage your email subscriptions, visit:
https://lab.dpdk.org/results/dashboard/preferences/subscriptions/
^ permalink raw reply [flat|nested] 8+ messages in thread
* [dpdk-test-report] |SUCCESS| pw82629-82630 [PATCH] [v1, 2/2] vdpa/mlx5: specify lag port affinity
@ 2020-10-29 13:24 dpdklab
0 siblings, 0 replies; 8+ messages in thread
From: dpdklab @ 2020-10-29 13:24 UTC (permalink / raw)
To: Ali Alnubani, Test Report; +Cc: dpdk-test-reports
[-- Attachment #1: Type: text/plain, Size: 3968 bytes --]
Test-Label: iol-mellanox-Performance
Test-Status: SUCCESS
http://dpdk.org/patch/82630
_Performance Testing PASS_
Submitter: Xueming Li <xuemingl@nvidia.com>
Date: Wednesday, October 28 2020 10:44:39
DPDK git baseline: Repo:dpdk
Branch: master
CommitID:c3afd1cba69bd7a900fd63c02cc87fba8d74430a
82629-82630 --> performance testing pass
Test environment and result as below:
Ubuntu 18.04
Kernel: 4.15.0-generic
Compiler: gcc 7.4
NIC: Mellanox ConnectX-5 100000 Mbps
Target: x86_64-native-linuxapp-gcc
Fail/Total: 0/6
Detail performance results:
+------------+---------+-------------------------------------+
| frame_size | txd/rxd | throughput difference from expected |
+============+=========+=====================================+
| 64 | 256 | 0.496 |
+------------+---------+-------------------------------------+
| 128 | 256 | -0.177 |
+------------+---------+-------------------------------------+
| 256 | 256 | -0.089 |
+------------+---------+-------------------------------------+
| 512 | 256 | 0.238 |
+------------+---------+-------------------------------------+
| 1024 | 256 | -0.073 |
+------------+---------+-------------------------------------+
| 1518 | 256 | 0.021 |
+------------+---------+-------------------------------------+
Ubuntu 18.04
Kernel: 4.15.0-generic
Compiler: gcc 7.4
NIC: Mellanox ConnectX-4 Lx 25000 Mbps
Target: x86_64-native-linuxapp-gcc
Fail/Total: 0/6
Detail performance results:
+------------+---------+-------------------------------------+
| frame_size | txd/rxd | throughput difference from expected |
+============+=========+=====================================+
| 64 | 256 | 0.078 |
+------------+---------+-------------------------------------+
| 128 | 256 | -0.072 |
+------------+---------+-------------------------------------+
| 256 | 256 | -0.041 |
+------------+---------+-------------------------------------+
| 512 | 256 | -0.021 |
+------------+---------+-------------------------------------+
| 1024 | 256 | -0.005 |
+------------+---------+-------------------------------------+
| 1518 | 256 | 0 |
+------------+---------+-------------------------------------+
Ubuntu 18.04
Kernel: 4.15.0-generic
Compiler: gcc 7.4
NIC: Mellanox ConnectX-4 Lx 40000 Mbps
Target: x86_64-native-linuxapp-gcc
Fail/Total: 0/6
Detail performance results:
+------------+---------+-------------------------------------+
| frame_size | txd/rxd | throughput difference from expected |
+============+=========+=====================================+
| 64 | 256 | -0.045 |
+------------+---------+-------------------------------------+
| 128 | 256 | 0.002 |
+------------+---------+-------------------------------------+
| 256 | 256 | 0.130 |
+------------+---------+-------------------------------------+
| 512 | 256 | 0 |
+------------+---------+-------------------------------------+
| 1024 | 256 | 0.005 |
+------------+---------+-------------------------------------+
| 1518 | 256 | -0.011 |
+------------+---------+-------------------------------------+
To view detailed results, visit:
https://lab.dpdk.org/results/dashboard/patchsets/14098/
UNH-IOL DPDK Community Lab
To manage your email subscriptions, visit:
https://lab.dpdk.org/results/dashboard/preferences/subscriptions/
^ permalink raw reply [flat|nested] 8+ messages in thread
* [dpdk-test-report] |SUCCESS| pw82629-82630 [PATCH] [v1, 2/2] vdpa/mlx5: specify lag port affinity
@ 2020-10-28 13:02 dpdklab
0 siblings, 0 replies; 8+ messages in thread
From: dpdklab @ 2020-10-28 13:02 UTC (permalink / raw)
To: Test Report; +Cc: dpdk-test-reports
[-- Attachment #1: Type: text/plain, Size: 1918 bytes --]
Test-Label: iol-intel-Performance
Test-Status: SUCCESS
http://dpdk.org/patch/82630
_Performance Testing PASS_
Submitter: Xueming Li <xuemingl@nvidia.com>
Date: Wednesday, October 28 2020 10:44:39
DPDK git baseline: Repo:dpdk
Branch: master
CommitID:c3afd1cba69bd7a900fd63c02cc87fba8d74430a
82629-82630 --> performance testing pass
Test environment and result as below:
Ubuntu 18.04
Kernel: 4.15.0-generic
Compiler: gcc 7.4
NIC: Intel Corporation Ethernet Converged Network Adapter XL710-QDA2 40000 Mbps
Target: x86_64-native-linuxapp-gcc
Fail/Total: 0/2
Detail performance results:
+------------+---------+-------------------------------------+
| frame_size | txd/rxd | throughput difference from expected |
+============+=========+=====================================+
| 64 | 512 | 2.448 |
+------------+---------+-------------------------------------+
| 64 | 2048 | 1.549 |
+------------+---------+-------------------------------------+
Ubuntu 18.04
Kernel: 4.15.0-generic
Compiler: gcc 7.4
NIC: Intel Corporation Ethernet Converged Network Adapter 82599ES 10000 Mbps
Target: x86_64-native-linuxapp-gcc
Fail/Total: 0/2
Detail performance results:
+------------+---------+-------------------------------------+
| frame_size | txd/rxd | throughput difference from expected |
+============+=========+=====================================+
| 64 | 512 | 1.804 |
+------------+---------+-------------------------------------+
| 64 | 2048 | 1.068 |
+------------+---------+-------------------------------------+
To view detailed results, visit:
https://lab.dpdk.org/results/dashboard/patchsets/14098/
UNH-IOL DPDK Community Lab
To manage your email subscriptions, visit:
https://lab.dpdk.org/results/dashboard/preferences/subscriptions/
^ permalink raw reply [flat|nested] 8+ messages in thread
* [dpdk-test-report] |SUCCESS| pw82629-82630 [PATCH] [v1, 2/2] vdpa/mlx5: specify lag port affinity
@ 2020-10-28 12:16 dpdklab
0 siblings, 0 replies; 8+ messages in thread
From: dpdklab @ 2020-10-28 12:16 UTC (permalink / raw)
To: Test Report; +Cc: dpdk-test-reports
[-- Attachment #1: Type: text/plain, Size: 1706 bytes --]
Test-Label: iol-testing
Test-Status: SUCCESS
http://dpdk.org/patch/82630
_Testing PASS_
Submitter: Xueming Li <xuemingl@nvidia.com>
Date: Wednesday, October 28 2020 10:44:39
DPDK git baseline: Repo:dpdk
Branch: master
CommitID:c3afd1cba69bd7a900fd63c02cc87fba8d74430a
82629-82630 --> testing pass
Test environment and result as below:
+---------------------+--------------------+
| Environment | dpdk_meson_compile |
+=====================+====================+
| Windows Server 2019 | PASS |
+---------------------+--------------------+
| FreeBSD 11.2 | PASS |
+---------------------+--------------------+
| Ubuntu 18.04 | PASS |
+---------------------+--------------------+
| CentOS 8 | PASS |
+---------------------+--------------------+
| Fedora 31 | PASS |
+---------------------+--------------------+
| openSUSE Leap 15 | PASS |
+---------------------+--------------------+
| Arch Linux | PASS |
+---------------------+--------------------+
Windows Server 2019
Kernel: 10.0
Compiler: clang 9.0
FreeBSD 11.2
Kernel: 11.2
Compiler: gcc 8.3
Ubuntu 18.04
Kernel: 4.15.0-generic
Compiler: gcc 7.4
CentOS 8
Kernel: 4.18.0.el8_0
Compiler: gcc 8.3.1
Fedora 31
Kernel: 5.3.16
Compiler: gcc 9.2.1
openSUSE Leap 15
Kernel: 4.12.14
Compiler: gcc 7.4.1
Arch Linux
Kernel: latest
Compiler: gcc latest
To view detailed results, visit:
https://lab.dpdk.org/results/dashboard/patchsets/14098/
UNH-IOL DPDK Community Lab
To manage your email subscriptions, visit:
https://lab.dpdk.org/results/dashboard/preferences/subscriptions/
^ permalink raw reply [flat|nested] 8+ messages in thread
* [dpdk-test-report] |SUCCESS| pw82629-82630 [PATCH] [v1, 2/2] vdpa/mlx5: specify lag port affinity
@ 2020-10-28 12:08 dpdklab
0 siblings, 0 replies; 8+ messages in thread
From: dpdklab @ 2020-10-28 12:08 UTC (permalink / raw)
To: Test Report; +Cc: dpdk-test-reports
[-- Attachment #1: Type: text/plain, Size: 791 bytes --]
Test-Label: iol-intel-Functional
Test-Status: SUCCESS
http://dpdk.org/patch/82630
_Functional Testing PASS_
Submitter: Xueming Li <xuemingl@nvidia.com>
Date: Wednesday, October 28 2020 10:44:39
DPDK git baseline: Repo:dpdk
Branch: master
CommitID:c3afd1cba69bd7a900fd63c02cc87fba8d74430a
82629-82630 --> functional testing pass
Test environment and result as below:
Ubuntu 18.04
Kernel: 4.15.0-generic
Compiler: gcc 7.4
NIC: Intel Corporation Ethernet Converged Network Adapter XL710-QDA2 40000 Mbps
Target: x86_64-native-linuxapp-gcc
Fail/Total: 0/3
To view detailed results, visit:
https://lab.dpdk.org/results/dashboard/patchsets/14098/
UNH-IOL DPDK Community Lab
To manage your email subscriptions, visit:
https://lab.dpdk.org/results/dashboard/preferences/subscriptions/
^ permalink raw reply [flat|nested] 8+ messages in thread
* [dpdk-test-report] |SUCCESS| pw82629-82630 [PATCH] [v1, 2/2] vdpa/mlx5: specify lag port affinity
@ 2020-10-28 11:57 dpdklab
0 siblings, 0 replies; 8+ messages in thread
From: dpdklab @ 2020-10-28 11:57 UTC (permalink / raw)
To: Test Report; +Cc: dpdk-test-reports
[-- Attachment #1: Type: text/plain, Size: 1706 bytes --]
Test-Label: iol-testing
Test-Status: SUCCESS
http://dpdk.org/patch/82630
_Testing PASS_
Submitter: Xueming Li <xuemingl@nvidia.com>
Date: Wednesday, October 28 2020 10:44:39
DPDK git baseline: Repo:dpdk
Branch: master
CommitID:c3afd1cba69bd7a900fd63c02cc87fba8d74430a
82629-82630 --> testing pass
Test environment and result as below:
+---------------------+--------------------+
| Environment | dpdk_meson_compile |
+=====================+====================+
| Windows Server 2019 | PASS |
+---------------------+--------------------+
| FreeBSD 11.2 | PASS |
+---------------------+--------------------+
| CentOS 8 | PASS |
+---------------------+--------------------+
| Fedora 31 | PASS |
+---------------------+--------------------+
| openSUSE Leap 15 | PASS |
+---------------------+--------------------+
| Arch Linux | PASS |
+---------------------+--------------------+
| Ubuntu 18.04 | PASS |
+---------------------+--------------------+
Windows Server 2019
Kernel: 10.0
Compiler: clang 9.0
FreeBSD 11.2
Kernel: 11.2
Compiler: gcc 8.3
CentOS 8
Kernel: 4.18.0.el8_0
Compiler: gcc 8.3.1
Fedora 31
Kernel: 5.3.16
Compiler: gcc 9.2.1
openSUSE Leap 15
Kernel: 4.12.14
Compiler: gcc 7.4.1
Arch Linux
Kernel: latest
Compiler: gcc latest
Ubuntu 18.04
Kernel: 4.15.0-generic
Compiler: gcc 7.4
To view detailed results, visit:
https://lab.dpdk.org/results/dashboard/patchsets/14098/
UNH-IOL DPDK Community Lab
To manage your email subscriptions, visit:
https://lab.dpdk.org/results/dashboard/preferences/subscriptions/
^ permalink raw reply [flat|nested] 8+ messages in thread
* [dpdk-test-report] |SUCCESS| pw82629-82630 [PATCH] [v1, 2/2] vdpa/mlx5: specify lag port affinity
@ 2020-10-28 11:41 dpdklab
0 siblings, 0 replies; 8+ messages in thread
From: dpdklab @ 2020-10-28 11:41 UTC (permalink / raw)
To: Test Report; +Cc: dpdk-test-reports
[-- Attachment #1: Type: text/plain, Size: 791 bytes --]
Test-Label: iol-intel-Functional
Test-Status: SUCCESS
http://dpdk.org/patch/82630
_Functional Testing PASS_
Submitter: Xueming Li <xuemingl@nvidia.com>
Date: Wednesday, October 28 2020 10:44:39
DPDK git baseline: Repo:dpdk
Branch: master
CommitID:c3afd1cba69bd7a900fd63c02cc87fba8d74430a
82629-82630 --> functional testing pass
Test environment and result as below:
Ubuntu 18.04
Kernel: 4.15.0-generic
Compiler: gcc 7.4
NIC: Intel Corporation Ethernet Converged Network Adapter XL710-QDA2 40000 Mbps
Target: x86_64-native-linuxapp-gcc
Fail/Total: 0/3
To view detailed results, visit:
https://lab.dpdk.org/results/dashboard/patchsets/14098/
UNH-IOL DPDK Community Lab
To manage your email subscriptions, visit:
https://lab.dpdk.org/results/dashboard/preferences/subscriptions/
^ permalink raw reply [flat|nested] 8+ messages in thread
end of thread, other threads:[~2020-10-29 14:16 UTC | newest]
Thread overview: 8+ messages (download: mbox.gz / follow: Atom feed)
-- links below jump to the message on this page --
2020-10-28 12:34 [dpdk-test-report] |SUCCESS| pw82629-82630 [PATCH] [v1, 2/2] vdpa/mlx5: specify lag port affinity dpdklab
-- strict thread matches above, loose matches on Subject: below --
2020-10-29 14:16 dpdklab
2020-10-29 13:24 dpdklab
2020-10-28 13:02 dpdklab
2020-10-28 12:16 dpdklab
2020-10-28 12:08 dpdklab
2020-10-28 11:57 dpdklab
2020-10-28 11:41 dpdklab
This is a public inbox, see mirroring instructions
for how to clone and mirror all data and code used for this inbox;
as well as URLs for NNTP newsgroup(s).