[-- Attachment #1: Type: text/plain, Size: 796 bytes --] Test-Label: iol-intel-Functional Test-Status: SUCCESS http://dpdk.org/patch/82611 _Functional Testing PASS_ Submitter: Gregory Etelson <getelson@nvidia.com> Date: Wednesday, October 28 2020 09:59:35 DPDK git baseline: Repo:dpdk Branch: master CommitID:c3afd1cba69bd7a900fd63c02cc87fba8d74430a 82610-82611 --> functional testing pass Test environment and result as below: Ubuntu 18.04 Kernel: 4.15.0-generic Compiler: gcc 7.4 NIC: Intel Corporation Ethernet Converged Network Adapter XL710-QDA2 40000 Mbps Target: x86_64-native-linuxapp-gcc Fail/Total: 0/3 To view detailed results, visit: https://lab.dpdk.org/results/dashboard/patchsets/14095/ UNH-IOL DPDK Community Lab To manage your email subscriptions, visit: https://lab.dpdk.org/results/dashboard/preferences/subscriptions/
[-- Attachment #1: Type: text/plain, Size: 1711 bytes --] Test-Label: iol-testing Test-Status: SUCCESS http://dpdk.org/patch/82611 _Testing PASS_ Submitter: Gregory Etelson <getelson@nvidia.com> Date: Wednesday, October 28 2020 09:59:35 DPDK git baseline: Repo:dpdk Branch: master CommitID:c3afd1cba69bd7a900fd63c02cc87fba8d74430a 82610-82611 --> testing pass Test environment and result as below: +---------------------+--------------------+ | Environment | dpdk_meson_compile | +=====================+====================+ | Windows Server 2019 | PASS | +---------------------+--------------------+ | FreeBSD 11.2 | PASS | +---------------------+--------------------+ | CentOS 8 | PASS | +---------------------+--------------------+ | Ubuntu 18.04 | PASS | +---------------------+--------------------+ | Fedora 31 | PASS | +---------------------+--------------------+ | openSUSE Leap 15 | PASS | +---------------------+--------------------+ | Arch Linux | PASS | +---------------------+--------------------+ Windows Server 2019 Kernel: 10.0 Compiler: clang 9.0 FreeBSD 11.2 Kernel: 11.2 Compiler: gcc 8.3 CentOS 8 Kernel: 4.18.0.el8_0 Compiler: gcc 8.3.1 Ubuntu 18.04 Kernel: 4.15.0-generic Compiler: gcc 7.4 Fedora 31 Kernel: 5.3.16 Compiler: gcc 9.2.1 openSUSE Leap 15 Kernel: 4.12.14 Compiler: gcc 7.4.1 Arch Linux Kernel: latest Compiler: gcc latest To view detailed results, visit: https://lab.dpdk.org/results/dashboard/patchsets/14095/ UNH-IOL DPDK Community Lab To manage your email subscriptions, visit: https://lab.dpdk.org/results/dashboard/preferences/subscriptions/
[-- Attachment #1: Type: text/plain, Size: 1711 bytes --] Test-Label: iol-testing Test-Status: SUCCESS http://dpdk.org/patch/82611 _Testing PASS_ Submitter: Gregory Etelson <getelson@nvidia.com> Date: Wednesday, October 28 2020 09:59:35 DPDK git baseline: Repo:dpdk Branch: master CommitID:c3afd1cba69bd7a900fd63c02cc87fba8d74430a 82610-82611 --> testing pass Test environment and result as below: +---------------------+--------------------+ | Environment | dpdk_meson_compile | +=====================+====================+ | Windows Server 2019 | PASS | +---------------------+--------------------+ | Ubuntu 18.04 | PASS | +---------------------+--------------------+ | FreeBSD 11.2 | PASS | +---------------------+--------------------+ | CentOS 8 | PASS | +---------------------+--------------------+ | Fedora 31 | PASS | +---------------------+--------------------+ | openSUSE Leap 15 | PASS | +---------------------+--------------------+ | Arch Linux | PASS | +---------------------+--------------------+ Windows Server 2019 Kernel: 10.0 Compiler: clang 9.0 Ubuntu 18.04 Kernel: 4.15.0-generic Compiler: gcc 7.4 FreeBSD 11.2 Kernel: 11.2 Compiler: gcc 8.3 CentOS 8 Kernel: 4.18.0.el8_0 Compiler: gcc 8.3.1 Fedora 31 Kernel: 5.3.16 Compiler: gcc 9.2.1 openSUSE Leap 15 Kernel: 4.12.14 Compiler: gcc 7.4.1 Arch Linux Kernel: latest Compiler: gcc latest To view detailed results, visit: https://lab.dpdk.org/results/dashboard/patchsets/14095/ UNH-IOL DPDK Community Lab To manage your email subscriptions, visit: https://lab.dpdk.org/results/dashboard/preferences/subscriptions/
[-- Attachment #1: Type: text/plain, Size: 796 bytes --] Test-Label: iol-intel-Functional Test-Status: SUCCESS http://dpdk.org/patch/82611 _Functional Testing PASS_ Submitter: Gregory Etelson <getelson@nvidia.com> Date: Wednesday, October 28 2020 09:59:35 DPDK git baseline: Repo:dpdk Branch: master CommitID:c3afd1cba69bd7a900fd63c02cc87fba8d74430a 82610-82611 --> functional testing pass Test environment and result as below: Ubuntu 18.04 Kernel: 4.15.0-generic Compiler: gcc 7.4 NIC: Intel Corporation Ethernet Converged Network Adapter XL710-QDA2 40000 Mbps Target: x86_64-native-linuxapp-gcc Fail/Total: 0/3 To view detailed results, visit: https://lab.dpdk.org/results/dashboard/patchsets/14095/ UNH-IOL DPDK Community Lab To manage your email subscriptions, visit: https://lab.dpdk.org/results/dashboard/preferences/subscriptions/
[-- Attachment #1: Type: text/plain, Size: 1923 bytes --] Test-Label: iol-intel-Performance Test-Status: SUCCESS http://dpdk.org/patch/82611 _Performance Testing PASS_ Submitter: Gregory Etelson <getelson@nvidia.com> Date: Wednesday, October 28 2020 09:59:35 DPDK git baseline: Repo:dpdk Branch: master CommitID:c3afd1cba69bd7a900fd63c02cc87fba8d74430a 82610-82611 --> performance testing pass Test environment and result as below: Ubuntu 18.04 Kernel: 4.15.0-generic Compiler: gcc 7.4 NIC: Intel Corporation Ethernet Converged Network Adapter XL710-QDA2 40000 Mbps Target: x86_64-native-linuxapp-gcc Fail/Total: 0/2 Detail performance results: +------------+---------+-------------------------------------+ | frame_size | txd/rxd | throughput difference from expected | +============+=========+=====================================+ | 64 | 512 | 2.565 | +------------+---------+-------------------------------------+ | 64 | 2048 | 1.602 | +------------+---------+-------------------------------------+ Ubuntu 18.04 Kernel: 4.15.0-generic Compiler: gcc 7.4 NIC: Intel Corporation Ethernet Converged Network Adapter 82599ES 10000 Mbps Target: x86_64-native-linuxapp-gcc Fail/Total: 0/2 Detail performance results: +------------+---------+-------------------------------------+ | frame_size | txd/rxd | throughput difference from expected | +============+=========+=====================================+ | 64 | 512 | 1.886 | +------------+---------+-------------------------------------+ | 64 | 2048 | 0.947 | +------------+---------+-------------------------------------+ To view detailed results, visit: https://lab.dpdk.org/results/dashboard/patchsets/14095/ UNH-IOL DPDK Community Lab To manage your email subscriptions, visit: https://lab.dpdk.org/results/dashboard/preferences/subscriptions/
[-- Attachment #1: Type: text/plain, Size: 1923 bytes --] Test-Label: iol-intel-Performance Test-Status: SUCCESS http://dpdk.org/patch/82611 _Performance Testing PASS_ Submitter: Gregory Etelson <getelson@nvidia.com> Date: Wednesday, October 28 2020 09:59:35 DPDK git baseline: Repo:dpdk Branch: master CommitID:c3afd1cba69bd7a900fd63c02cc87fba8d74430a 82610-82611 --> performance testing pass Test environment and result as below: Ubuntu 18.04 Kernel: 4.15.0-generic Compiler: gcc 7.4 NIC: Intel Corporation Ethernet Converged Network Adapter XL710-QDA2 40000 Mbps Target: x86_64-native-linuxapp-gcc Fail/Total: 0/2 Detail performance results: +------------+---------+-------------------------------------+ | frame_size | txd/rxd | throughput difference from expected | +============+=========+=====================================+ | 64 | 512 | 2.690 | +------------+---------+-------------------------------------+ | 64 | 2048 | 1.372 | +------------+---------+-------------------------------------+ Ubuntu 18.04 Kernel: 4.15.0-generic Compiler: gcc 7.4 NIC: Intel Corporation Ethernet Converged Network Adapter 82599ES 10000 Mbps Target: x86_64-native-linuxapp-gcc Fail/Total: 0/2 Detail performance results: +------------+---------+-------------------------------------+ | frame_size | txd/rxd | throughput difference from expected | +============+=========+=====================================+ | 64 | 512 | 1.863 | +------------+---------+-------------------------------------+ | 64 | 2048 | 1.180 | +------------+---------+-------------------------------------+ To view detailed results, visit: https://lab.dpdk.org/results/dashboard/patchsets/14095/ UNH-IOL DPDK Community Lab To manage your email subscriptions, visit: https://lab.dpdk.org/results/dashboard/preferences/subscriptions/
[-- Attachment #1: Type: text/plain, Size: 3973 bytes --] Test-Label: iol-mellanox-Performance Test-Status: SUCCESS http://dpdk.org/patch/82611 _Performance Testing PASS_ Submitter: Gregory Etelson <getelson@nvidia.com> Date: Wednesday, October 28 2020 09:59:35 DPDK git baseline: Repo:dpdk Branch: master CommitID:c3afd1cba69bd7a900fd63c02cc87fba8d74430a 82610-82611 --> performance testing pass Test environment and result as below: Ubuntu 18.04 Kernel: 4.15.0-generic Compiler: gcc 7.4 NIC: Mellanox ConnectX-5 100000 Mbps Target: x86_64-native-linuxapp-gcc Fail/Total: 0/6 Detail performance results: +------------+---------+-------------------------------------+ | frame_size | txd/rxd | throughput difference from expected | +============+=========+=====================================+ | 64 | 256 | 0.340 | +------------+---------+-------------------------------------+ | 128 | 256 | -0.151 | +------------+---------+-------------------------------------+ | 256 | 256 | -0.085 | +------------+---------+-------------------------------------+ | 512 | 256 | 0.292 | +------------+---------+-------------------------------------+ | 1024 | 256 | -0.120 | +------------+---------+-------------------------------------+ | 1518 | 256 | 0.019 | +------------+---------+-------------------------------------+ Ubuntu 18.04 Kernel: 4.15.0-generic Compiler: gcc 7.4 NIC: Mellanox ConnectX-4 Lx 25000 Mbps Target: x86_64-native-linuxapp-gcc Fail/Total: 0/6 Detail performance results: +------------+---------+-------------------------------------+ | frame_size | txd/rxd | throughput difference from expected | +============+=========+=====================================+ | 64 | 256 | -0.044 | +------------+---------+-------------------------------------+ | 128 | 256 | -0.061 | +------------+---------+-------------------------------------+ | 256 | 256 | 0.024 | +------------+---------+-------------------------------------+ | 512 | 256 | -0.006 | +------------+---------+-------------------------------------+ | 1024 | 256 | -0.011 | +------------+---------+-------------------------------------+ | 1518 | 256 | 0 | +------------+---------+-------------------------------------+ Ubuntu 18.04 Kernel: 4.15.0-generic Compiler: gcc 7.4 NIC: Mellanox ConnectX-4 Lx 40000 Mbps Target: x86_64-native-linuxapp-gcc Fail/Total: 0/6 Detail performance results: +------------+---------+-------------------------------------+ | frame_size | txd/rxd | throughput difference from expected | +============+=========+=====================================+ | 64 | 256 | -0.062 | +------------+---------+-------------------------------------+ | 128 | 256 | 0.146 | +------------+---------+-------------------------------------+ | 256 | 256 | 0.203 | +------------+---------+-------------------------------------+ | 512 | 256 | 0.022 | +------------+---------+-------------------------------------+ | 1024 | 256 | 0 | +------------+---------+-------------------------------------+ | 1518 | 256 | -0.001 | +------------+---------+-------------------------------------+ To view detailed results, visit: https://lab.dpdk.org/results/dashboard/patchsets/14095/ UNH-IOL DPDK Community Lab To manage your email subscriptions, visit: https://lab.dpdk.org/results/dashboard/preferences/subscriptions/
[-- Attachment #1: Type: text/plain, Size: 3973 bytes --] Test-Label: iol-mellanox-Performance Test-Status: SUCCESS http://dpdk.org/patch/82611 _Performance Testing PASS_ Submitter: Gregory Etelson <getelson@nvidia.com> Date: Wednesday, October 28 2020 09:59:35 DPDK git baseline: Repo:dpdk Branch: master CommitID:c3afd1cba69bd7a900fd63c02cc87fba8d74430a 82610-82611 --> performance testing pass Test environment and result as below: Ubuntu 18.04 Kernel: 4.15.0-generic Compiler: gcc 7.4 NIC: Mellanox ConnectX-5 100000 Mbps Target: x86_64-native-linuxapp-gcc Fail/Total: 0/6 Detail performance results: +------------+---------+-------------------------------------+ | frame_size | txd/rxd | throughput difference from expected | +============+=========+=====================================+ | 64 | 256 | -0.016 | +------------+---------+-------------------------------------+ | 128 | 256 | -0.136 | +------------+---------+-------------------------------------+ | 256 | 256 | -0.131 | +------------+---------+-------------------------------------+ | 512 | 256 | 0.069 | +------------+---------+-------------------------------------+ | 1024 | 256 | -0.235 | +------------+---------+-------------------------------------+ | 1518 | 256 | 0.016 | +------------+---------+-------------------------------------+ Ubuntu 18.04 Kernel: 4.15.0-generic Compiler: gcc 7.4 NIC: Mellanox ConnectX-4 Lx 25000 Mbps Target: x86_64-native-linuxapp-gcc Fail/Total: 0/6 Detail performance results: +------------+---------+-------------------------------------+ | frame_size | txd/rxd | throughput difference from expected | +============+=========+=====================================+ | 64 | 256 | -0.131 | +------------+---------+-------------------------------------+ | 128 | 256 | -0.192 | +------------+---------+-------------------------------------+ | 256 | 256 | 0.014 | +------------+---------+-------------------------------------+ | 512 | 256 | 0.025 | +------------+---------+-------------------------------------+ | 1024 | 256 | -0.005 | +------------+---------+-------------------------------------+ | 1518 | 256 | -0.001 | +------------+---------+-------------------------------------+ Ubuntu 18.04 Kernel: 4.15.0-generic Compiler: gcc 7.4 NIC: Mellanox ConnectX-4 Lx 40000 Mbps Target: x86_64-native-linuxapp-gcc Fail/Total: 0/6 Detail performance results: +------------+---------+-------------------------------------+ | frame_size | txd/rxd | throughput difference from expected | +============+=========+=====================================+ | 64 | 256 | 0.089 | +------------+---------+-------------------------------------+ | 128 | 256 | 0.088 | +------------+---------+-------------------------------------+ | 256 | 256 | 0.457 | +------------+---------+-------------------------------------+ | 512 | 256 | 0.030 | +------------+---------+-------------------------------------+ | 1024 | 256 | 0.002 | +------------+---------+-------------------------------------+ | 1518 | 256 | -0.015 | +------------+---------+-------------------------------------+ To view detailed results, visit: https://lab.dpdk.org/results/dashboard/patchsets/14095/ UNH-IOL DPDK Community Lab To manage your email subscriptions, visit: https://lab.dpdk.org/results/dashboard/preferences/subscriptions/