* [dpdk-test-report] |SUCCESS| pw82653 [PATCH v3] net/mlx5: use C11 atomics in packet scheduling
[not found] <1603889087-21760-1-git-send-email-viacheslavo@nvidia.com>
@ 2020-10-28 12:46 ` checkpatch
2020-10-28 14:30 ` [dpdk-test-report] |SUCCESS| pw82653 " 0-day Robot
1 sibling, 0 replies; 6+ messages in thread
From: checkpatch @ 2020-10-28 12:46 UTC (permalink / raw)
To: test-report
Test-Label: checkpatch
Test-Status: SUCCESS
http://dpdk.org/patch/82653
_coding style OK_
^ permalink raw reply [flat|nested] 6+ messages in thread
* [dpdk-test-report] |SUCCESS| pw82653 net/mlx5: use C11 atomics in packet scheduling
[not found] <1603889087-21760-1-git-send-email-viacheslavo@nvidia.com>
2020-10-28 12:46 ` [dpdk-test-report] |SUCCESS| pw82653 [PATCH v3] net/mlx5: use C11 atomics in packet scheduling checkpatch
@ 2020-10-28 14:30 ` 0-day Robot
1 sibling, 0 replies; 6+ messages in thread
From: 0-day Robot @ 2020-10-28 14:30 UTC (permalink / raw)
To: test-report; +Cc: robot
From: robot@bytheb.org
Test-Label: travis-robot
Test-Status: SUCCESS
http://dpdk.org/patch/82653
_Travis build: passed_
Build URL: https://travis-ci.com/ovsrobot/dpdk/builds/194529944
^ permalink raw reply [flat|nested] 6+ messages in thread
* [dpdk-test-report] |SUCCESS| pw82653 [PATCH] [v3] net/mlx5: use C11 atomics in packet scheduling
@ 2020-10-29 19:33 dpdklab
0 siblings, 0 replies; 6+ messages in thread
From: dpdklab @ 2020-10-29 19:33 UTC (permalink / raw)
To: Ali Alnubani, Test Report; +Cc: dpdk-test-reports
[-- Attachment #1: Type: text/plain, Size: 3970 bytes --]
Test-Label: iol-mellanox-Performance
Test-Status: SUCCESS
http://dpdk.org/patch/82653
_Performance Testing PASS_
Submitter: Slava Ovsiienko <viacheslavo@nvidia.com>
Date: Wednesday, October 28 2020 12:44:47
DPDK git baseline: Repo:dpdk
Branch: master
CommitID:c3afd1cba69bd7a900fd63c02cc87fba8d74430a
82653 --> performance testing pass
Test environment and result as below:
Ubuntu 18.04
Kernel: 4.15.0-generic
Compiler: gcc 7.4
NIC: Mellanox ConnectX-5 100000 Mbps
Target: x86_64-native-linuxapp-gcc
Fail/Total: 0/6
Detail performance results:
+------------+---------+-------------------------------------+
| frame_size | txd/rxd | throughput difference from expected |
+============+=========+=====================================+
| 64 | 256 | 0.066 |
+------------+---------+-------------------------------------+
| 128 | 256 | -0.176 |
+------------+---------+-------------------------------------+
| 256 | 256 | -0.062 |
+------------+---------+-------------------------------------+
| 512 | 256 | 0.131 |
+------------+---------+-------------------------------------+
| 1024 | 256 | -0.189 |
+------------+---------+-------------------------------------+
| 1518 | 256 | 0.032 |
+------------+---------+-------------------------------------+
Ubuntu 18.04
Kernel: 4.15.0-generic
Compiler: gcc 7.4
NIC: Mellanox ConnectX-4 Lx 25000 Mbps
Target: x86_64-native-linuxapp-gcc
Fail/Total: 0/6
Detail performance results:
+------------+---------+-------------------------------------+
| frame_size | txd/rxd | throughput difference from expected |
+============+=========+=====================================+
| 64 | 256 | -0.161 |
+------------+---------+-------------------------------------+
| 128 | 256 | -0.214 |
+------------+---------+-------------------------------------+
| 256 | 256 | -0.199 |
+------------+---------+-------------------------------------+
| 512 | 256 | -0.091 |
+------------+---------+-------------------------------------+
| 1024 | 256 | -0.020 |
+------------+---------+-------------------------------------+
| 1518 | 256 | -0.006 |
+------------+---------+-------------------------------------+
Ubuntu 18.04
Kernel: 4.15.0-generic
Compiler: gcc 7.4
NIC: Mellanox ConnectX-4 Lx 40000 Mbps
Target: x86_64-native-linuxapp-gcc
Fail/Total: 0/6
Detail performance results:
+------------+---------+-------------------------------------+
| frame_size | txd/rxd | throughput difference from expected |
+============+=========+=====================================+
| 64 | 256 | -0.201 |
+------------+---------+-------------------------------------+
| 128 | 256 | -0.222 |
+------------+---------+-------------------------------------+
| 256 | 256 | -0.106 |
+------------+---------+-------------------------------------+
| 512 | 256 | 0.040 |
+------------+---------+-------------------------------------+
| 1024 | 256 | -0.003 |
+------------+---------+-------------------------------------+
| 1518 | 256 | -0.012 |
+------------+---------+-------------------------------------+
To view detailed results, visit:
https://lab.dpdk.org/results/dashboard/patchsets/14103/
UNH-IOL DPDK Community Lab
To manage your email subscriptions, visit:
https://lab.dpdk.org/results/dashboard/preferences/subscriptions/
^ permalink raw reply [flat|nested] 6+ messages in thread
* [dpdk-test-report] |SUCCESS| pw82653 [PATCH] [v3] net/mlx5: use C11 atomics in packet scheduling
@ 2020-10-28 15:43 dpdklab
0 siblings, 0 replies; 6+ messages in thread
From: dpdklab @ 2020-10-28 15:43 UTC (permalink / raw)
To: Test Report; +Cc: dpdk-test-reports
[-- Attachment #1: Type: text/plain, Size: 1920 bytes --]
Test-Label: iol-intel-Performance
Test-Status: SUCCESS
http://dpdk.org/patch/82653
_Performance Testing PASS_
Submitter: Slava Ovsiienko <viacheslavo@nvidia.com>
Date: Wednesday, October 28 2020 12:44:47
DPDK git baseline: Repo:dpdk
Branch: master
CommitID:c3afd1cba69bd7a900fd63c02cc87fba8d74430a
82653 --> performance testing pass
Test environment and result as below:
Ubuntu 18.04
Kernel: 4.15.0-generic
Compiler: gcc 7.4
NIC: Intel Corporation Ethernet Converged Network Adapter XL710-QDA2 40000 Mbps
Target: x86_64-native-linuxapp-gcc
Fail/Total: 0/2
Detail performance results:
+------------+---------+-------------------------------------+
| frame_size | txd/rxd | throughput difference from expected |
+============+=========+=====================================+
| 64 | 512 | 2.472 |
+------------+---------+-------------------------------------+
| 64 | 2048 | 1.471 |
+------------+---------+-------------------------------------+
Ubuntu 18.04
Kernel: 4.15.0-generic
Compiler: gcc 7.4
NIC: Intel Corporation Ethernet Converged Network Adapter 82599ES 10000 Mbps
Target: x86_64-native-linuxapp-gcc
Fail/Total: 0/2
Detail performance results:
+------------+---------+-------------------------------------+
| frame_size | txd/rxd | throughput difference from expected |
+============+=========+=====================================+
| 64 | 512 | 1.950 |
+------------+---------+-------------------------------------+
| 64 | 2048 | 1.108 |
+------------+---------+-------------------------------------+
To view detailed results, visit:
https://lab.dpdk.org/results/dashboard/patchsets/14103/
UNH-IOL DPDK Community Lab
To manage your email subscriptions, visit:
https://lab.dpdk.org/results/dashboard/preferences/subscriptions/
^ permalink raw reply [flat|nested] 6+ messages in thread
* [dpdk-test-report] |SUCCESS| pw82653 [PATCH] [v3] net/mlx5: use C11 atomics in packet scheduling
@ 2020-10-28 14:32 dpdklab
0 siblings, 0 replies; 6+ messages in thread
From: dpdklab @ 2020-10-28 14:32 UTC (permalink / raw)
To: Test Report; +Cc: dpdk-test-reports
[-- Attachment #1: Type: text/plain, Size: 1708 bytes --]
Test-Label: iol-testing
Test-Status: SUCCESS
http://dpdk.org/patch/82653
_Testing PASS_
Submitter: Slava Ovsiienko <viacheslavo@nvidia.com>
Date: Wednesday, October 28 2020 12:44:47
DPDK git baseline: Repo:dpdk
Branch: master
CommitID:c3afd1cba69bd7a900fd63c02cc87fba8d74430a
82653 --> testing pass
Test environment and result as below:
+---------------------+--------------------+
| Environment | dpdk_meson_compile |
+=====================+====================+
| Windows Server 2019 | PASS |
+---------------------+--------------------+
| FreeBSD 11.2 | PASS |
+---------------------+--------------------+
| Ubuntu 18.04 | PASS |
+---------------------+--------------------+
| CentOS 8 | PASS |
+---------------------+--------------------+
| Fedora 31 | PASS |
+---------------------+--------------------+
| openSUSE Leap 15 | PASS |
+---------------------+--------------------+
| Arch Linux | PASS |
+---------------------+--------------------+
Windows Server 2019
Kernel: 10.0
Compiler: clang 9.0
FreeBSD 11.2
Kernel: 11.2
Compiler: gcc 8.3
Ubuntu 18.04
Kernel: 4.15.0-generic
Compiler: gcc 7.4
CentOS 8
Kernel: 4.18.0.el8_0
Compiler: gcc 8.3.1
Fedora 31
Kernel: 5.3.16
Compiler: gcc 9.2.1
openSUSE Leap 15
Kernel: 4.12.14
Compiler: gcc 7.4.1
Arch Linux
Kernel: latest
Compiler: gcc latest
To view detailed results, visit:
https://lab.dpdk.org/results/dashboard/patchsets/14103/
UNH-IOL DPDK Community Lab
To manage your email subscriptions, visit:
https://lab.dpdk.org/results/dashboard/preferences/subscriptions/
^ permalink raw reply [flat|nested] 6+ messages in thread
* [dpdk-test-report] |SUCCESS| pw82653 [PATCH] [v3] net/mlx5: use C11 atomics in packet scheduling
@ 2020-10-28 14:28 dpdklab
0 siblings, 0 replies; 6+ messages in thread
From: dpdklab @ 2020-10-28 14:28 UTC (permalink / raw)
To: Test Report; +Cc: dpdk-test-reports
[-- Attachment #1: Type: text/plain, Size: 793 bytes --]
Test-Label: iol-intel-Functional
Test-Status: SUCCESS
http://dpdk.org/patch/82653
_Functional Testing PASS_
Submitter: Slava Ovsiienko <viacheslavo@nvidia.com>
Date: Wednesday, October 28 2020 12:44:47
DPDK git baseline: Repo:dpdk
Branch: master
CommitID:c3afd1cba69bd7a900fd63c02cc87fba8d74430a
82653 --> functional testing pass
Test environment and result as below:
Ubuntu 18.04
Kernel: 4.15.0-generic
Compiler: gcc 7.4
NIC: Intel Corporation Ethernet Converged Network Adapter XL710-QDA2 40000 Mbps
Target: x86_64-native-linuxapp-gcc
Fail/Total: 0/3
To view detailed results, visit:
https://lab.dpdk.org/results/dashboard/patchsets/14103/
UNH-IOL DPDK Community Lab
To manage your email subscriptions, visit:
https://lab.dpdk.org/results/dashboard/preferences/subscriptions/
^ permalink raw reply [flat|nested] 6+ messages in thread
end of thread, other threads:[~2020-10-29 19:34 UTC | newest]
Thread overview: 6+ messages (download: mbox.gz / follow: Atom feed)
-- links below jump to the message on this page --
[not found] <1603889087-21760-1-git-send-email-viacheslavo@nvidia.com>
2020-10-28 12:46 ` [dpdk-test-report] |SUCCESS| pw82653 [PATCH v3] net/mlx5: use C11 atomics in packet scheduling checkpatch
2020-10-28 14:30 ` [dpdk-test-report] |SUCCESS| pw82653 " 0-day Robot
2020-10-28 14:28 [dpdk-test-report] |SUCCESS| pw82653 [PATCH] [v3] " dpdklab
2020-10-28 14:32 dpdklab
2020-10-28 15:43 dpdklab
2020-10-29 19:33 dpdklab
This is a public inbox, see mirroring instructions
for how to clone and mirror all data and code used for this inbox;
as well as URLs for NNTP newsgroup(s).