Test-Label: checkpatch Test-Status: SUCCESS http://dpdk.org/patch/82641 _coding style OK_
[-- Attachment #1: Type: text/plain, Size: 796 bytes --] Test-Label: iol-intel-Functional Test-Status: SUCCESS http://dpdk.org/patch/82641 _Functional Testing PASS_ Submitter: Nithin Dabilpuram <ndabilpuram@marvell.com> Date: Wednesday, October 28 2020 11:46:43 DPDK git baseline: Repo:dpdk Branch: master CommitID:c3afd1cba69bd7a900fd63c02cc87fba8d74430a 82641 --> functional testing pass Test environment and result as below: Ubuntu 18.04 Kernel: 4.15.0-generic Compiler: gcc 7.4 NIC: Intel Corporation Ethernet Converged Network Adapter XL710-QDA2 40000 Mbps Target: x86_64-native-linuxapp-gcc Fail/Total: 0/3 To view detailed results, visit: https://lab.dpdk.org/results/dashboard/patchsets/14100/ UNH-IOL DPDK Community Lab To manage your email subscriptions, visit: https://lab.dpdk.org/results/dashboard/preferences/subscriptions/
[-- Attachment #1: Type: text/plain, Size: 1711 bytes --] Test-Label: iol-testing Test-Status: SUCCESS http://dpdk.org/patch/82641 _Testing PASS_ Submitter: Nithin Dabilpuram <ndabilpuram@marvell.com> Date: Wednesday, October 28 2020 11:46:43 DPDK git baseline: Repo:dpdk Branch: master CommitID:c3afd1cba69bd7a900fd63c02cc87fba8d74430a 82641 --> testing pass Test environment and result as below: +---------------------+--------------------+ | Environment | dpdk_meson_compile | +=====================+====================+ | Windows Server 2019 | PASS | +---------------------+--------------------+ | FreeBSD 11.2 | PASS | +---------------------+--------------------+ | Ubuntu 18.04 | PASS | +---------------------+--------------------+ | CentOS 8 | PASS | +---------------------+--------------------+ | Fedora 31 | PASS | +---------------------+--------------------+ | openSUSE Leap 15 | PASS | +---------------------+--------------------+ | Arch Linux | PASS | +---------------------+--------------------+ Windows Server 2019 Kernel: 10.0 Compiler: clang 9.0 FreeBSD 11.2 Kernel: 11.2 Compiler: gcc 8.3 Ubuntu 18.04 Kernel: 4.15.0-generic Compiler: gcc 7.4 CentOS 8 Kernel: 4.18.0.el8_0 Compiler: gcc 8.3.1 Fedora 31 Kernel: 5.3.16 Compiler: gcc 9.2.1 openSUSE Leap 15 Kernel: 4.12.14 Compiler: gcc 7.4.1 Arch Linux Kernel: latest Compiler: gcc latest To view detailed results, visit: https://lab.dpdk.org/results/dashboard/patchsets/14100/ UNH-IOL DPDK Community Lab To manage your email subscriptions, visit: https://lab.dpdk.org/results/dashboard/preferences/subscriptions/
[-- Attachment #1: Type: text/plain, Size: 1923 bytes --] Test-Label: iol-intel-Performance Test-Status: SUCCESS http://dpdk.org/patch/82641 _Performance Testing PASS_ Submitter: Nithin Dabilpuram <ndabilpuram@marvell.com> Date: Wednesday, October 28 2020 11:46:43 DPDK git baseline: Repo:dpdk Branch: master CommitID:c3afd1cba69bd7a900fd63c02cc87fba8d74430a 82641 --> performance testing pass Test environment and result as below: Ubuntu 18.04 Kernel: 4.15.0-generic Compiler: gcc 7.4 NIC: Intel Corporation Ethernet Converged Network Adapter XL710-QDA2 40000 Mbps Target: x86_64-native-linuxapp-gcc Fail/Total: 0/2 Detail performance results: +------------+---------+-------------------------------------+ | frame_size | txd/rxd | throughput difference from expected | +============+=========+=====================================+ | 64 | 512 | 2.698 | +------------+---------+-------------------------------------+ | 64 | 2048 | 1.459 | +------------+---------+-------------------------------------+ Ubuntu 18.04 Kernel: 4.15.0-generic Compiler: gcc 7.4 NIC: Intel Corporation Ethernet Converged Network Adapter 82599ES 10000 Mbps Target: x86_64-native-linuxapp-gcc Fail/Total: 0/2 Detail performance results: +------------+---------+-------------------------------------+ | frame_size | txd/rxd | throughput difference from expected | +============+=========+=====================================+ | 64 | 512 | 1.983 | +------------+---------+-------------------------------------+ | 64 | 2048 | 0.966 | +------------+---------+-------------------------------------+ To view detailed results, visit: https://lab.dpdk.org/results/dashboard/patchsets/14100/ UNH-IOL DPDK Community Lab To manage your email subscriptions, visit: https://lab.dpdk.org/results/dashboard/preferences/subscriptions/
[-- Attachment #1: Type: text/plain, Size: 3973 bytes --] Test-Label: iol-mellanox-Performance Test-Status: SUCCESS http://dpdk.org/patch/82641 _Performance Testing PASS_ Submitter: Nithin Dabilpuram <ndabilpuram@marvell.com> Date: Wednesday, October 28 2020 11:46:43 DPDK git baseline: Repo:dpdk Branch: master CommitID:c3afd1cba69bd7a900fd63c02cc87fba8d74430a 82641 --> performance testing pass Test environment and result as below: Ubuntu 18.04 Kernel: 4.15.0-generic Compiler: gcc 7.4 NIC: Mellanox ConnectX-5 100000 Mbps Target: x86_64-native-linuxapp-gcc Fail/Total: 0/6 Detail performance results: +------------+---------+-------------------------------------+ | frame_size | txd/rxd | throughput difference from expected | +============+=========+=====================================+ | 64 | 256 | 0.301 | +------------+---------+-------------------------------------+ | 128 | 256 | -0.152 | +------------+---------+-------------------------------------+ | 256 | 256 | -0.131 | +------------+---------+-------------------------------------+ | 512 | 256 | 0.089 | +------------+---------+-------------------------------------+ | 1024 | 256 | -0.016 | +------------+---------+-------------------------------------+ | 1518 | 256 | 0.013 | +------------+---------+-------------------------------------+ Ubuntu 18.04 Kernel: 4.15.0-generic Compiler: gcc 7.4 NIC: Mellanox ConnectX-4 Lx 25000 Mbps Target: x86_64-native-linuxapp-gcc Fail/Total: 0/6 Detail performance results: +------------+---------+-------------------------------------+ | frame_size | txd/rxd | throughput difference from expected | +============+=========+=====================================+ | 64 | 256 | -0.196 | +------------+---------+-------------------------------------+ | 128 | 256 | -0.073 | +------------+---------+-------------------------------------+ | 256 | 256 | 0.002 | +------------+---------+-------------------------------------+ | 512 | 256 | -0.048 | +------------+---------+-------------------------------------+ | 1024 | 256 | -0.001 | +------------+---------+-------------------------------------+ | 1518 | 256 | -0.008 | +------------+---------+-------------------------------------+ Ubuntu 18.04 Kernel: 4.15.0-generic Compiler: gcc 7.4 NIC: Mellanox ConnectX-4 Lx 40000 Mbps Target: x86_64-native-linuxapp-gcc Fail/Total: 0/6 Detail performance results: +------------+---------+-------------------------------------+ | frame_size | txd/rxd | throughput difference from expected | +============+=========+=====================================+ | 64 | 256 | 0.137 | +------------+---------+-------------------------------------+ | 128 | 256 | -0.132 | +------------+---------+-------------------------------------+ | 256 | 256 | 0.125 | +------------+---------+-------------------------------------+ | 512 | 256 | -0.002 | +------------+---------+-------------------------------------+ | 1024 | 256 | 0.020 | +------------+---------+-------------------------------------+ | 1518 | 256 | -0.016 | +------------+---------+-------------------------------------+ To view detailed results, visit: https://lab.dpdk.org/results/dashboard/patchsets/14100/ UNH-IOL DPDK Community Lab To manage your email subscriptions, visit: https://lab.dpdk.org/results/dashboard/preferences/subscriptions/