Test-Label: checkpatch Test-Status: SUCCESS http://dpdk.org/patch/82654 _coding style OK_
[-- Attachment #1: Type: text/plain, Size: 798 bytes --] Test-Label: iol-intel-Functional Test-Status: SUCCESS http://dpdk.org/patch/82654 _Functional Testing PASS_ Submitter: Bruce Richardson <bruce.richardson@intel.com> Date: Wednesday, October 28 2020 12:45:34 DPDK git baseline: Repo:dpdk Branch: master CommitID:c3afd1cba69bd7a900fd63c02cc87fba8d74430a 82654 --> functional testing pass Test environment and result as below: Ubuntu 18.04 Kernel: 4.15.0-generic Compiler: gcc 7.4 NIC: Intel Corporation Ethernet Converged Network Adapter XL710-QDA2 40000 Mbps Target: x86_64-native-linuxapp-gcc Fail/Total: 0/3 To view detailed results, visit: https://lab.dpdk.org/results/dashboard/patchsets/14104/ UNH-IOL DPDK Community Lab To manage your email subscriptions, visit: https://lab.dpdk.org/results/dashboard/preferences/subscriptions/
[-- Attachment #1: Type: text/plain, Size: 1713 bytes --] Test-Label: iol-testing Test-Status: SUCCESS http://dpdk.org/patch/82654 _Testing PASS_ Submitter: Bruce Richardson <bruce.richardson@intel.com> Date: Wednesday, October 28 2020 12:45:34 DPDK git baseline: Repo:dpdk Branch: master CommitID:c3afd1cba69bd7a900fd63c02cc87fba8d74430a 82654 --> testing pass Test environment and result as below: +---------------------+--------------------+ | Environment | dpdk_meson_compile | +=====================+====================+ | Windows Server 2019 | PASS | +---------------------+--------------------+ | FreeBSD 11.2 | PASS | +---------------------+--------------------+ | Ubuntu 18.04 | PASS | +---------------------+--------------------+ | CentOS 8 | PASS | +---------------------+--------------------+ | Fedora 31 | PASS | +---------------------+--------------------+ | openSUSE Leap 15 | PASS | +---------------------+--------------------+ | Arch Linux | PASS | +---------------------+--------------------+ Windows Server 2019 Kernel: 10.0 Compiler: clang 9.0 FreeBSD 11.2 Kernel: 11.2 Compiler: gcc 8.3 Ubuntu 18.04 Kernel: 4.15.0-generic Compiler: gcc 7.4 CentOS 8 Kernel: 4.18.0.el8_0 Compiler: gcc 8.3.1 Fedora 31 Kernel: 5.3.16 Compiler: gcc 9.2.1 openSUSE Leap 15 Kernel: 4.12.14 Compiler: gcc 7.4.1 Arch Linux Kernel: latest Compiler: gcc latest To view detailed results, visit: https://lab.dpdk.org/results/dashboard/patchsets/14104/ UNH-IOL DPDK Community Lab To manage your email subscriptions, visit: https://lab.dpdk.org/results/dashboard/preferences/subscriptions/
[-- Attachment #1: Type: text/plain, Size: 1925 bytes --] Test-Label: iol-intel-Performance Test-Status: SUCCESS http://dpdk.org/patch/82654 _Performance Testing PASS_ Submitter: Bruce Richardson <bruce.richardson@intel.com> Date: Wednesday, October 28 2020 12:45:34 DPDK git baseline: Repo:dpdk Branch: master CommitID:c3afd1cba69bd7a900fd63c02cc87fba8d74430a 82654 --> performance testing pass Test environment and result as below: Ubuntu 18.04 Kernel: 4.15.0-generic Compiler: gcc 7.4 NIC: Intel Corporation Ethernet Converged Network Adapter XL710-QDA2 40000 Mbps Target: x86_64-native-linuxapp-gcc Fail/Total: 0/2 Detail performance results: +------------+---------+-------------------------------------+ | frame_size | txd/rxd | throughput difference from expected | +============+=========+=====================================+ | 64 | 512 | 2.811 | +------------+---------+-------------------------------------+ | 64 | 2048 | 1.434 | +------------+---------+-------------------------------------+ Ubuntu 18.04 Kernel: 4.15.0-generic Compiler: gcc 7.4 NIC: Intel Corporation Ethernet Converged Network Adapter 82599ES 10000 Mbps Target: x86_64-native-linuxapp-gcc Fail/Total: 0/2 Detail performance results: +------------+---------+-------------------------------------+ | frame_size | txd/rxd | throughput difference from expected | +============+=========+=====================================+ | 64 | 512 | 1.699 | +------------+---------+-------------------------------------+ | 64 | 2048 | 1.142 | +------------+---------+-------------------------------------+ To view detailed results, visit: https://lab.dpdk.org/results/dashboard/patchsets/14104/ UNH-IOL DPDK Community Lab To manage your email subscriptions, visit: https://lab.dpdk.org/results/dashboard/preferences/subscriptions/
[-- Attachment #1: Type: text/plain, Size: 3975 bytes --] Test-Label: iol-mellanox-Performance Test-Status: SUCCESS http://dpdk.org/patch/82654 _Performance Testing PASS_ Submitter: Bruce Richardson <bruce.richardson@intel.com> Date: Wednesday, October 28 2020 12:45:34 DPDK git baseline: Repo:dpdk Branch: master CommitID:c3afd1cba69bd7a900fd63c02cc87fba8d74430a 82654 --> performance testing pass Test environment and result as below: Ubuntu 18.04 Kernel: 4.15.0-generic Compiler: gcc 7.4 NIC: Mellanox ConnectX-5 100000 Mbps Target: x86_64-native-linuxapp-gcc Fail/Total: 0/6 Detail performance results: +------------+---------+-------------------------------------+ | frame_size | txd/rxd | throughput difference from expected | +============+=========+=====================================+ | 64 | 256 | 0.460 | +------------+---------+-------------------------------------+ | 128 | 256 | 0.048 | +------------+---------+-------------------------------------+ | 256 | 256 | -0.057 | +------------+---------+-------------------------------------+ | 512 | 256 | 0.090 | +------------+---------+-------------------------------------+ | 1024 | 256 | -0.133 | +------------+---------+-------------------------------------+ | 1518 | 256 | 0.023 | +------------+---------+-------------------------------------+ Ubuntu 18.04 Kernel: 4.15.0-generic Compiler: gcc 7.4 NIC: Mellanox ConnectX-4 Lx 25000 Mbps Target: x86_64-native-linuxapp-gcc Fail/Total: 0/6 Detail performance results: +------------+---------+-------------------------------------+ | frame_size | txd/rxd | throughput difference from expected | +============+=========+=====================================+ | 64 | 256 | -0.037 | +------------+---------+-------------------------------------+ | 128 | 256 | -0.233 | +------------+---------+-------------------------------------+ | 256 | 256 | -0.024 | +------------+---------+-------------------------------------+ | 512 | 256 | 0.005 | +------------+---------+-------------------------------------+ | 1024 | 256 | -0.016 | +------------+---------+-------------------------------------+ | 1518 | 256 | -0.006 | +------------+---------+-------------------------------------+ Ubuntu 18.04 Kernel: 4.15.0-generic Compiler: gcc 7.4 NIC: Mellanox ConnectX-4 Lx 40000 Mbps Target: x86_64-native-linuxapp-gcc Fail/Total: 0/6 Detail performance results: +------------+---------+-------------------------------------+ | frame_size | txd/rxd | throughput difference from expected | +============+=========+=====================================+ | 64 | 256 | 0.156 | +------------+---------+-------------------------------------+ | 128 | 256 | -0.071 | +------------+---------+-------------------------------------+ | 256 | 256 | -0.134 | +------------+---------+-------------------------------------+ | 512 | 256 | -0.011 | +------------+---------+-------------------------------------+ | 1024 | 256 | 0.003 | +------------+---------+-------------------------------------+ | 1518 | 256 | 0.002 | +------------+---------+-------------------------------------+ To view detailed results, visit: https://lab.dpdk.org/results/dashboard/patchsets/14104/ UNH-IOL DPDK Community Lab To manage your email subscriptions, visit: https://lab.dpdk.org/results/dashboard/preferences/subscriptions/