* [dpdk-test-report] |SUCCESS| pw82669 [PATCH] examples/fips_validation: fix checking return value
@ 2020-10-28 16:58 dpdklab
0 siblings, 0 replies; 5+ messages in thread
From: dpdklab @ 2020-10-28 16:58 UTC (permalink / raw)
To: Test Report; +Cc: dpdk-test-reports
[-- Attachment #1: Type: text/plain, Size: 1703 bytes --]
Test-Label: iol-testing
Test-Status: SUCCESS
http://dpdk.org/patch/82669
_Testing PASS_
Submitter: Ciara Power <ciara.power@intel.com>
Date: Wednesday, October 28 2020 15:38:08
DPDK git baseline: Repo:dpdk
Branch: master
CommitID:c3afd1cba69bd7a900fd63c02cc87fba8d74430a
82669 --> testing pass
Test environment and result as below:
+---------------------+--------------------+
| Environment | dpdk_meson_compile |
+=====================+====================+
| Windows Server 2019 | PASS |
+---------------------+--------------------+
| Ubuntu 18.04 | PASS |
+---------------------+--------------------+
| FreeBSD 11.2 | PASS |
+---------------------+--------------------+
| CentOS 8 | PASS |
+---------------------+--------------------+
| Fedora 31 | PASS |
+---------------------+--------------------+
| openSUSE Leap 15 | PASS |
+---------------------+--------------------+
| Arch Linux | PASS |
+---------------------+--------------------+
Windows Server 2019
Kernel: 10.0
Compiler: clang 9.0
Ubuntu 18.04
Kernel: 4.15.0-generic
Compiler: gcc 7.4
FreeBSD 11.2
Kernel: 11.2
Compiler: gcc 8.3
CentOS 8
Kernel: 4.18.0.el8_0
Compiler: gcc 8.3.1
Fedora 31
Kernel: 5.3.16
Compiler: gcc 9.2.1
openSUSE Leap 15
Kernel: 4.12.14
Compiler: gcc 7.4.1
Arch Linux
Kernel: latest
Compiler: gcc latest
To view detailed results, visit:
https://lab.dpdk.org/results/dashboard/patchsets/14108/
UNH-IOL DPDK Community Lab
To manage your email subscriptions, visit:
https://lab.dpdk.org/results/dashboard/preferences/subscriptions/
^ permalink raw reply [flat|nested] 5+ messages in thread
* [dpdk-test-report] |SUCCESS| pw82669 [PATCH] examples/fips_validation: fix checking return value
@ 2020-10-29 22:52 dpdklab
0 siblings, 0 replies; 5+ messages in thread
From: dpdklab @ 2020-10-29 22:52 UTC (permalink / raw)
To: Ali Alnubani, Test Report; +Cc: dpdk-test-reports
[-- Attachment #1: Type: text/plain, Size: 3965 bytes --]
Test-Label: iol-mellanox-Performance
Test-Status: SUCCESS
http://dpdk.org/patch/82669
_Performance Testing PASS_
Submitter: Ciara Power <ciara.power@intel.com>
Date: Wednesday, October 28 2020 15:38:08
DPDK git baseline: Repo:dpdk
Branch: master
CommitID:c3afd1cba69bd7a900fd63c02cc87fba8d74430a
82669 --> performance testing pass
Test environment and result as below:
Ubuntu 18.04
Kernel: 4.15.0-generic
Compiler: gcc 7.4
NIC: Mellanox ConnectX-5 100000 Mbps
Target: x86_64-native-linuxapp-gcc
Fail/Total: 0/6
Detail performance results:
+------------+---------+-------------------------------------+
| frame_size | txd/rxd | throughput difference from expected |
+============+=========+=====================================+
| 64 | 256 | 0.185 |
+------------+---------+-------------------------------------+
| 128 | 256 | -0.040 |
+------------+---------+-------------------------------------+
| 256 | 256 | -0.075 |
+------------+---------+-------------------------------------+
| 512 | 256 | 0.157 |
+------------+---------+-------------------------------------+
| 1024 | 256 | -0.096 |
+------------+---------+-------------------------------------+
| 1518 | 256 | 0.008 |
+------------+---------+-------------------------------------+
Ubuntu 18.04
Kernel: 4.15.0-generic
Compiler: gcc 7.4
NIC: Mellanox ConnectX-4 Lx 25000 Mbps
Target: x86_64-native-linuxapp-gcc
Fail/Total: 0/6
Detail performance results:
+------------+---------+-------------------------------------+
| frame_size | txd/rxd | throughput difference from expected |
+============+=========+=====================================+
| 64 | 256 | -0.074 |
+------------+---------+-------------------------------------+
| 128 | 256 | -0.173 |
+------------+---------+-------------------------------------+
| 256 | 256 | -0.023 |
+------------+---------+-------------------------------------+
| 512 | 256 | -0.033 |
+------------+---------+-------------------------------------+
| 1024 | 256 | -0.014 |
+------------+---------+-------------------------------------+
| 1518 | 256 | 0.003 |
+------------+---------+-------------------------------------+
Ubuntu 18.04
Kernel: 4.15.0-generic
Compiler: gcc 7.4
NIC: Mellanox ConnectX-4 Lx 40000 Mbps
Target: x86_64-native-linuxapp-gcc
Fail/Total: 0/6
Detail performance results:
+------------+---------+-------------------------------------+
| frame_size | txd/rxd | throughput difference from expected |
+============+=========+=====================================+
| 64 | 256 | 0.022 |
+------------+---------+-------------------------------------+
| 128 | 256 | -0.089 |
+------------+---------+-------------------------------------+
| 256 | 256 | 0.155 |
+------------+---------+-------------------------------------+
| 512 | 256 | -0.019 |
+------------+---------+-------------------------------------+
| 1024 | 256 | 0.013 |
+------------+---------+-------------------------------------+
| 1518 | 256 | -0.015 |
+------------+---------+-------------------------------------+
To view detailed results, visit:
https://lab.dpdk.org/results/dashboard/patchsets/14108/
UNH-IOL DPDK Community Lab
To manage your email subscriptions, visit:
https://lab.dpdk.org/results/dashboard/preferences/subscriptions/
^ permalink raw reply [flat|nested] 5+ messages in thread
* [dpdk-test-report] |SUCCESS| pw82669 [PATCH] examples/fips_validation: fix checking return value
@ 2020-10-28 17:15 dpdklab
0 siblings, 0 replies; 5+ messages in thread
From: dpdklab @ 2020-10-28 17:15 UTC (permalink / raw)
To: Test Report; +Cc: dpdk-test-reports
[-- Attachment #1: Type: text/plain, Size: 1915 bytes --]
Test-Label: iol-intel-Performance
Test-Status: SUCCESS
http://dpdk.org/patch/82669
_Performance Testing PASS_
Submitter: Ciara Power <ciara.power@intel.com>
Date: Wednesday, October 28 2020 15:38:08
DPDK git baseline: Repo:dpdk
Branch: master
CommitID:c3afd1cba69bd7a900fd63c02cc87fba8d74430a
82669 --> performance testing pass
Test environment and result as below:
Ubuntu 18.04
Kernel: 4.15.0-generic
Compiler: gcc 7.4
NIC: Intel Corporation Ethernet Converged Network Adapter XL710-QDA2 40000 Mbps
Target: x86_64-native-linuxapp-gcc
Fail/Total: 0/2
Detail performance results:
+------------+---------+-------------------------------------+
| frame_size | txd/rxd | throughput difference from expected |
+============+=========+=====================================+
| 64 | 512 | 2.871 |
+------------+---------+-------------------------------------+
| 64 | 2048 | 1.394 |
+------------+---------+-------------------------------------+
Ubuntu 18.04
Kernel: 4.15.0-generic
Compiler: gcc 7.4
NIC: Intel Corporation Ethernet Converged Network Adapter 82599ES 10000 Mbps
Target: x86_64-native-linuxapp-gcc
Fail/Total: 0/2
Detail performance results:
+------------+---------+-------------------------------------+
| frame_size | txd/rxd | throughput difference from expected |
+============+=========+=====================================+
| 64 | 512 | 1.869 |
+------------+---------+-------------------------------------+
| 64 | 2048 | 1.177 |
+------------+---------+-------------------------------------+
To view detailed results, visit:
https://lab.dpdk.org/results/dashboard/patchsets/14108/
UNH-IOL DPDK Community Lab
To manage your email subscriptions, visit:
https://lab.dpdk.org/results/dashboard/preferences/subscriptions/
^ permalink raw reply [flat|nested] 5+ messages in thread
* [dpdk-test-report] |SUCCESS| pw82669 [PATCH] examples/fips_validation: fix checking return value
@ 2020-10-28 16:52 dpdklab
0 siblings, 0 replies; 5+ messages in thread
From: dpdklab @ 2020-10-28 16:52 UTC (permalink / raw)
To: Test Report; +Cc: dpdk-test-reports
[-- Attachment #1: Type: text/plain, Size: 788 bytes --]
Test-Label: iol-intel-Functional
Test-Status: SUCCESS
http://dpdk.org/patch/82669
_Functional Testing PASS_
Submitter: Ciara Power <ciara.power@intel.com>
Date: Wednesday, October 28 2020 15:38:08
DPDK git baseline: Repo:dpdk
Branch: master
CommitID:c3afd1cba69bd7a900fd63c02cc87fba8d74430a
82669 --> functional testing pass
Test environment and result as below:
Ubuntu 18.04
Kernel: 4.15.0-generic
Compiler: gcc 7.4
NIC: Intel Corporation Ethernet Converged Network Adapter XL710-QDA2 40000 Mbps
Target: x86_64-native-linuxapp-gcc
Fail/Total: 0/3
To view detailed results, visit:
https://lab.dpdk.org/results/dashboard/patchsets/14108/
UNH-IOL DPDK Community Lab
To manage your email subscriptions, visit:
https://lab.dpdk.org/results/dashboard/preferences/subscriptions/
^ permalink raw reply [flat|nested] 5+ messages in thread
* [dpdk-test-report] |SUCCESS| pw82669 [PATCH] examples/fips_validation: fix checking return value
[not found] <20201028153808.103328-1-ciara.power@intel.com>
@ 2020-10-28 15:38 ` checkpatch
0 siblings, 0 replies; 5+ messages in thread
From: checkpatch @ 2020-10-28 15:38 UTC (permalink / raw)
To: test-report
Test-Label: checkpatch
Test-Status: SUCCESS
http://dpdk.org/patch/82669
_coding style OK_
^ permalink raw reply [flat|nested] 5+ messages in thread
end of thread, other threads:[~2020-10-29 22:52 UTC | newest]
Thread overview: 5+ messages (download: mbox.gz / follow: Atom feed)
-- links below jump to the message on this page --
2020-10-28 16:58 [dpdk-test-report] |SUCCESS| pw82669 [PATCH] examples/fips_validation: fix checking return value dpdklab
-- strict thread matches above, loose matches on Subject: below --
2020-10-29 22:52 dpdklab
2020-10-28 17:15 dpdklab
2020-10-28 16:52 dpdklab
[not found] <20201028153808.103328-1-ciara.power@intel.com>
2020-10-28 15:38 ` checkpatch
This is a public inbox, see mirroring instructions
for how to clone and mirror all data and code used for this inbox;
as well as URLs for NNTP newsgroup(s).