Test-Label: checkpatch Test-Status: SUCCESS http://dpdk.org/patch/82352 _coding style OK_
[-- Attachment #1: Type: text/plain, Size: 1707 bytes --] Test-Label: iol-testing Test-Status: SUCCESS http://dpdk.org/patch/82352 _Testing PASS_ Submitter: Didier Pallard <didier.pallard@6wind.com> Date: Tuesday, October 27 2020 15:19:43 DPDK git baseline: Repo:dpdk Branch: master CommitID:5d7366372888ba654d3ba02b2b06de469ec433b9 82352 --> testing pass Test environment and result as below: +---------------------+--------------------+ | Environment | dpdk_meson_compile | +=====================+====================+ | Windows Server 2019 | PASS | +---------------------+--------------------+ | FreeBSD 11.2 | PASS | +---------------------+--------------------+ | CentOS 8 | PASS | +---------------------+--------------------+ | Fedora 31 | PASS | +---------------------+--------------------+ | openSUSE Leap 15 | PASS | +---------------------+--------------------+ | Ubuntu 18.04 | PASS | +---------------------+--------------------+ | Arch Linux | PASS | +---------------------+--------------------+ Windows Server 2019 Kernel: 10.0 Compiler: clang 9.0 FreeBSD 11.2 Kernel: 11.2 Compiler: gcc 8.3 CentOS 8 Kernel: 4.18.0.el8_0 Compiler: gcc 8.3.1 Fedora 31 Kernel: 5.3.16 Compiler: gcc 9.2.1 openSUSE Leap 15 Kernel: 4.12.14 Compiler: gcc 7.4.1 Ubuntu 18.04 Kernel: 4.15.0-generic Compiler: gcc 7.4 Arch Linux Kernel: latest Compiler: gcc latest To view detailed results, visit: https://lab.dpdk.org/results/dashboard/patchsets/14071/ UNH-IOL DPDK Community Lab To manage your email subscriptions, visit: https://lab.dpdk.org/results/dashboard/preferences/subscriptions/
[-- Attachment #1: Type: text/plain, Size: 792 bytes --] Test-Label: iol-intel-Functional Test-Status: SUCCESS http://dpdk.org/patch/82352 _Functional Testing PASS_ Submitter: Didier Pallard <didier.pallard@6wind.com> Date: Tuesday, October 27 2020 15:19:43 DPDK git baseline: Repo:dpdk Branch: master CommitID:5d7366372888ba654d3ba02b2b06de469ec433b9 82352 --> functional testing pass Test environment and result as below: Ubuntu 18.04 Kernel: 4.15.0-generic Compiler: gcc 7.4 NIC: Intel Corporation Ethernet Converged Network Adapter XL710-QDA2 40000 Mbps Target: x86_64-native-linuxapp-gcc Fail/Total: 0/3 To view detailed results, visit: https://lab.dpdk.org/results/dashboard/patchsets/14071/ UNH-IOL DPDK Community Lab To manage your email subscriptions, visit: https://lab.dpdk.org/results/dashboard/preferences/subscriptions/
[-- Attachment #1: Type: text/plain, Size: 1919 bytes --] Test-Label: iol-intel-Performance Test-Status: SUCCESS http://dpdk.org/patch/82352 _Performance Testing PASS_ Submitter: Didier Pallard <didier.pallard@6wind.com> Date: Tuesday, October 27 2020 15:19:43 DPDK git baseline: Repo:dpdk Branch: master CommitID:5d7366372888ba654d3ba02b2b06de469ec433b9 82352 --> performance testing pass Test environment and result as below: Ubuntu 18.04 Kernel: 4.15.0-generic Compiler: gcc 7.4 NIC: Intel Corporation Ethernet Converged Network Adapter XL710-QDA2 40000 Mbps Target: x86_64-native-linuxapp-gcc Fail/Total: 0/2 Detail performance results: +------------+---------+-------------------------------------+ | frame_size | txd/rxd | throughput difference from expected | +============+=========+=====================================+ | 64 | 512 | 2.495 | +------------+---------+-------------------------------------+ | 64 | 2048 | 1.500 | +------------+---------+-------------------------------------+ Ubuntu 18.04 Kernel: 4.15.0-generic Compiler: gcc 7.4 NIC: Intel Corporation Ethernet Converged Network Adapter 82599ES 10000 Mbps Target: x86_64-native-linuxapp-gcc Fail/Total: 0/2 Detail performance results: +------------+---------+-------------------------------------+ | frame_size | txd/rxd | throughput difference from expected | +============+=========+=====================================+ | 64 | 512 | 1.869 | +------------+---------+-------------------------------------+ | 64 | 2048 | 1.176 | +------------+---------+-------------------------------------+ To view detailed results, visit: https://lab.dpdk.org/results/dashboard/patchsets/14071/ UNH-IOL DPDK Community Lab To manage your email subscriptions, visit: https://lab.dpdk.org/results/dashboard/preferences/subscriptions/
[-- Attachment #1: Type: text/plain, Size: 3969 bytes --] Test-Label: iol-mellanox-Performance Test-Status: SUCCESS http://dpdk.org/patch/82352 _Performance Testing PASS_ Submitter: Didier Pallard <didier.pallard@6wind.com> Date: Tuesday, October 27 2020 15:19:43 DPDK git baseline: Repo:dpdk Branch: master CommitID:5d7366372888ba654d3ba02b2b06de469ec433b9 82352 --> performance testing pass Test environment and result as below: Ubuntu 18.04 Kernel: 4.15.0-generic Compiler: gcc 7.4 NIC: Mellanox ConnectX-5 100000 Mbps Target: x86_64-native-linuxapp-gcc Fail/Total: 0/6 Detail performance results: +------------+---------+-------------------------------------+ | frame_size | txd/rxd | throughput difference from expected | +============+=========+=====================================+ | 64 | 256 | -0.251 | +------------+---------+-------------------------------------+ | 128 | 256 | -0.071 | +------------+---------+-------------------------------------+ | 256 | 256 | -0.094 | +------------+---------+-------------------------------------+ | 512 | 256 | -0.155 | +------------+---------+-------------------------------------+ | 1024 | 256 | -0.138 | +------------+---------+-------------------------------------+ | 1518 | 256 | -0.026 | +------------+---------+-------------------------------------+ Ubuntu 18.04 Kernel: 4.15.0-generic Compiler: gcc 7.4 NIC: Mellanox ConnectX-4 Lx 25000 Mbps Target: x86_64-native-linuxapp-gcc Fail/Total: 0/6 Detail performance results: +------------+---------+-------------------------------------+ | frame_size | txd/rxd | throughput difference from expected | +============+=========+=====================================+ | 64 | 256 | -0.260 | +------------+---------+-------------------------------------+ | 128 | 256 | 0.031 | +------------+---------+-------------------------------------+ | 256 | 256 | -0.183 | +------------+---------+-------------------------------------+ | 512 | 256 | -0.049 | +------------+---------+-------------------------------------+ | 1024 | 256 | 0.005 | +------------+---------+-------------------------------------+ | 1518 | 256 | -0.011 | +------------+---------+-------------------------------------+ Ubuntu 18.04 Kernel: 4.15.0-generic Compiler: gcc 7.4 NIC: Mellanox ConnectX-4 Lx 40000 Mbps Target: x86_64-native-linuxapp-gcc Fail/Total: 0/6 Detail performance results: +------------+---------+-------------------------------------+ | frame_size | txd/rxd | throughput difference from expected | +============+=========+=====================================+ | 64 | 256 | 0.285 | +------------+---------+-------------------------------------+ | 128 | 256 | 0.001 | +------------+---------+-------------------------------------+ | 256 | 256 | 0.294 | +------------+---------+-------------------------------------+ | 512 | 256 | -0.029 | +------------+---------+-------------------------------------+ | 1024 | 256 | -0.041 | +------------+---------+-------------------------------------+ | 1518 | 256 | -0.014 | +------------+---------+-------------------------------------+ To view detailed results, visit: https://lab.dpdk.org/results/dashboard/patchsets/14071/ UNH-IOL DPDK Community Lab To manage your email subscriptions, visit: https://lab.dpdk.org/results/dashboard/preferences/subscriptions/