* [dpdk-test-report] |SUCCESS| pw82697 [PATCH] app/testpmd: fix the eCPRI command line style
@ 2020-10-29 6:46 dpdklab
0 siblings, 0 replies; 9+ messages in thread
From: dpdklab @ 2020-10-29 6:46 UTC (permalink / raw)
To: Test Report; +Cc: dpdk-test-reports
[-- Attachment #1: Type: text/plain, Size: 1907 bytes --]
Test-Label: iol-intel-Performance
Test-Status: SUCCESS
http://dpdk.org/patch/82697
_Performance Testing PASS_
Submitter: Bing Zhao <bingz@nvidia.com>
Date: Thursday, October 29 2020 05:35:25
DPDK git baseline: Repo:dpdk
Branch: master
CommitID:eda44ced0ec14677de6944c76955621c6182b2df
82697 --> performance testing pass
Test environment and result as below:
Ubuntu 18.04
Kernel: 4.15.0-generic
Compiler: gcc 7.4
NIC: Intel Corporation Ethernet Converged Network Adapter XL710-QDA2 40000 Mbps
Target: x86_64-native-linuxapp-gcc
Fail/Total: 0/2
Detail performance results:
+------------+---------+-------------------------------------+
| frame_size | txd/rxd | throughput difference from expected |
+============+=========+=====================================+
| 64 | 512 | 2.589 |
+------------+---------+-------------------------------------+
| 64 | 2048 | 1.689 |
+------------+---------+-------------------------------------+
Ubuntu 18.04
Kernel: 4.15.0-generic
Compiler: gcc 7.4
NIC: Intel Corporation Ethernet Converged Network Adapter 82599ES 10000 Mbps
Target: x86_64-native-linuxapp-gcc
Fail/Total: 0/2
Detail performance results:
+------------+---------+-------------------------------------+
| frame_size | txd/rxd | throughput difference from expected |
+============+=========+=====================================+
| 64 | 512 | 1.668 |
+------------+---------+-------------------------------------+
| 64 | 2048 | 1.214 |
+------------+---------+-------------------------------------+
To view detailed results, visit:
https://lab.dpdk.org/results/dashboard/patchsets/14120/
UNH-IOL DPDK Community Lab
To manage your email subscriptions, visit:
https://lab.dpdk.org/results/dashboard/preferences/subscriptions/
^ permalink raw reply [flat|nested] 9+ messages in thread
* [dpdk-test-report] |SUCCESS| pw82697 [PATCH] app/testpmd: fix the eCPRI command line style
@ 2020-10-30 7:20 dpdklab
0 siblings, 0 replies; 9+ messages in thread
From: dpdklab @ 2020-10-30 7:20 UTC (permalink / raw)
To: Ali Alnubani, Test Report; +Cc: dpdk-test-reports
[-- Attachment #1: Type: text/plain, Size: 3957 bytes --]
Test-Label: iol-mellanox-Performance
Test-Status: SUCCESS
http://dpdk.org/patch/82697
_Performance Testing PASS_
Submitter: Bing Zhao <bingz@nvidia.com>
Date: Thursday, October 29 2020 05:35:25
DPDK git baseline: Repo:dpdk
Branch: master
CommitID:eda44ced0ec14677de6944c76955621c6182b2df
82697 --> performance testing pass
Test environment and result as below:
Ubuntu 18.04
Kernel: 4.15.0-generic
Compiler: gcc 7.4
NIC: Mellanox ConnectX-5 100000 Mbps
Target: x86_64-native-linuxapp-gcc
Fail/Total: 0/6
Detail performance results:
+------------+---------+-------------------------------------+
| frame_size | txd/rxd | throughput difference from expected |
+============+=========+=====================================+
| 64 | 256 | -0.008 |
+------------+---------+-------------------------------------+
| 128 | 256 | -0.187 |
+------------+---------+-------------------------------------+
| 256 | 256 | -0.061 |
+------------+---------+-------------------------------------+
| 512 | 256 | -0.306 |
+------------+---------+-------------------------------------+
| 1024 | 256 | 0.163 |
+------------+---------+-------------------------------------+
| 1518 | 256 | -0.006 |
+------------+---------+-------------------------------------+
Ubuntu 18.04
Kernel: 4.15.0-generic
Compiler: gcc 7.4
NIC: Mellanox ConnectX-4 Lx 25000 Mbps
Target: x86_64-native-linuxapp-gcc
Fail/Total: 0/6
Detail performance results:
+------------+---------+-------------------------------------+
| frame_size | txd/rxd | throughput difference from expected |
+============+=========+=====================================+
| 64 | 256 | 0.103 |
+------------+---------+-------------------------------------+
| 128 | 256 | 0.110 |
+------------+---------+-------------------------------------+
| 256 | 256 | 0.199 |
+------------+---------+-------------------------------------+
| 512 | 256 | -0.010 |
+------------+---------+-------------------------------------+
| 1024 | 256 | 0.004 |
+------------+---------+-------------------------------------+
| 1518 | 256 | -0.009 |
+------------+---------+-------------------------------------+
Ubuntu 18.04
Kernel: 4.15.0-generic
Compiler: gcc 7.4
NIC: Mellanox ConnectX-4 Lx 40000 Mbps
Target: x86_64-native-linuxapp-gcc
Fail/Total: 0/6
Detail performance results:
+------------+---------+-------------------------------------+
| frame_size | txd/rxd | throughput difference from expected |
+============+=========+=====================================+
| 64 | 256 | 0.092 |
+------------+---------+-------------------------------------+
| 128 | 256 | -0.083 |
+------------+---------+-------------------------------------+
| 256 | 256 | 0.612 |
+------------+---------+-------------------------------------+
| 512 | 256 | -0.043 |
+------------+---------+-------------------------------------+
| 1024 | 256 | -0.012 |
+------------+---------+-------------------------------------+
| 1518 | 256 | 0.012 |
+------------+---------+-------------------------------------+
To view detailed results, visit:
https://lab.dpdk.org/results/dashboard/patchsets/14120/
UNH-IOL DPDK Community Lab
To manage your email subscriptions, visit:
https://lab.dpdk.org/results/dashboard/preferences/subscriptions/
^ permalink raw reply [flat|nested] 9+ messages in thread
* [dpdk-test-report] |SUCCESS| pw82697 [PATCH] app/testpmd: fix the eCPRI command line style
@ 2020-10-30 6:34 dpdklab
0 siblings, 0 replies; 9+ messages in thread
From: dpdklab @ 2020-10-30 6:34 UTC (permalink / raw)
To: Ali Alnubani, Test Report; +Cc: dpdk-test-reports
[-- Attachment #1: Type: text/plain, Size: 3957 bytes --]
Test-Label: iol-mellanox-Performance
Test-Status: SUCCESS
http://dpdk.org/patch/82697
_Performance Testing PASS_
Submitter: Bing Zhao <bingz@nvidia.com>
Date: Thursday, October 29 2020 05:35:25
DPDK git baseline: Repo:dpdk
Branch: master
CommitID:eda44ced0ec14677de6944c76955621c6182b2df
82697 --> performance testing pass
Test environment and result as below:
Ubuntu 18.04
Kernel: 4.15.0-generic
Compiler: gcc 7.4
NIC: Mellanox ConnectX-5 100000 Mbps
Target: x86_64-native-linuxapp-gcc
Fail/Total: 0/6
Detail performance results:
+------------+---------+-------------------------------------+
| frame_size | txd/rxd | throughput difference from expected |
+============+=========+=====================================+
| 64 | 256 | -0.032 |
+------------+---------+-------------------------------------+
| 128 | 256 | -0.239 |
+------------+---------+-------------------------------------+
| 256 | 256 | 0.077 |
+------------+---------+-------------------------------------+
| 512 | 256 | 0.220 |
+------------+---------+-------------------------------------+
| 1024 | 256 | 0.086 |
+------------+---------+-------------------------------------+
| 1518 | 256 | -0.004 |
+------------+---------+-------------------------------------+
Ubuntu 18.04
Kernel: 4.15.0-generic
Compiler: gcc 7.4
NIC: Mellanox ConnectX-4 Lx 25000 Mbps
Target: x86_64-native-linuxapp-gcc
Fail/Total: 0/6
Detail performance results:
+------------+---------+-------------------------------------+
| frame_size | txd/rxd | throughput difference from expected |
+============+=========+=====================================+
| 64 | 256 | -0.109 |
+------------+---------+-------------------------------------+
| 128 | 256 | -0.141 |
+------------+---------+-------------------------------------+
| 256 | 256 | -0.123 |
+------------+---------+-------------------------------------+
| 512 | 256 | -0.013 |
+------------+---------+-------------------------------------+
| 1024 | 256 | 0.001 |
+------------+---------+-------------------------------------+
| 1518 | 256 | -0.001 |
+------------+---------+-------------------------------------+
Ubuntu 18.04
Kernel: 4.15.0-generic
Compiler: gcc 7.4
NIC: Mellanox ConnectX-4 Lx 40000 Mbps
Target: x86_64-native-linuxapp-gcc
Fail/Total: 0/6
Detail performance results:
+------------+---------+-------------------------------------+
| frame_size | txd/rxd | throughput difference from expected |
+============+=========+=====================================+
| 64 | 256 | 0.104 |
+------------+---------+-------------------------------------+
| 128 | 256 | 0.022 |
+------------+---------+-------------------------------------+
| 256 | 256 | -0.019 |
+------------+---------+-------------------------------------+
| 512 | 256 | -0.043 |
+------------+---------+-------------------------------------+
| 1024 | 256 | 0.002 |
+------------+---------+-------------------------------------+
| 1518 | 256 | -0.003 |
+------------+---------+-------------------------------------+
To view detailed results, visit:
https://lab.dpdk.org/results/dashboard/patchsets/14120/
UNH-IOL DPDK Community Lab
To manage your email subscriptions, visit:
https://lab.dpdk.org/results/dashboard/preferences/subscriptions/
^ permalink raw reply [flat|nested] 9+ messages in thread
* [dpdk-test-report] |SUCCESS| pw82697 [PATCH] app/testpmd: fix the eCPRI command line style
@ 2020-10-29 7:11 dpdklab
0 siblings, 0 replies; 9+ messages in thread
From: dpdklab @ 2020-10-29 7:11 UTC (permalink / raw)
To: Test Report; +Cc: dpdk-test-reports
[-- Attachment #1: Type: text/plain, Size: 1907 bytes --]
Test-Label: iol-intel-Performance
Test-Status: SUCCESS
http://dpdk.org/patch/82697
_Performance Testing PASS_
Submitter: Bing Zhao <bingz@nvidia.com>
Date: Thursday, October 29 2020 05:35:25
DPDK git baseline: Repo:dpdk
Branch: master
CommitID:eda44ced0ec14677de6944c76955621c6182b2df
82697 --> performance testing pass
Test environment and result as below:
Ubuntu 18.04
Kernel: 4.15.0-generic
Compiler: gcc 7.4
NIC: Intel Corporation Ethernet Converged Network Adapter XL710-QDA2 40000 Mbps
Target: x86_64-native-linuxapp-gcc
Fail/Total: 0/2
Detail performance results:
+------------+---------+-------------------------------------+
| frame_size | txd/rxd | throughput difference from expected |
+============+=========+=====================================+
| 64 | 512 | 2.433 |
+------------+---------+-------------------------------------+
| 64 | 2048 | 1.545 |
+------------+---------+-------------------------------------+
Ubuntu 18.04
Kernel: 4.15.0-generic
Compiler: gcc 7.4
NIC: Intel Corporation Ethernet Converged Network Adapter 82599ES 10000 Mbps
Target: x86_64-native-linuxapp-gcc
Fail/Total: 0/2
Detail performance results:
+------------+---------+-------------------------------------+
| frame_size | txd/rxd | throughput difference from expected |
+============+=========+=====================================+
| 64 | 512 | 1.944 |
+------------+---------+-------------------------------------+
| 64 | 2048 | 0.849 |
+------------+---------+-------------------------------------+
To view detailed results, visit:
https://lab.dpdk.org/results/dashboard/patchsets/14120/
UNH-IOL DPDK Community Lab
To manage your email subscriptions, visit:
https://lab.dpdk.org/results/dashboard/preferences/subscriptions/
^ permalink raw reply [flat|nested] 9+ messages in thread
* [dpdk-test-report] |SUCCESS| pw82697 [PATCH] app/testpmd: fix the eCPRI command line style
@ 2020-10-29 7:06 dpdklab
0 siblings, 0 replies; 9+ messages in thread
From: dpdklab @ 2020-10-29 7:06 UTC (permalink / raw)
To: Test Report; +Cc: dpdk-test-reports
[-- Attachment #1: Type: text/plain, Size: 1695 bytes --]
Test-Label: iol-testing
Test-Status: SUCCESS
http://dpdk.org/patch/82697
_Testing PASS_
Submitter: Bing Zhao <bingz@nvidia.com>
Date: Thursday, October 29 2020 05:35:25
DPDK git baseline: Repo:dpdk
Branch: master
CommitID:eda44ced0ec14677de6944c76955621c6182b2df
82697 --> testing pass
Test environment and result as below:
+---------------------+--------------------+
| Environment | dpdk_meson_compile |
+=====================+====================+
| Windows Server 2019 | PASS |
+---------------------+--------------------+
| FreeBSD 11.2 | PASS |
+---------------------+--------------------+
| CentOS 8 | PASS |
+---------------------+--------------------+
| Fedora 31 | PASS |
+---------------------+--------------------+
| openSUSE Leap 15 | PASS |
+---------------------+--------------------+
| Arch Linux | PASS |
+---------------------+--------------------+
| Ubuntu 18.04 | PASS |
+---------------------+--------------------+
Windows Server 2019
Kernel: 10.0
Compiler: clang 9.0
FreeBSD 11.2
Kernel: 11.2
Compiler: gcc 8.3
CentOS 8
Kernel: 4.18.0.el8_0
Compiler: gcc 8.3.1
Fedora 31
Kernel: 5.3.16
Compiler: gcc 9.2.1
openSUSE Leap 15
Kernel: 4.12.14
Compiler: gcc 7.4.1
Arch Linux
Kernel: latest
Compiler: gcc latest
Ubuntu 18.04
Kernel: 4.15.0-generic
Compiler: gcc 7.4
To view detailed results, visit:
https://lab.dpdk.org/results/dashboard/patchsets/14120/
UNH-IOL DPDK Community Lab
To manage your email subscriptions, visit:
https://lab.dpdk.org/results/dashboard/preferences/subscriptions/
^ permalink raw reply [flat|nested] 9+ messages in thread
* [dpdk-test-report] |SUCCESS| pw82697 [PATCH] app/testpmd: fix the eCPRI command line style
@ 2020-10-29 6:46 dpdklab
0 siblings, 0 replies; 9+ messages in thread
From: dpdklab @ 2020-10-29 6:46 UTC (permalink / raw)
To: Test Report; +Cc: dpdk-test-reports
[-- Attachment #1: Type: text/plain, Size: 780 bytes --]
Test-Label: iol-intel-Functional
Test-Status: SUCCESS
http://dpdk.org/patch/82697
_Functional Testing PASS_
Submitter: Bing Zhao <bingz@nvidia.com>
Date: Thursday, October 29 2020 05:35:25
DPDK git baseline: Repo:dpdk
Branch: master
CommitID:eda44ced0ec14677de6944c76955621c6182b2df
82697 --> functional testing pass
Test environment and result as below:
Ubuntu 18.04
Kernel: 4.15.0-generic
Compiler: gcc 7.4
NIC: Intel Corporation Ethernet Converged Network Adapter XL710-QDA2 40000 Mbps
Target: x86_64-native-linuxapp-gcc
Fail/Total: 0/3
To view detailed results, visit:
https://lab.dpdk.org/results/dashboard/patchsets/14120/
UNH-IOL DPDK Community Lab
To manage your email subscriptions, visit:
https://lab.dpdk.org/results/dashboard/preferences/subscriptions/
^ permalink raw reply [flat|nested] 9+ messages in thread
* [dpdk-test-report] |SUCCESS| pw82697 [PATCH] app/testpmd: fix the eCPRI command line style
@ 2020-10-29 6:32 dpdklab
0 siblings, 0 replies; 9+ messages in thread
From: dpdklab @ 2020-10-29 6:32 UTC (permalink / raw)
To: Test Report; +Cc: dpdk-test-reports
[-- Attachment #1: Type: text/plain, Size: 1695 bytes --]
Test-Label: iol-testing
Test-Status: SUCCESS
http://dpdk.org/patch/82697
_Testing PASS_
Submitter: Bing Zhao <bingz@nvidia.com>
Date: Thursday, October 29 2020 05:35:25
DPDK git baseline: Repo:dpdk
Branch: master
CommitID:eda44ced0ec14677de6944c76955621c6182b2df
82697 --> testing pass
Test environment and result as below:
+---------------------+--------------------+
| Environment | dpdk_meson_compile |
+=====================+====================+
| Windows Server 2019 | PASS |
+---------------------+--------------------+
| FreeBSD 11.2 | PASS |
+---------------------+--------------------+
| Ubuntu 18.04 | PASS |
+---------------------+--------------------+
| CentOS 8 | PASS |
+---------------------+--------------------+
| Fedora 31 | PASS |
+---------------------+--------------------+
| openSUSE Leap 15 | PASS |
+---------------------+--------------------+
| Arch Linux | PASS |
+---------------------+--------------------+
Windows Server 2019
Kernel: 10.0
Compiler: clang 9.0
FreeBSD 11.2
Kernel: 11.2
Compiler: gcc 8.3
Ubuntu 18.04
Kernel: 4.15.0-generic
Compiler: gcc 7.4
CentOS 8
Kernel: 4.18.0.el8_0
Compiler: gcc 8.3.1
Fedora 31
Kernel: 5.3.16
Compiler: gcc 9.2.1
openSUSE Leap 15
Kernel: 4.12.14
Compiler: gcc 7.4.1
Arch Linux
Kernel: latest
Compiler: gcc latest
To view detailed results, visit:
https://lab.dpdk.org/results/dashboard/patchsets/14120/
UNH-IOL DPDK Community Lab
To manage your email subscriptions, visit:
https://lab.dpdk.org/results/dashboard/preferences/subscriptions/
^ permalink raw reply [flat|nested] 9+ messages in thread
* [dpdk-test-report] |SUCCESS| pw82697 [PATCH] app/testpmd: fix the eCPRI command line style
@ 2020-10-29 6:22 dpdklab
0 siblings, 0 replies; 9+ messages in thread
From: dpdklab @ 2020-10-29 6:22 UTC (permalink / raw)
To: Test Report; +Cc: dpdk-test-reports
[-- Attachment #1: Type: text/plain, Size: 780 bytes --]
Test-Label: iol-intel-Functional
Test-Status: SUCCESS
http://dpdk.org/patch/82697
_Functional Testing PASS_
Submitter: Bing Zhao <bingz@nvidia.com>
Date: Thursday, October 29 2020 05:35:25
DPDK git baseline: Repo:dpdk
Branch: master
CommitID:eda44ced0ec14677de6944c76955621c6182b2df
82697 --> functional testing pass
Test environment and result as below:
Ubuntu 18.04
Kernel: 4.15.0-generic
Compiler: gcc 7.4
NIC: Intel Corporation Ethernet Converged Network Adapter XL710-QDA2 40000 Mbps
Target: x86_64-native-linuxapp-gcc
Fail/Total: 0/3
To view detailed results, visit:
https://lab.dpdk.org/results/dashboard/patchsets/14120/
UNH-IOL DPDK Community Lab
To manage your email subscriptions, visit:
https://lab.dpdk.org/results/dashboard/preferences/subscriptions/
^ permalink raw reply [flat|nested] 9+ messages in thread
* [dpdk-test-report] |SUCCESS| pw82697 [PATCH] app/testpmd: fix the eCPRI command line style
[not found] <1603949725-95973-1-git-send-email-bingz@nvidia.com>
@ 2020-10-29 5:36 ` checkpatch
0 siblings, 0 replies; 9+ messages in thread
From: checkpatch @ 2020-10-29 5:36 UTC (permalink / raw)
To: test-report
Test-Label: checkpatch
Test-Status: SUCCESS
http://dpdk.org/patch/82697
_coding style OK_
^ permalink raw reply [flat|nested] 9+ messages in thread
end of thread, other threads:[~2020-10-30 7:20 UTC | newest]
Thread overview: 9+ messages (download: mbox.gz / follow: Atom feed)
-- links below jump to the message on this page --
2020-10-29 6:46 [dpdk-test-report] |SUCCESS| pw82697 [PATCH] app/testpmd: fix the eCPRI command line style dpdklab
-- strict thread matches above, loose matches on Subject: below --
2020-10-30 7:20 dpdklab
2020-10-30 6:34 dpdklab
2020-10-29 7:11 dpdklab
2020-10-29 7:06 dpdklab
2020-10-29 6:46 dpdklab
2020-10-29 6:32 dpdklab
2020-10-29 6:22 dpdklab
[not found] <1603949725-95973-1-git-send-email-bingz@nvidia.com>
2020-10-29 5:36 ` checkpatch
This is a public inbox, see mirroring instructions
for how to clone and mirror all data and code used for this inbox;
as well as URLs for NNTP newsgroup(s).