* [dpdk-test-report] |SUCCESS| pw82711 [PATCH] build: add pkg-config validation
@ 2020-10-29 11:11 dpdklab
0 siblings, 0 replies; 4+ messages in thread
From: dpdklab @ 2020-10-29 11:11 UTC (permalink / raw)
To: Test Report; +Cc: dpdk-test-reports
[-- Attachment #1: Type: text/plain, Size: 1916 bytes --]
Test-Label: iol-intel-Performance
Test-Status: SUCCESS
http://dpdk.org/patch/82711
_Performance Testing PASS_
Submitter: Gregory Etelson <getelson@nvidia.com>
Date: Thursday, October 29 2020 09:16:38
DPDK git baseline: Repo:dpdk
Branch: master
CommitID:eda44ced0ec14677de6944c76955621c6182b2df
82711 --> performance testing pass
Test environment and result as below:
Ubuntu 18.04
Kernel: 4.15.0-generic
Compiler: gcc 7.4
NIC: Intel Corporation Ethernet Converged Network Adapter XL710-QDA2 40000 Mbps
Target: x86_64-native-linuxapp-gcc
Fail/Total: 0/2
Detail performance results:
+------------+---------+-------------------------------------+
| frame_size | txd/rxd | throughput difference from expected |
+============+=========+=====================================+
| 64 | 512 | 2.385 |
+------------+---------+-------------------------------------+
| 64 | 2048 | 1.408 |
+------------+---------+-------------------------------------+
Ubuntu 18.04
Kernel: 4.15.0-generic
Compiler: gcc 7.4
NIC: Intel Corporation Ethernet Converged Network Adapter 82599ES 10000 Mbps
Target: x86_64-native-linuxapp-gcc
Fail/Total: 0/2
Detail performance results:
+------------+---------+-------------------------------------+
| frame_size | txd/rxd | throughput difference from expected |
+============+=========+=====================================+
| 64 | 512 | 1.910 |
+------------+---------+-------------------------------------+
| 64 | 2048 | 1.181 |
+------------+---------+-------------------------------------+
To view detailed results, visit:
https://lab.dpdk.org/results/dashboard/patchsets/14127/
UNH-IOL DPDK Community Lab
To manage your email subscriptions, visit:
https://lab.dpdk.org/results/dashboard/preferences/subscriptions/
^ permalink raw reply [flat|nested] 4+ messages in thread
* [dpdk-test-report] |SUCCESS| pw82711 [PATCH] build: add pkg-config validation
@ 2020-10-30 13:10 dpdklab
0 siblings, 0 replies; 4+ messages in thread
From: dpdklab @ 2020-10-30 13:10 UTC (permalink / raw)
To: Ali Alnubani, Test Report; +Cc: dpdk-test-reports
[-- Attachment #1: Type: text/plain, Size: 3966 bytes --]
Test-Label: iol-mellanox-Performance
Test-Status: SUCCESS
http://dpdk.org/patch/82711
_Performance Testing PASS_
Submitter: Gregory Etelson <getelson@nvidia.com>
Date: Thursday, October 29 2020 09:16:38
DPDK git baseline: Repo:dpdk
Branch: master
CommitID:eda44ced0ec14677de6944c76955621c6182b2df
82711 --> performance testing pass
Test environment and result as below:
Ubuntu 18.04
Kernel: 4.15.0-generic
Compiler: gcc 7.4
NIC: Mellanox ConnectX-5 100000 Mbps
Target: x86_64-native-linuxapp-gcc
Fail/Total: 0/6
Detail performance results:
+------------+---------+-------------------------------------+
| frame_size | txd/rxd | throughput difference from expected |
+============+=========+=====================================+
| 64 | 256 | -0.346 |
+------------+---------+-------------------------------------+
| 128 | 256 | -0.121 |
+------------+---------+-------------------------------------+
| 256 | 256 | 0.108 |
+------------+---------+-------------------------------------+
| 512 | 256 | 0.085 |
+------------+---------+-------------------------------------+
| 1024 | 256 | 0.214 |
+------------+---------+-------------------------------------+
| 1518 | 256 | 0.023 |
+------------+---------+-------------------------------------+
Ubuntu 18.04
Kernel: 4.15.0-generic
Compiler: gcc 7.4
NIC: Mellanox ConnectX-4 Lx 25000 Mbps
Target: x86_64-native-linuxapp-gcc
Fail/Total: 0/6
Detail performance results:
+------------+---------+-------------------------------------+
| frame_size | txd/rxd | throughput difference from expected |
+============+=========+=====================================+
| 64 | 256 | 0.072 |
+------------+---------+-------------------------------------+
| 128 | 256 | -0.119 |
+------------+---------+-------------------------------------+
| 256 | 256 | -0.012 |
+------------+---------+-------------------------------------+
| 512 | 256 | 0.040 |
+------------+---------+-------------------------------------+
| 1024 | 256 | 0.002 |
+------------+---------+-------------------------------------+
| 1518 | 256 | -0.003 |
+------------+---------+-------------------------------------+
Ubuntu 18.04
Kernel: 4.15.0-generic
Compiler: gcc 7.4
NIC: Mellanox ConnectX-4 Lx 40000 Mbps
Target: x86_64-native-linuxapp-gcc
Fail/Total: 0/6
Detail performance results:
+------------+---------+-------------------------------------+
| frame_size | txd/rxd | throughput difference from expected |
+============+=========+=====================================+
| 64 | 256 | 0.044 |
+------------+---------+-------------------------------------+
| 128 | 256 | -0.163 |
+------------+---------+-------------------------------------+
| 256 | 256 | -0.406 |
+------------+---------+-------------------------------------+
| 512 | 256 | -0.049 |
+------------+---------+-------------------------------------+
| 1024 | 256 | -0.005 |
+------------+---------+-------------------------------------+
| 1518 | 256 | 0.025 |
+------------+---------+-------------------------------------+
To view detailed results, visit:
https://lab.dpdk.org/results/dashboard/patchsets/14127/
UNH-IOL DPDK Community Lab
To manage your email subscriptions, visit:
https://lab.dpdk.org/results/dashboard/preferences/subscriptions/
^ permalink raw reply [flat|nested] 4+ messages in thread
* [dpdk-test-report] |SUCCESS| pw82711 [PATCH] build: add pkg-config validation
@ 2020-10-29 11:00 dpdklab
0 siblings, 0 replies; 4+ messages in thread
From: dpdklab @ 2020-10-29 11:00 UTC (permalink / raw)
To: Test Report; +Cc: dpdk-test-reports
[-- Attachment #1: Type: text/plain, Size: 1704 bytes --]
Test-Label: iol-testing
Test-Status: SUCCESS
http://dpdk.org/patch/82711
_Testing PASS_
Submitter: Gregory Etelson <getelson@nvidia.com>
Date: Thursday, October 29 2020 09:16:38
DPDK git baseline: Repo:dpdk
Branch: master
CommitID:eda44ced0ec14677de6944c76955621c6182b2df
82711 --> testing pass
Test environment and result as below:
+---------------------+--------------------+
| Environment | dpdk_meson_compile |
+=====================+====================+
| Windows Server 2019 | PASS |
+---------------------+--------------------+
| FreeBSD 11.2 | PASS |
+---------------------+--------------------+
| Ubuntu 18.04 | PASS |
+---------------------+--------------------+
| CentOS 8 | PASS |
+---------------------+--------------------+
| Fedora 31 | PASS |
+---------------------+--------------------+
| openSUSE Leap 15 | PASS |
+---------------------+--------------------+
| Arch Linux | PASS |
+---------------------+--------------------+
Windows Server 2019
Kernel: 10.0
Compiler: clang 9.0
FreeBSD 11.2
Kernel: 11.2
Compiler: gcc 8.3
Ubuntu 18.04
Kernel: 4.15.0-generic
Compiler: gcc 7.4
CentOS 8
Kernel: 4.18.0.el8_0
Compiler: gcc 8.3.1
Fedora 31
Kernel: 5.3.16
Compiler: gcc 9.2.1
openSUSE Leap 15
Kernel: 4.12.14
Compiler: gcc 7.4.1
Arch Linux
Kernel: latest
Compiler: gcc latest
To view detailed results, visit:
https://lab.dpdk.org/results/dashboard/patchsets/14127/
UNH-IOL DPDK Community Lab
To manage your email subscriptions, visit:
https://lab.dpdk.org/results/dashboard/preferences/subscriptions/
^ permalink raw reply [flat|nested] 4+ messages in thread
* [dpdk-test-report] |SUCCESS| pw82711 [PATCH] build: add pkg-config validation
@ 2020-10-29 10:51 dpdklab
0 siblings, 0 replies; 4+ messages in thread
From: dpdklab @ 2020-10-29 10:51 UTC (permalink / raw)
To: Test Report; +Cc: dpdk-test-reports
[-- Attachment #1: Type: text/plain, Size: 789 bytes --]
Test-Label: iol-intel-Functional
Test-Status: SUCCESS
http://dpdk.org/patch/82711
_Functional Testing PASS_
Submitter: Gregory Etelson <getelson@nvidia.com>
Date: Thursday, October 29 2020 09:16:38
DPDK git baseline: Repo:dpdk
Branch: master
CommitID:eda44ced0ec14677de6944c76955621c6182b2df
82711 --> functional testing pass
Test environment and result as below:
Ubuntu 18.04
Kernel: 4.15.0-generic
Compiler: gcc 7.4
NIC: Intel Corporation Ethernet Converged Network Adapter XL710-QDA2 40000 Mbps
Target: x86_64-native-linuxapp-gcc
Fail/Total: 0/3
To view detailed results, visit:
https://lab.dpdk.org/results/dashboard/patchsets/14127/
UNH-IOL DPDK Community Lab
To manage your email subscriptions, visit:
https://lab.dpdk.org/results/dashboard/preferences/subscriptions/
^ permalink raw reply [flat|nested] 4+ messages in thread
end of thread, other threads:[~2020-10-30 13:11 UTC | newest]
Thread overview: 4+ messages (download: mbox.gz / follow: Atom feed)
-- links below jump to the message on this page --
2020-10-29 11:11 [dpdk-test-report] |SUCCESS| pw82711 [PATCH] build: add pkg-config validation dpdklab
-- strict thread matches above, loose matches on Subject: below --
2020-10-30 13:10 dpdklab
2020-10-29 11:00 dpdklab
2020-10-29 10:51 dpdklab
This is a public inbox, see mirroring instructions
for how to clone and mirror all data and code used for this inbox;
as well as URLs for NNTP newsgroup(s).