* [dpdk-test-report] |SUCCESS| pw82676 [PATCH] mlx5/net: fix release of SQ resources in error flow
@ 2020-10-30 0:28 dpdklab
0 siblings, 0 replies; 5+ messages in thread
From: dpdklab @ 2020-10-30 0:28 UTC (permalink / raw)
To: Ali Alnubani, Test Report; +Cc: dpdk-test-reports
[-- Attachment #1: Type: text/plain, Size: 3965 bytes --]
Test-Label: iol-mellanox-Performance
Test-Status: SUCCESS
http://dpdk.org/patch/82676
_Performance Testing PASS_
Submitter: Tal Shnaiderman <talshn@nvidia.com>
Date: Wednesday, October 28 2020 17:10:40
DPDK git baseline: Repo:dpdk
Branch: master
CommitID:c3afd1cba69bd7a900fd63c02cc87fba8d74430a
82676 --> performance testing pass
Test environment and result as below:
Ubuntu 18.04
Kernel: 4.15.0-generic
Compiler: gcc 7.4
NIC: Mellanox ConnectX-5 100000 Mbps
Target: x86_64-native-linuxapp-gcc
Fail/Total: 0/6
Detail performance results:
+------------+---------+-------------------------------------+
| frame_size | txd/rxd | throughput difference from expected |
+============+=========+=====================================+
| 64 | 256 | 0.314 |
+------------+---------+-------------------------------------+
| 128 | 256 | -0.066 |
+------------+---------+-------------------------------------+
| 256 | 256 | -0.107 |
+------------+---------+-------------------------------------+
| 512 | 256 | -0.049 |
+------------+---------+-------------------------------------+
| 1024 | 256 | -0.019 |
+------------+---------+-------------------------------------+
| 1518 | 256 | 0.027 |
+------------+---------+-------------------------------------+
Ubuntu 18.04
Kernel: 4.15.0-generic
Compiler: gcc 7.4
NIC: Mellanox ConnectX-4 Lx 25000 Mbps
Target: x86_64-native-linuxapp-gcc
Fail/Total: 0/6
Detail performance results:
+------------+---------+-------------------------------------+
| frame_size | txd/rxd | throughput difference from expected |
+============+=========+=====================================+
| 64 | 256 | -0.247 |
+------------+---------+-------------------------------------+
| 128 | 256 | 0.304 |
+------------+---------+-------------------------------------+
| 256 | 256 | -0.015 |
+------------+---------+-------------------------------------+
| 512 | 256 | -0.002 |
+------------+---------+-------------------------------------+
| 1024 | 256 | -0.015 |
+------------+---------+-------------------------------------+
| 1518 | 256 | -0.006 |
+------------+---------+-------------------------------------+
Ubuntu 18.04
Kernel: 4.15.0-generic
Compiler: gcc 7.4
NIC: Mellanox ConnectX-4 Lx 40000 Mbps
Target: x86_64-native-linuxapp-gcc
Fail/Total: 0/6
Detail performance results:
+------------+---------+-------------------------------------+
| frame_size | txd/rxd | throughput difference from expected |
+============+=========+=====================================+
| 64 | 256 | -0.049 |
+------------+---------+-------------------------------------+
| 128 | 256 | -0.201 |
+------------+---------+-------------------------------------+
| 256 | 256 | -0.118 |
+------------+---------+-------------------------------------+
| 512 | 256 | -0.005 |
+------------+---------+-------------------------------------+
| 1024 | 256 | 0.010 |
+------------+---------+-------------------------------------+
| 1518 | 256 | 0.012 |
+------------+---------+-------------------------------------+
To view detailed results, visit:
https://lab.dpdk.org/results/dashboard/patchsets/14112/
UNH-IOL DPDK Community Lab
To manage your email subscriptions, visit:
https://lab.dpdk.org/results/dashboard/preferences/subscriptions/
^ permalink raw reply [flat|nested] 5+ messages in thread
* [dpdk-test-report] |SUCCESS| pw82676 [PATCH] mlx5/net: fix release of SQ resources in error flow
@ 2020-10-28 18:11 dpdklab
0 siblings, 0 replies; 5+ messages in thread
From: dpdklab @ 2020-10-28 18:11 UTC (permalink / raw)
To: Test Report; +Cc: dpdk-test-reports
[-- Attachment #1: Type: text/plain, Size: 1915 bytes --]
Test-Label: iol-intel-Performance
Test-Status: SUCCESS
http://dpdk.org/patch/82676
_Performance Testing PASS_
Submitter: Tal Shnaiderman <talshn@nvidia.com>
Date: Wednesday, October 28 2020 17:10:40
DPDK git baseline: Repo:dpdk
Branch: master
CommitID:c3afd1cba69bd7a900fd63c02cc87fba8d74430a
82676 --> performance testing pass
Test environment and result as below:
Ubuntu 18.04
Kernel: 4.15.0-generic
Compiler: gcc 7.4
NIC: Intel Corporation Ethernet Converged Network Adapter XL710-QDA2 40000 Mbps
Target: x86_64-native-linuxapp-gcc
Fail/Total: 0/2
Detail performance results:
+------------+---------+-------------------------------------+
| frame_size | txd/rxd | throughput difference from expected |
+============+=========+=====================================+
| 64 | 512 | 2.691 |
+------------+---------+-------------------------------------+
| 64 | 2048 | 1.586 |
+------------+---------+-------------------------------------+
Ubuntu 18.04
Kernel: 4.15.0-generic
Compiler: gcc 7.4
NIC: Intel Corporation Ethernet Converged Network Adapter 82599ES 10000 Mbps
Target: x86_64-native-linuxapp-gcc
Fail/Total: 0/2
Detail performance results:
+------------+---------+-------------------------------------+
| frame_size | txd/rxd | throughput difference from expected |
+============+=========+=====================================+
| 64 | 512 | 1.975 |
+------------+---------+-------------------------------------+
| 64 | 2048 | 1.032 |
+------------+---------+-------------------------------------+
To view detailed results, visit:
https://lab.dpdk.org/results/dashboard/patchsets/14112/
UNH-IOL DPDK Community Lab
To manage your email subscriptions, visit:
https://lab.dpdk.org/results/dashboard/preferences/subscriptions/
^ permalink raw reply [flat|nested] 5+ messages in thread
* [dpdk-test-report] |SUCCESS| pw82676 [PATCH] mlx5/net: fix release of SQ resources in error flow
@ 2020-10-28 17:54 dpdklab
0 siblings, 0 replies; 5+ messages in thread
From: dpdklab @ 2020-10-28 17:54 UTC (permalink / raw)
To: Test Report; +Cc: dpdk-test-reports
[-- Attachment #1: Type: text/plain, Size: 1703 bytes --]
Test-Label: iol-testing
Test-Status: SUCCESS
http://dpdk.org/patch/82676
_Testing PASS_
Submitter: Tal Shnaiderman <talshn@nvidia.com>
Date: Wednesday, October 28 2020 17:10:40
DPDK git baseline: Repo:dpdk
Branch: master
CommitID:c3afd1cba69bd7a900fd63c02cc87fba8d74430a
82676 --> testing pass
Test environment and result as below:
+---------------------+--------------------+
| Environment | dpdk_meson_compile |
+=====================+====================+
| Windows Server 2019 | PASS |
+---------------------+--------------------+
| FreeBSD 11.2 | PASS |
+---------------------+--------------------+
| Ubuntu 18.04 | PASS |
+---------------------+--------------------+
| CentOS 8 | PASS |
+---------------------+--------------------+
| Fedora 31 | PASS |
+---------------------+--------------------+
| openSUSE Leap 15 | PASS |
+---------------------+--------------------+
| Arch Linux | PASS |
+---------------------+--------------------+
Windows Server 2019
Kernel: 10.0
Compiler: clang 9.0
FreeBSD 11.2
Kernel: 11.2
Compiler: gcc 8.3
Ubuntu 18.04
Kernel: 4.15.0-generic
Compiler: gcc 7.4
CentOS 8
Kernel: 4.18.0.el8_0
Compiler: gcc 8.3.1
Fedora 31
Kernel: 5.3.16
Compiler: gcc 9.2.1
openSUSE Leap 15
Kernel: 4.12.14
Compiler: gcc 7.4.1
Arch Linux
Kernel: latest
Compiler: gcc latest
To view detailed results, visit:
https://lab.dpdk.org/results/dashboard/patchsets/14112/
UNH-IOL DPDK Community Lab
To manage your email subscriptions, visit:
https://lab.dpdk.org/results/dashboard/preferences/subscriptions/
^ permalink raw reply [flat|nested] 5+ messages in thread
* [dpdk-test-report] |SUCCESS| pw82676 [PATCH] mlx5/net: fix release of SQ resources in error flow
@ 2020-10-28 17:50 dpdklab
0 siblings, 0 replies; 5+ messages in thread
From: dpdklab @ 2020-10-28 17:50 UTC (permalink / raw)
To: Test Report; +Cc: dpdk-test-reports
[-- Attachment #1: Type: text/plain, Size: 788 bytes --]
Test-Label: iol-intel-Functional
Test-Status: SUCCESS
http://dpdk.org/patch/82676
_Functional Testing PASS_
Submitter: Tal Shnaiderman <talshn@nvidia.com>
Date: Wednesday, October 28 2020 17:10:40
DPDK git baseline: Repo:dpdk
Branch: master
CommitID:c3afd1cba69bd7a900fd63c02cc87fba8d74430a
82676 --> functional testing pass
Test environment and result as below:
Ubuntu 18.04
Kernel: 4.15.0-generic
Compiler: gcc 7.4
NIC: Intel Corporation Ethernet Converged Network Adapter XL710-QDA2 40000 Mbps
Target: x86_64-native-linuxapp-gcc
Fail/Total: 0/3
To view detailed results, visit:
https://lab.dpdk.org/results/dashboard/patchsets/14112/
UNH-IOL DPDK Community Lab
To manage your email subscriptions, visit:
https://lab.dpdk.org/results/dashboard/preferences/subscriptions/
^ permalink raw reply [flat|nested] 5+ messages in thread
* [dpdk-test-report] |SUCCESS| pw82676 [PATCH] mlx5/net: fix release of SQ resources in error flow
[not found] <20201028171040.6476-1-talshn@nvidia.com>
@ 2020-10-28 17:12 ` checkpatch
0 siblings, 0 replies; 5+ messages in thread
From: checkpatch @ 2020-10-28 17:12 UTC (permalink / raw)
To: test-report
Test-Label: checkpatch
Test-Status: SUCCESS
http://dpdk.org/patch/82676
_coding style OK_
^ permalink raw reply [flat|nested] 5+ messages in thread
end of thread, other threads:[~2020-10-30 0:28 UTC | newest]
Thread overview: 5+ messages (download: mbox.gz / follow: Atom feed)
-- links below jump to the message on this page --
2020-10-30 0:28 [dpdk-test-report] |SUCCESS| pw82676 [PATCH] mlx5/net: fix release of SQ resources in error flow dpdklab
-- strict thread matches above, loose matches on Subject: below --
2020-10-28 18:11 dpdklab
2020-10-28 17:54 dpdklab
2020-10-28 17:50 dpdklab
[not found] <20201028171040.6476-1-talshn@nvidia.com>
2020-10-28 17:12 ` checkpatch
This is a public inbox, see mirroring instructions
for how to clone and mirror all data and code used for this inbox;
as well as URLs for NNTP newsgroup(s).