* [dpdk-test-report] |SUCCESS| pw83819 [PATCH] [1/1] build: align wording of non-support reasons
@ 2020-11-06 18:39 dpdklab
0 siblings, 0 replies; 7+ messages in thread
From: dpdklab @ 2020-11-06 18:39 UTC (permalink / raw)
To: Ajit Khaparde, Test Report; +Cc: dpdk-test-reports
[-- Attachment #1: Type: text/plain, Size: 793 bytes --]
Test-Label: iol-broadcom-Functional
Test-Status: SUCCESS
http://dpdk.org/patch/83819
_Functional Testing PASS_
Submitter: Thomas Monjalon <thomas@monjalon.net>
Date: Friday, November 06 2020 17:08:32
DPDK git baseline: Repo:dpdk
Branch: master
CommitID:60af9bd63dd46ebd709371e88b4096fd2bc048cf
83819 --> functional testing pass
Test environment and result as below:
Ubuntu 18.04
Kernel: 4.15.0-65-generic
Compiler: gcc gcc (Ubuntu 7.4.0-1ubuntu1~18.04.1) 7.4.0
NIC: Broadcom Inc. brcm_57414 25000 Mbps
Target: x86_64-native-linuxapp-gcc
Fail/Total: 0/3
To view detailed results, visit:
https://lab.dpdk.org/results/dashboard/patchsets/14355/
UNH-IOL DPDK Community Lab
To manage your email subscriptions, visit:
https://lab.dpdk.org/results/dashboard/preferences/subscriptions/
^ permalink raw reply [flat|nested] 7+ messages in thread
* [dpdk-test-report] |SUCCESS| pw83819 [PATCH] [1/1] build: align wording of non-support reasons
@ 2020-11-07 21:11 dpdklab
0 siblings, 0 replies; 7+ messages in thread
From: dpdklab @ 2020-11-07 21:11 UTC (permalink / raw)
To: Ali Alnubani, Test Report; +Cc: dpdk-test-reports
[-- Attachment #1: Type: text/plain, Size: 3965 bytes --]
Test-Label: iol-mellanox-Performance
Test-Status: SUCCESS
http://dpdk.org/patch/83819
_Performance Testing PASS_
Submitter: Thomas Monjalon <thomas@monjalon.net>
Date: Friday, November 06 2020 17:08:32
DPDK git baseline: Repo:dpdk
Branch: master
CommitID:60af9bd63dd46ebd709371e88b4096fd2bc048cf
83819 --> performance testing pass
Test environment and result as below:
Ubuntu 18.04
Kernel: 4.15.0-generic
Compiler: gcc 7.4
NIC: Mellanox ConnectX-5 100000 Mbps
Target: x86_64-native-linuxapp-gcc
Fail/Total: 0/6
Detail performance results:
+------------+---------+-------------------------------------+
| frame_size | txd/rxd | throughput difference from expected |
+============+=========+=====================================+
| 64 | 256 | -0.123 |
+------------+---------+-------------------------------------+
| 128 | 256 | -0.098 |
+------------+---------+-------------------------------------+
| 256 | 256 | 0.065 |
+------------+---------+-------------------------------------+
| 512 | 256 | 0.142 |
+------------+---------+-------------------------------------+
| 1024 | 256 | -0.097 |
+------------+---------+-------------------------------------+
| 1518 | 256 | -0.013 |
+------------+---------+-------------------------------------+
Ubuntu 18.04
Kernel: 4.15.0-generic
Compiler: gcc 7.4
NIC: Mellanox ConnectX-4 Lx 25000 Mbps
Target: x86_64-native-linuxapp-gcc
Fail/Total: 0/6
Detail performance results:
+------------+---------+-------------------------------------+
| frame_size | txd/rxd | throughput difference from expected |
+============+=========+=====================================+
| 64 | 256 | -0.065 |
+------------+---------+-------------------------------------+
| 128 | 256 | -0.102 |
+------------+---------+-------------------------------------+
| 256 | 256 | 0.083 |
+------------+---------+-------------------------------------+
| 512 | 256 | 0.032 |
+------------+---------+-------------------------------------+
| 1024 | 256 | -0.001 |
+------------+---------+-------------------------------------+
| 1518 | 256 | -0.007 |
+------------+---------+-------------------------------------+
Ubuntu 18.04
Kernel: 4.15.0-generic
Compiler: gcc 7.4
NIC: Mellanox ConnectX-4 Lx 40000 Mbps
Target: x86_64-native-linuxapp-gcc
Fail/Total: 0/6
Detail performance results:
+------------+---------+-------------------------------------+
| frame_size | txd/rxd | throughput difference from expected |
+============+=========+=====================================+
| 64 | 256 | 0.088 |
+------------+---------+-------------------------------------+
| 128 | 256 | 0.434 |
+------------+---------+-------------------------------------+
| 256 | 256 | 0.400 |
+------------+---------+-------------------------------------+
| 512 | 256 | -0.080 |
+------------+---------+-------------------------------------+
| 1024 | 256 | 0.021 |
+------------+---------+-------------------------------------+
| 1518 | 256 | 0 |
+------------+---------+-------------------------------------+
To view detailed results, visit:
https://lab.dpdk.org/results/dashboard/patchsets/14355/
UNH-IOL DPDK Community Lab
To manage your email subscriptions, visit:
https://lab.dpdk.org/results/dashboard/preferences/subscriptions/
^ permalink raw reply [flat|nested] 7+ messages in thread
* [dpdk-test-report] |SUCCESS| pw83819 [PATCH] [1/1] build: align wording of non-support reasons
@ 2020-11-06 18:50 dpdklab
0 siblings, 0 replies; 7+ messages in thread
From: dpdklab @ 2020-11-06 18:50 UTC (permalink / raw)
To: Test Report; +Cc: dpdk-test-reports
[-- Attachment #1: Type: text/plain, Size: 1261 bytes --]
Test-Label: iol-intel-Performance
Test-Status: SUCCESS
http://dpdk.org/patch/83819
_Performance Testing PASS_
Submitter: Thomas Monjalon <thomas@monjalon.net>
Date: Friday, November 06 2020 17:08:32
DPDK git baseline: Repo:dpdk
Branch: master
CommitID:60af9bd63dd46ebd709371e88b4096fd2bc048cf
83819 --> performance testing pass
Test environment and result as below:
Ubuntu 18.04
Kernel: 4.15.0-generic
Compiler: gcc 7.4
NIC: Intel Corporation Ethernet Converged Network Adapter XL710-QDA2 40000 Mbps
Target: x86_64-native-linuxapp-gcc
Fail/Total: 0/2
Detail performance results:
+------------+---------+-------------------------------------+
| frame_size | txd/rxd | throughput difference from expected |
+============+=========+=====================================+
| 64 | 512 | 2.850 |
+------------+---------+-------------------------------------+
| 64 | 2048 | 1.520 |
+------------+---------+-------------------------------------+
To view detailed results, visit:
https://lab.dpdk.org/results/dashboard/patchsets/14355/
UNH-IOL DPDK Community Lab
To manage your email subscriptions, visit:
https://lab.dpdk.org/results/dashboard/preferences/subscriptions/
^ permalink raw reply [flat|nested] 7+ messages in thread
* [dpdk-test-report] |SUCCESS| pw83819 [PATCH] [1/1] build: align wording of non-support reasons
@ 2020-11-06 18:45 dpdklab
0 siblings, 0 replies; 7+ messages in thread
From: dpdklab @ 2020-11-06 18:45 UTC (permalink / raw)
To: Test Report; +Cc: dpdk-test-reports
[-- Attachment #1: Type: text/plain, Size: 1992 bytes --]
Test-Label: iol-testing
Test-Status: SUCCESS
http://dpdk.org/patch/83819
_Testing PASS_
Submitter: Thomas Monjalon <thomas@monjalon.net>
Date: Friday, November 06 2020 17:08:32
DPDK git baseline: Repo:dpdk
Branch: master
CommitID:60af9bd63dd46ebd709371e88b4096fd2bc048cf
83819 --> testing pass
Test environment and result as below:
+---------------------+--------------------+----------------+
| Environment | dpdk_meson_compile | dpdk_unit_test |
+=====================+====================+================+
| Windows Server 2019 | PASS | SKIPPED |
+---------------------+--------------------+----------------+
| FreeBSD 11.2 | PASS | SKIPPED |
+---------------------+--------------------+----------------+
| CentOS 8 | PASS | SKIPPED |
+---------------------+--------------------+----------------+
| Ubuntu 18.04 | PASS | PASS |
+---------------------+--------------------+----------------+
| Fedora 31 | PASS | SKIPPED |
+---------------------+--------------------+----------------+
| openSUSE Leap 15 | PASS | SKIPPED |
+---------------------+--------------------+----------------+
| Arch Linux | PASS | SKIPPED |
+---------------------+--------------------+----------------+
Windows Server 2019
Kernel: 10.0
Compiler: clang 9.0
FreeBSD 11.2
Kernel: 11.2
Compiler: gcc 8.3
CentOS 8
Kernel: 4.18.0.el8_0
Compiler: gcc 8.3.1
Ubuntu 18.04
Kernel: 4.15.0-generic
Compiler: gcc 7.5
Fedora 31
Kernel: 5.3.16
Compiler: gcc 9.2.1
openSUSE Leap 15
Kernel: 4.12.14
Compiler: gcc 7.4.1
Arch Linux
Kernel: latest
Compiler: gcc latest
To view detailed results, visit:
https://lab.dpdk.org/results/dashboard/patchsets/14355/
UNH-IOL DPDK Community Lab
To manage your email subscriptions, visit:
https://lab.dpdk.org/results/dashboard/preferences/subscriptions/
^ permalink raw reply [flat|nested] 7+ messages in thread
* [dpdk-test-report] |SUCCESS| pw83819 [PATCH] [1/1] build: align wording of non-support reasons
@ 2020-11-06 18:36 dpdklab
0 siblings, 0 replies; 7+ messages in thread
From: dpdklab @ 2020-11-06 18:36 UTC (permalink / raw)
To: Test Report; +Cc: dpdk-test-reports
[-- Attachment #1: Type: text/plain, Size: 788 bytes --]
Test-Label: iol-intel-Functional
Test-Status: SUCCESS
http://dpdk.org/patch/83819
_Functional Testing PASS_
Submitter: Thomas Monjalon <thomas@monjalon.net>
Date: Friday, November 06 2020 17:08:32
DPDK git baseline: Repo:dpdk
Branch: master
CommitID:60af9bd63dd46ebd709371e88b4096fd2bc048cf
83819 --> functional testing pass
Test environment and result as below:
Ubuntu 18.04
Kernel: 4.15.0-generic
Compiler: gcc 7.4
NIC: Intel Corporation Ethernet Converged Network Adapter XL710-QDA2 40000 Mbps
Target: x86_64-native-linuxapp-gcc
Fail/Total: 0/3
To view detailed results, visit:
https://lab.dpdk.org/results/dashboard/patchsets/14355/
UNH-IOL DPDK Community Lab
To manage your email subscriptions, visit:
https://lab.dpdk.org/results/dashboard/preferences/subscriptions/
^ permalink raw reply [flat|nested] 7+ messages in thread
* [dpdk-test-report] |SUCCESS| pw83819 [PATCH] [1/1] build: align wording of non-support reasons
@ 2020-11-06 18:31 dpdklab
0 siblings, 0 replies; 7+ messages in thread
From: dpdklab @ 2020-11-06 18:31 UTC (permalink / raw)
To: Ajit Khaparde, Test Report; +Cc: dpdk-test-reports
[-- Attachment #1: Type: text/plain, Size: 1266 bytes --]
Test-Label: iol-broadcom-Performance
Test-Status: SUCCESS
http://dpdk.org/patch/83819
_Performance Testing PASS_
Submitter: Thomas Monjalon <thomas@monjalon.net>
Date: Friday, November 06 2020 17:08:32
DPDK git baseline: Repo:dpdk
Branch: master
CommitID:60af9bd63dd46ebd709371e88b4096fd2bc048cf
83819 --> performance testing pass
Test environment and result as below:
Ubuntu 18.04
Kernel: 4.15.0-65-generic
Compiler: gcc gcc (Ubuntu 7.4.0-1ubuntu1~18.04.1) 7.4.0
NIC: Broadcom Inc. brcm_57414 25000 Mbps
Target: x86_64-native-linuxapp-gcc
Fail/Total: 0/2
Detail performance results:
+------------+---------+-------------------------------------+
| frame_size | txd/rxd | throughput difference from expected |
+============+=========+=====================================+
| 64 | 512 | 0.009 |
+------------+---------+-------------------------------------+
| 64 | 2048 | 0.021 |
+------------+---------+-------------------------------------+
To view detailed results, visit:
https://lab.dpdk.org/results/dashboard/patchsets/14355/
UNH-IOL DPDK Community Lab
To manage your email subscriptions, visit:
https://lab.dpdk.org/results/dashboard/preferences/subscriptions/
^ permalink raw reply [flat|nested] 7+ messages in thread
[parent not found: <20201106170833.234029-1-thomas@monjalon.net>]
end of thread, other threads:[~2020-11-07 21:11 UTC | newest]
Thread overview: 7+ messages (download: mbox.gz / follow: Atom feed)
-- links below jump to the message on this page --
2020-11-06 18:39 [dpdk-test-report] |SUCCESS| pw83819 [PATCH] [1/1] build: align wording of non-support reasons dpdklab
-- strict thread matches above, loose matches on Subject: below --
2020-11-07 21:11 dpdklab
2020-11-06 18:50 dpdklab
2020-11-06 18:45 dpdklab
2020-11-06 18:36 dpdklab
2020-11-06 18:31 dpdklab
[not found] <20201106170833.234029-1-thomas@monjalon.net>
2020-11-06 17:09 ` [dpdk-test-report] |SUCCESS| pw83819 [PATCH 1/1] " checkpatch
This is a public inbox, see mirroring instructions
for how to clone and mirror all data and code used for this inbox;
as well as URLs for NNTP newsgroup(s).