* [dpdk-test-report] |SUCCESS| pw84007 [PATCH v1] net/txgbe: offset needs to be initialised to fix gcc compile error
[not found] <20201111130542.1949894-1-conor.walsh@intel.com>
@ 2020-11-11 13:06 ` checkpatch
2020-11-11 15:27 ` [dpdk-test-report] |SUCCESS| pw84007 " 0-day Robot
1 sibling, 0 replies; 8+ messages in thread
From: checkpatch @ 2020-11-11 13:06 UTC (permalink / raw)
To: test-report
Test-Label: checkpatch
Test-Status: SUCCESS
http://dpdk.org/patch/84007
_coding style OK_
^ permalink raw reply [flat|nested] 8+ messages in thread
* [dpdk-test-report] |SUCCESS| pw84007 net/txgbe: offset needs to be initialised to fix gcc compile error
[not found] <20201111130542.1949894-1-conor.walsh@intel.com>
2020-11-11 13:06 ` [dpdk-test-report] |SUCCESS| pw84007 [PATCH v1] net/txgbe: offset needs to be initialised to fix gcc compile error checkpatch
@ 2020-11-11 15:27 ` 0-day Robot
1 sibling, 0 replies; 8+ messages in thread
From: 0-day Robot @ 2020-11-11 15:27 UTC (permalink / raw)
To: test-report; +Cc: robot
From: robot@bytheb.org
Test-Label: travis-robot
Test-Status: SUCCESS
http://dpdk.org/patch/84007
_Travis build: passed_
Build URL: https://travis-ci.com/ovsrobot/dpdk/builds/200002523
^ permalink raw reply [flat|nested] 8+ messages in thread
* [dpdk-test-report] |SUCCESS| pw84007 [PATCH] [v1] net/txgbe: offset needs to be initialised to fix gcc compile error
@ 2020-11-11 19:01 dpdklab
0 siblings, 0 replies; 8+ messages in thread
From: dpdklab @ 2020-11-11 19:01 UTC (permalink / raw)
To: Test Report; +Cc: dpdk-test-reports
[-- Attachment #1: Type: text/plain, Size: 973 bytes --]
Test-Label: iol-intel-Functional
Test-Status: SUCCESS
http://dpdk.org/patch/84007
_Functional Testing PASS_
Submitter: Conor Walsh <conor.walsh@intel.com>
Date: Wednesday, November 11 2020 13:05:42
DPDK git baseline: Repo:dpdk
Branch: master
CommitID:a8adac0bc098dad9ca7f7977b6204b29669244e8
84007 --> functional testing pass
Test environment and result as below:
Ubuntu 18.04
Kernel: 4.15.0-generic
Compiler: gcc 7.4
NIC: Intel Corporation Ethernet Converged Network Adapter XL710-QDA2 40000 Mbps
Target: x86_64-native-linuxapp-gcc
Fail/Total: 0/3
Ubuntu 18.04
Kernel: 4.15.0-generic
Compiler: gcc 7.4
NIC: Intel Corporation Ethernet Converged Network Adapter 82599ES 10000 Mbps
Target: x86_64-native-linuxapp-gcc
Fail/Total: 0/5
To view detailed results, visit:
https://lab.dpdk.org/results/dashboard/patchsets/14428/
UNH-IOL DPDK Community Lab
To manage your email subscriptions, visit:
https://lab.dpdk.org/results/dashboard/preferences/subscriptions/
^ permalink raw reply [flat|nested] 8+ messages in thread
* [dpdk-test-report] |SUCCESS| pw84007 [PATCH] [v1] net/txgbe: offset needs to be initialised to fix gcc compile error
@ 2020-11-11 18:37 dpdklab
0 siblings, 0 replies; 8+ messages in thread
From: dpdklab @ 2020-11-11 18:37 UTC (permalink / raw)
To: Ali Alnubani, Test Report; +Cc: dpdk-test-reports
[-- Attachment #1: Type: text/plain, Size: 3966 bytes --]
Test-Label: iol-mellanox-Performance
Test-Status: SUCCESS
http://dpdk.org/patch/84007
_Performance Testing PASS_
Submitter: Conor Walsh <conor.walsh@intel.com>
Date: Wednesday, November 11 2020 13:05:42
DPDK git baseline: Repo:dpdk
Branch: master
CommitID:a8adac0bc098dad9ca7f7977b6204b29669244e8
84007 --> performance testing pass
Test environment and result as below:
Ubuntu 18.04
Kernel: 4.15.0-generic
Compiler: gcc 7.4
NIC: Mellanox ConnectX-5 100000 Mbps
Target: x86_64-native-linuxapp-gcc
Fail/Total: 0/6
Detail performance results:
+------------+---------+-------------------------------------+
| frame_size | txd/rxd | throughput difference from expected |
+============+=========+=====================================+
| 64 | 256 | -0.059 |
+------------+---------+-------------------------------------+
| 128 | 256 | -0.053 |
+------------+---------+-------------------------------------+
| 256 | 256 | 0.094 |
+------------+---------+-------------------------------------+
| 512 | 256 | 0.026 |
+------------+---------+-------------------------------------+
| 1024 | 256 | -0.009 |
+------------+---------+-------------------------------------+
| 1518 | 256 | -0.006 |
+------------+---------+-------------------------------------+
Ubuntu 18.04
Kernel: 4.15.0-generic
Compiler: gcc 7.4
NIC: Mellanox ConnectX-4 Lx 25000 Mbps
Target: x86_64-native-linuxapp-gcc
Fail/Total: 0/6
Detail performance results:
+------------+---------+-------------------------------------+
| frame_size | txd/rxd | throughput difference from expected |
+============+=========+=====================================+
| 64 | 256 | 0.192 |
+------------+---------+-------------------------------------+
| 128 | 256 | -0.055 |
+------------+---------+-------------------------------------+
| 256 | 256 | -0.034 |
+------------+---------+-------------------------------------+
| 512 | 256 | 0.086 |
+------------+---------+-------------------------------------+
| 1024 | 256 | -0.008 |
+------------+---------+-------------------------------------+
| 1518 | 256 | -0.001 |
+------------+---------+-------------------------------------+
Ubuntu 18.04
Kernel: 4.15.0-generic
Compiler: gcc 7.4
NIC: Mellanox ConnectX-4 Lx 40000 Mbps
Target: x86_64-native-linuxapp-gcc
Fail/Total: 0/6
Detail performance results:
+------------+---------+-------------------------------------+
| frame_size | txd/rxd | throughput difference from expected |
+============+=========+=====================================+
| 64 | 256 | -0.035 |
+------------+---------+-------------------------------------+
| 128 | 256 | 0.103 |
+------------+---------+-------------------------------------+
| 256 | 256 | -0.644 |
+------------+---------+-------------------------------------+
| 512 | 256 | 0.058 |
+------------+---------+-------------------------------------+
| 1024 | 256 | -0.001 |
+------------+---------+-------------------------------------+
| 1518 | 256 | -0.003 |
+------------+---------+-------------------------------------+
To view detailed results, visit:
https://lab.dpdk.org/results/dashboard/patchsets/14428/
UNH-IOL DPDK Community Lab
To manage your email subscriptions, visit:
https://lab.dpdk.org/results/dashboard/preferences/subscriptions/
^ permalink raw reply [flat|nested] 8+ messages in thread
* [dpdk-test-report] |SUCCESS| pw84007 [PATCH] [v1] net/txgbe: offset needs to be initialised to fix gcc compile error
@ 2020-11-11 13:57 dpdklab
0 siblings, 0 replies; 8+ messages in thread
From: dpdklab @ 2020-11-11 13:57 UTC (permalink / raw)
To: Test Report; +Cc: dpdk-test-reports
[-- Attachment #1: Type: text/plain, Size: 1262 bytes --]
Test-Label: iol-intel-Performance
Test-Status: SUCCESS
http://dpdk.org/patch/84007
_Performance Testing PASS_
Submitter: Conor Walsh <conor.walsh@intel.com>
Date: Wednesday, November 11 2020 13:05:42
DPDK git baseline: Repo:dpdk
Branch: master
CommitID:a8adac0bc098dad9ca7f7977b6204b29669244e8
84007 --> performance testing pass
Test environment and result as below:
Ubuntu 18.04
Kernel: 4.15.0-generic
Compiler: gcc 7.4
NIC: Intel Corporation Ethernet Converged Network Adapter XL710-QDA2 40000 Mbps
Target: x86_64-native-linuxapp-gcc
Fail/Total: 0/2
Detail performance results:
+------------+---------+-------------------------------------+
| frame_size | txd/rxd | throughput difference from expected |
+============+=========+=====================================+
| 64 | 512 | 2.826 |
+------------+---------+-------------------------------------+
| 64 | 2048 | 1.372 |
+------------+---------+-------------------------------------+
To view detailed results, visit:
https://lab.dpdk.org/results/dashboard/patchsets/14428/
UNH-IOL DPDK Community Lab
To manage your email subscriptions, visit:
https://lab.dpdk.org/results/dashboard/preferences/subscriptions/
^ permalink raw reply [flat|nested] 8+ messages in thread
* [dpdk-test-report] |SUCCESS| pw84007 [PATCH] [v1] net/txgbe: offset needs to be initialised to fix gcc compile error
@ 2020-11-11 13:56 dpdklab
0 siblings, 0 replies; 8+ messages in thread
From: dpdklab @ 2020-11-11 13:56 UTC (permalink / raw)
To: Test Report; +Cc: dpdk-test-reports
[-- Attachment #1: Type: text/plain, Size: 1993 bytes --]
Test-Label: iol-testing
Test-Status: SUCCESS
http://dpdk.org/patch/84007
_Testing PASS_
Submitter: Conor Walsh <conor.walsh@intel.com>
Date: Wednesday, November 11 2020 13:05:42
DPDK git baseline: Repo:dpdk
Branch: master
CommitID:a8adac0bc098dad9ca7f7977b6204b29669244e8
84007 --> testing pass
Test environment and result as below:
+---------------------+--------------------+----------------+
| Environment | dpdk_meson_compile | dpdk_unit_test |
+=====================+====================+================+
| Windows Server 2019 | PASS | SKIPPED |
+---------------------+--------------------+----------------+
| CentOS 8 | PASS | SKIPPED |
+---------------------+--------------------+----------------+
| FreeBSD 11.2 | PASS | SKIPPED |
+---------------------+--------------------+----------------+
| Fedora 31 | PASS | SKIPPED |
+---------------------+--------------------+----------------+
| Ubuntu 18.04 | PASS | PASS |
+---------------------+--------------------+----------------+
| openSUSE Leap 15 | PASS | SKIPPED |
+---------------------+--------------------+----------------+
| Arch Linux | PASS | SKIPPED |
+---------------------+--------------------+----------------+
Windows Server 2019
Kernel: 10.0
Compiler: clang 9.0
CentOS 8
Kernel: 4.18.0.el8_0
Compiler: gcc 8.3.1
FreeBSD 11.2
Kernel: 11.2
Compiler: gcc 8.3
Fedora 31
Kernel: 5.3.16
Compiler: gcc 9.2.1
Ubuntu 18.04
Kernel: 4.15.0-generic
Compiler: gcc 7.5
openSUSE Leap 15
Kernel: 4.12.14
Compiler: gcc 7.4.1
Arch Linux
Kernel: latest
Compiler: gcc latest
To view detailed results, visit:
https://lab.dpdk.org/results/dashboard/patchsets/14428/
UNH-IOL DPDK Community Lab
To manage your email subscriptions, visit:
https://lab.dpdk.org/results/dashboard/preferences/subscriptions/
^ permalink raw reply [flat|nested] 8+ messages in thread
* [dpdk-test-report] |SUCCESS| pw84007 [PATCH] [v1] net/txgbe: offset needs to be initialised to fix gcc compile error
@ 2020-11-11 13:55 dpdklab
0 siblings, 0 replies; 8+ messages in thread
From: dpdklab @ 2020-11-11 13:55 UTC (permalink / raw)
To: Ajit Khaparde, Test Report; +Cc: dpdk-test-reports
[-- Attachment #1: Type: text/plain, Size: 1267 bytes --]
Test-Label: iol-broadcom-Performance
Test-Status: SUCCESS
http://dpdk.org/patch/84007
_Performance Testing PASS_
Submitter: Conor Walsh <conor.walsh@intel.com>
Date: Wednesday, November 11 2020 13:05:42
DPDK git baseline: Repo:dpdk
Branch: master
CommitID:a8adac0bc098dad9ca7f7977b6204b29669244e8
84007 --> performance testing pass
Test environment and result as below:
Ubuntu 18.04
Kernel: 4.15.0-65-generic
Compiler: gcc gcc (Ubuntu 7.4.0-1ubuntu1~18.04.1) 7.4.0
NIC: Broadcom Inc. brcm_57414 25000 Mbps
Target: x86_64-native-linuxapp-gcc
Fail/Total: 0/2
Detail performance results:
+------------+---------+-------------------------------------+
| frame_size | txd/rxd | throughput difference from expected |
+============+=========+=====================================+
| 64 | 512 | 0.090 |
+------------+---------+-------------------------------------+
| 64 | 2048 | -0.019 |
+------------+---------+-------------------------------------+
To view detailed results, visit:
https://lab.dpdk.org/results/dashboard/patchsets/14428/
UNH-IOL DPDK Community Lab
To manage your email subscriptions, visit:
https://lab.dpdk.org/results/dashboard/preferences/subscriptions/
^ permalink raw reply [flat|nested] 8+ messages in thread
* [dpdk-test-report] |SUCCESS| pw84007 [PATCH] [v1] net/txgbe: offset needs to be initialised to fix gcc compile error
@ 2020-11-11 13:50 dpdklab
0 siblings, 0 replies; 8+ messages in thread
From: dpdklab @ 2020-11-11 13:50 UTC (permalink / raw)
To: Ajit Khaparde, Test Report; +Cc: dpdk-test-reports
[-- Attachment #1: Type: text/plain, Size: 794 bytes --]
Test-Label: iol-broadcom-Functional
Test-Status: SUCCESS
http://dpdk.org/patch/84007
_Functional Testing PASS_
Submitter: Conor Walsh <conor.walsh@intel.com>
Date: Wednesday, November 11 2020 13:05:42
DPDK git baseline: Repo:dpdk
Branch: master
CommitID:a8adac0bc098dad9ca7f7977b6204b29669244e8
84007 --> functional testing pass
Test environment and result as below:
Ubuntu 18.04
Kernel: 4.15.0-65-generic
Compiler: gcc gcc (Ubuntu 7.4.0-1ubuntu1~18.04.1) 7.4.0
NIC: Broadcom Inc. brcm_57414 25000 Mbps
Target: x86_64-native-linuxapp-gcc
Fail/Total: 0/3
To view detailed results, visit:
https://lab.dpdk.org/results/dashboard/patchsets/14428/
UNH-IOL DPDK Community Lab
To manage your email subscriptions, visit:
https://lab.dpdk.org/results/dashboard/preferences/subscriptions/
^ permalink raw reply [flat|nested] 8+ messages in thread
end of thread, other threads:[~2020-11-11 19:01 UTC | newest]
Thread overview: 8+ messages (download: mbox.gz / follow: Atom feed)
-- links below jump to the message on this page --
[not found] <20201111130542.1949894-1-conor.walsh@intel.com>
2020-11-11 13:06 ` [dpdk-test-report] |SUCCESS| pw84007 [PATCH v1] net/txgbe: offset needs to be initialised to fix gcc compile error checkpatch
2020-11-11 15:27 ` [dpdk-test-report] |SUCCESS| pw84007 " 0-day Robot
2020-11-11 13:50 [dpdk-test-report] |SUCCESS| pw84007 [PATCH] [v1] " dpdklab
2020-11-11 13:55 dpdklab
2020-11-11 13:56 dpdklab
2020-11-11 13:57 dpdklab
2020-11-11 18:37 dpdklab
2020-11-11 19:01 dpdklab
This is a public inbox, see mirroring instructions
for how to clone and mirror all data and code used for this inbox;
as well as URLs for NNTP newsgroup(s).