* [dpdk-test-report] |SUCCESS| pw84033 [PATCH] event/dlb: do not free memzone if port create succeeds
@ 2020-11-11 21:30 dpdklab
0 siblings, 0 replies; 7+ messages in thread
From: dpdklab @ 2020-11-11 21:30 UTC (permalink / raw)
To: Test Report; +Cc: dpdk-test-reports
[-- Attachment #1: Type: text/plain, Size: 1273 bytes --]
Test-Label: iol-intel-Performance
Test-Status: SUCCESS
http://dpdk.org/patch/84033
_Performance Testing PASS_
Submitter: McDaniel, Timothy <timothy.mcdaniel@intel.com>
Date: Wednesday, November 11 2020 20:27:01
DPDK git baseline: Repo:dpdk
Branch: master
CommitID:a8adac0bc098dad9ca7f7977b6204b29669244e8
84033 --> performance testing pass
Test environment and result as below:
Ubuntu 18.04
Kernel: 4.15.0-generic
Compiler: gcc 7.4
NIC: Intel Corporation Ethernet Converged Network Adapter XL710-QDA2 40000 Mbps
Target: x86_64-native-linuxapp-gcc
Fail/Total: 0/2
Detail performance results:
+------------+---------+-------------------------------------+
| frame_size | txd/rxd | throughput difference from expected |
+============+=========+=====================================+
| 64 | 512 | 2.851 |
+------------+---------+-------------------------------------+
| 64 | 2048 | 1.383 |
+------------+---------+-------------------------------------+
To view detailed results, visit:
https://lab.dpdk.org/results/dashboard/patchsets/14436/
UNH-IOL DPDK Community Lab
To manage your email subscriptions, visit:
https://lab.dpdk.org/results/dashboard/preferences/subscriptions/
^ permalink raw reply [flat|nested] 7+ messages in thread
* [dpdk-test-report] |SUCCESS| pw84033 [PATCH] event/dlb: do not free memzone if port create succeeds
@ 2020-11-12 0:09 dpdklab
0 siblings, 0 replies; 7+ messages in thread
From: dpdklab @ 2020-11-12 0:09 UTC (permalink / raw)
To: Ali Alnubani, Test Report; +Cc: dpdk-test-reports
[-- Attachment #1: Type: text/plain, Size: 3977 bytes --]
Test-Label: iol-mellanox-Performance
Test-Status: SUCCESS
http://dpdk.org/patch/84033
_Performance Testing PASS_
Submitter: McDaniel, Timothy <timothy.mcdaniel@intel.com>
Date: Wednesday, November 11 2020 20:27:01
DPDK git baseline: Repo:dpdk
Branch: master
CommitID:a8adac0bc098dad9ca7f7977b6204b29669244e8
84033 --> performance testing pass
Test environment and result as below:
Ubuntu 18.04
Kernel: 4.15.0-generic
Compiler: gcc 7.4
NIC: Mellanox ConnectX-5 100000 Mbps
Target: x86_64-native-linuxapp-gcc
Fail/Total: 0/6
Detail performance results:
+------------+---------+-------------------------------------+
| frame_size | txd/rxd | throughput difference from expected |
+============+=========+=====================================+
| 64 | 256 | -0.171 |
+------------+---------+-------------------------------------+
| 128 | 256 | 0.039 |
+------------+---------+-------------------------------------+
| 256 | 256 | 0.059 |
+------------+---------+-------------------------------------+
| 512 | 256 | 0.180 |
+------------+---------+-------------------------------------+
| 1024 | 256 | -0.042 |
+------------+---------+-------------------------------------+
| 1518 | 256 | -0.028 |
+------------+---------+-------------------------------------+
Ubuntu 18.04
Kernel: 4.15.0-generic
Compiler: gcc 7.4
NIC: Mellanox ConnectX-4 Lx 25000 Mbps
Target: x86_64-native-linuxapp-gcc
Fail/Total: 0/6
Detail performance results:
+------------+---------+-------------------------------------+
| frame_size | txd/rxd | throughput difference from expected |
+============+=========+=====================================+
| 64 | 256 | -0.079 |
+------------+---------+-------------------------------------+
| 128 | 256 | 0 |
+------------+---------+-------------------------------------+
| 256 | 256 | -0.127 |
+------------+---------+-------------------------------------+
| 512 | 256 | 0.007 |
+------------+---------+-------------------------------------+
| 1024 | 256 | -0.019 |
+------------+---------+-------------------------------------+
| 1518 | 256 | 0 |
+------------+---------+-------------------------------------+
Ubuntu 18.04
Kernel: 4.15.0-generic
Compiler: gcc 7.4
NIC: Mellanox ConnectX-4 Lx 40000 Mbps
Target: x86_64-native-linuxapp-gcc
Fail/Total: 0/6
Detail performance results:
+------------+---------+-------------------------------------+
| frame_size | txd/rxd | throughput difference from expected |
+============+=========+=====================================+
| 64 | 256 | -0.028 |
+------------+---------+-------------------------------------+
| 128 | 256 | 0.112 |
+------------+---------+-------------------------------------+
| 256 | 256 | -0.365 |
+------------+---------+-------------------------------------+
| 512 | 256 | 0.024 |
+------------+---------+-------------------------------------+
| 1024 | 256 | -0.003 |
+------------+---------+-------------------------------------+
| 1518 | 256 | 0.003 |
+------------+---------+-------------------------------------+
To view detailed results, visit:
https://lab.dpdk.org/results/dashboard/patchsets/14436/
UNH-IOL DPDK Community Lab
To manage your email subscriptions, visit:
https://lab.dpdk.org/results/dashboard/preferences/subscriptions/
^ permalink raw reply [flat|nested] 7+ messages in thread
* [dpdk-test-report] |SUCCESS| pw84033 [PATCH] event/dlb: do not free memzone if port create succeeds
@ 2020-11-11 21:54 dpdklab
0 siblings, 0 replies; 7+ messages in thread
From: dpdklab @ 2020-11-11 21:54 UTC (permalink / raw)
To: Test Report; +Cc: dpdk-test-reports
[-- Attachment #1: Type: text/plain, Size: 984 bytes --]
Test-Label: iol-intel-Functional
Test-Status: SUCCESS
http://dpdk.org/patch/84033
_Functional Testing PASS_
Submitter: McDaniel, Timothy <timothy.mcdaniel@intel.com>
Date: Wednesday, November 11 2020 20:27:01
DPDK git baseline: Repo:dpdk
Branch: master
CommitID:a8adac0bc098dad9ca7f7977b6204b29669244e8
84033 --> functional testing pass
Test environment and result as below:
Ubuntu 18.04
Kernel: 4.15.0-generic
Compiler: gcc 7.4
NIC: Intel Corporation Ethernet Converged Network Adapter XL710-QDA2 40000 Mbps
Target: x86_64-native-linuxapp-gcc
Fail/Total: 0/3
Ubuntu 18.04
Kernel: 4.15.0-generic
Compiler: gcc 7.4
NIC: Intel Corporation Ethernet Converged Network Adapter 82599ES 10000 Mbps
Target: x86_64-native-linuxapp-gcc
Fail/Total: 0/5
To view detailed results, visit:
https://lab.dpdk.org/results/dashboard/patchsets/14436/
UNH-IOL DPDK Community Lab
To manage your email subscriptions, visit:
https://lab.dpdk.org/results/dashboard/preferences/subscriptions/
^ permalink raw reply [flat|nested] 7+ messages in thread
* [dpdk-test-report] |SUCCESS| pw84033 [PATCH] event/dlb: do not free memzone if port create succeeds
@ 2020-11-11 21:29 dpdklab
0 siblings, 0 replies; 7+ messages in thread
From: dpdklab @ 2020-11-11 21:29 UTC (permalink / raw)
To: Test Report; +Cc: dpdk-test-reports
[-- Attachment #1: Type: text/plain, Size: 2004 bytes --]
Test-Label: iol-testing
Test-Status: SUCCESS
http://dpdk.org/patch/84033
_Testing PASS_
Submitter: McDaniel, Timothy <timothy.mcdaniel@intel.com>
Date: Wednesday, November 11 2020 20:27:01
DPDK git baseline: Repo:dpdk
Branch: master
CommitID:a8adac0bc098dad9ca7f7977b6204b29669244e8
84033 --> testing pass
Test environment and result as below:
+---------------------+--------------------+----------------+
| Environment | dpdk_meson_compile | dpdk_unit_test |
+=====================+====================+================+
| Windows Server 2019 | PASS | SKIPPED |
+---------------------+--------------------+----------------+
| FreeBSD 11.2 | PASS | SKIPPED |
+---------------------+--------------------+----------------+
| Ubuntu 18.04 | PASS | PASS |
+---------------------+--------------------+----------------+
| Fedora 31 | PASS | SKIPPED |
+---------------------+--------------------+----------------+
| CentOS 8 | PASS | SKIPPED |
+---------------------+--------------------+----------------+
| openSUSE Leap 15 | PASS | SKIPPED |
+---------------------+--------------------+----------------+
| Arch Linux | PASS | SKIPPED |
+---------------------+--------------------+----------------+
Windows Server 2019
Kernel: 10.0
Compiler: clang 9.0
FreeBSD 11.2
Kernel: 11.2
Compiler: gcc 8.3
Ubuntu 18.04
Kernel: 4.15.0-generic
Compiler: gcc 7.5
Fedora 31
Kernel: 5.3.16
Compiler: gcc 9.2.1
CentOS 8
Kernel: 4.18.0.el8_0
Compiler: gcc 8.3.1
openSUSE Leap 15
Kernel: 4.12.14
Compiler: gcc 7.4.1
Arch Linux
Kernel: latest
Compiler: gcc latest
To view detailed results, visit:
https://lab.dpdk.org/results/dashboard/patchsets/14436/
UNH-IOL DPDK Community Lab
To manage your email subscriptions, visit:
https://lab.dpdk.org/results/dashboard/preferences/subscriptions/
^ permalink raw reply [flat|nested] 7+ messages in thread
* [dpdk-test-report] |SUCCESS| pw84033 [PATCH] event/dlb: do not free memzone if port create succeeds
@ 2020-11-11 21:20 dpdklab
0 siblings, 0 replies; 7+ messages in thread
From: dpdklab @ 2020-11-11 21:20 UTC (permalink / raw)
To: Ajit Khaparde, Test Report; +Cc: dpdk-test-reports
[-- Attachment #1: Type: text/plain, Size: 1278 bytes --]
Test-Label: iol-broadcom-Performance
Test-Status: SUCCESS
http://dpdk.org/patch/84033
_Performance Testing PASS_
Submitter: McDaniel, Timothy <timothy.mcdaniel@intel.com>
Date: Wednesday, November 11 2020 20:27:01
DPDK git baseline: Repo:dpdk
Branch: master
CommitID:a8adac0bc098dad9ca7f7977b6204b29669244e8
84033 --> performance testing pass
Test environment and result as below:
Ubuntu 18.04
Kernel: 4.15.0-65-generic
Compiler: gcc gcc (Ubuntu 7.4.0-1ubuntu1~18.04.1) 7.4.0
NIC: Broadcom Inc. brcm_57414 25000 Mbps
Target: x86_64-native-linuxapp-gcc
Fail/Total: 0/2
Detail performance results:
+------------+---------+-------------------------------------+
| frame_size | txd/rxd | throughput difference from expected |
+============+=========+=====================================+
| 64 | 512 | 0.091 |
+------------+---------+-------------------------------------+
| 64 | 2048 | -0.039 |
+------------+---------+-------------------------------------+
To view detailed results, visit:
https://lab.dpdk.org/results/dashboard/patchsets/14436/
UNH-IOL DPDK Community Lab
To manage your email subscriptions, visit:
https://lab.dpdk.org/results/dashboard/preferences/subscriptions/
^ permalink raw reply [flat|nested] 7+ messages in thread
* [dpdk-test-report] |SUCCESS| pw84033 [PATCH] event/dlb: do not free memzone if port create succeeds
@ 2020-11-11 21:14 dpdklab
0 siblings, 0 replies; 7+ messages in thread
From: dpdklab @ 2020-11-11 21:14 UTC (permalink / raw)
To: Ajit Khaparde, Test Report; +Cc: dpdk-test-reports
[-- Attachment #1: Type: text/plain, Size: 805 bytes --]
Test-Label: iol-broadcom-Functional
Test-Status: SUCCESS
http://dpdk.org/patch/84033
_Functional Testing PASS_
Submitter: McDaniel, Timothy <timothy.mcdaniel@intel.com>
Date: Wednesday, November 11 2020 20:27:01
DPDK git baseline: Repo:dpdk
Branch: master
CommitID:a8adac0bc098dad9ca7f7977b6204b29669244e8
84033 --> functional testing pass
Test environment and result as below:
Ubuntu 18.04
Kernel: 4.15.0-65-generic
Compiler: gcc gcc (Ubuntu 7.4.0-1ubuntu1~18.04.1) 7.4.0
NIC: Broadcom Inc. brcm_57414 25000 Mbps
Target: x86_64-native-linuxapp-gcc
Fail/Total: 0/3
To view detailed results, visit:
https://lab.dpdk.org/results/dashboard/patchsets/14436/
UNH-IOL DPDK Community Lab
To manage your email subscriptions, visit:
https://lab.dpdk.org/results/dashboard/preferences/subscriptions/
^ permalink raw reply [flat|nested] 7+ messages in thread
* [dpdk-test-report] |SUCCESS| pw84033 [PATCH] event/dlb: do not free memzone if port create succeeds
[not found] <1605126422-522-3-git-send-email-timothy.mcdaniel@intel.com>
@ 2020-11-11 20:27 ` checkpatch
0 siblings, 0 replies; 7+ messages in thread
From: checkpatch @ 2020-11-11 20:27 UTC (permalink / raw)
To: test-report
Test-Label: checkpatch
Test-Status: SUCCESS
http://dpdk.org/patch/84033
_coding style OK_
^ permalink raw reply [flat|nested] 7+ messages in thread
end of thread, other threads:[~2020-11-12 0:09 UTC | newest]
Thread overview: 7+ messages (download: mbox.gz / follow: Atom feed)
-- links below jump to the message on this page --
2020-11-11 21:30 [dpdk-test-report] |SUCCESS| pw84033 [PATCH] event/dlb: do not free memzone if port create succeeds dpdklab
-- strict thread matches above, loose matches on Subject: below --
2020-11-12 0:09 dpdklab
2020-11-11 21:54 dpdklab
2020-11-11 21:29 dpdklab
2020-11-11 21:20 dpdklab
2020-11-11 21:14 dpdklab
[not found] <1605126422-522-3-git-send-email-timothy.mcdaniel@intel.com>
2020-11-11 20:27 ` checkpatch
This is a public inbox, see mirroring instructions
for how to clone and mirror all data and code used for this inbox;
as well as URLs for NNTP newsgroup(s).